Workbook

Sheet UITLEG
A1: UITLEG EERST LEZEN VOORDAT JE HET FORMULIER GAAT GEBRUIKEN
A3: 1. | B3: ONJUIST INGEVULDE DECLARATIES WORDEN NIET IN BEHANDELING GENOMEN!
A4: 2. | B4: Vul alleen de gele velden in. De overige velden worden automatisch ingevuld
B5: Begin in januari met het invullen van de regels 5 t/m 8. Deze gegevens worden
B6: automatisch in de daaropvolgende maanden ingevuld. Zolang er niets wijzigt,
B7: hoeven deze gegevens niet aangepast te worden.
A8: 3. | B8: In elke rij kan je met het dropdownmenu in kolom C (Te declareren) aangeven
B9: wat je wil declareren:
B10: - | C10: Reiskosten woon-werk | D10: Reis van huis naar je vaste werkplek.
B11: - | C11: Reiskosten zakelijk | D11: Reis van bijvoorbeeld kantoor naar een
D12: zakelijke afspraak.
A13: 4. | B13: Indien je kiest voor Reiskosten woon-werk, worden de
B14: gegevens automatisch ingevuld. Kies je voor Reiskosten zakelijk, vul dan de
B15: postcodes in en het aantal kilometers enkele reis.
B16: Gebruik hiervoor Google Maps: | D16: https://www.google.nl/maps
B17: Vul daarnaast het reisdoel in, bijvoorbeeld het project waar je heen bent
B18: gegaan.
A19: 5. | B19: Als het om een zakelijke reis gaat, geef dan aan of het een retour of enkele reis is.
B20: Als je meer dan één rit per dag maakt, kan je klikken op het plusje voor de
B21: betreffende regel. Je krijgt dan 3 extra regels om in te vullen. Heb je hier niet
B22: genoeg aan, gebruik dan de regel(s) van een zaterdag of zondag.
A23: 6. | B23: Als je meerdere locaties hebt waar je werkt en vanuit huis naartoe rijdt, vul dan
B24: één locatie als woon-werk in en de andere locatie(s) als zakelijke reis. Qua
B25: vergoeding is er geen verschil. Dit zal vooral voor BuurtSportCoaches gelden.
A26: 7. | B26: In de kolom Overig kan je overige reiskosten invullen. Vul daarbij altijd ook een
B27: toelichting en voeg de bonnen/betaalbewijzen toe aan je declaratie.
A28: 8. | B28: Declareren doe je per maand van de 1ste t/m de laatste dag van de maand en
B29: dien je achteraf uiterlijk voor de 15e van de volgende maand. Declaraties die
B30: op of na de 15e worden ingediend worden pas de maand daarop gecontroleerd
B31: en verwerkt.
A32: 9. | B32: De declaratie dien je op de gebruikelijke manier in via Synergy. Hierbij voeg je
B33: dit bestand toe als bijlage en geef je in Synergy het aantal te declareren
B34: kilometers aan. Dit moet overeenkomen met het aantal volgens dit bestand.
A35: 10. | B35: Gebruik het gehele jaar hetzelfde bestand, zodat ook de maanden ervoor terug
B36: te zien zijn.

Sheet Januari
A1: Declaratieformulier reiskostenvergoeding
A3: Klik hier voor uitleg van het formulier
A5: Naam medewerker | D5: naam
A6: Postcode huisadres | D6: 1235
A7: Postcode werkadres | D7: 5678CD
A8: Woon-werk kilometers enkele reisafstand | D8: 0
A9: Maand / jaar | D9: Januari | E9: 2022
G12: Aantal km | H12: Enkele reis/ | I12: Km woon- | J12: Km | K12: Overig | L12: Totaal | M12: Toelichting
A13: Dag | C13: Te declareren | D13: Postcode van | E13: Postcode naar | F13: Reisdoel | G13: enkele reis | H13: retour | I13: werk | J13: zakelijk
A14: 1 | B14: a. | I14: =IF(C14=Gegevensblad!$A$2,$D$8*2,"") | J14: =IF(C14=Gegevensblad!$A$3,IF(H14=Gegevensblad!$A$29,G14*1,G14*2),"")
B15: b. | I15: =IF(C15=Gegevensblad!$A$2,$D$8*2,"") | J15: =IF(C15=Gegevensblad!$A$3,IF(H15=Gegevensblad!$A$29,G15*1,G15*2),"")
B16: c. | I16: =IF(C16=Gegevensblad!$A$2,$D$8*2,"") | J16: =IF(C16=Gegevensblad!$A$3,IF(H16=Gegevensblad!$A$29,G16*1,G16*2),"")
B17: d. | I17: =IF(C17=Gegevensblad!$A$2,$D$8*2,"") | J17: =IF(C17=Gegevensblad!$A$3,IF(H17=Gegevensblad!$A$29,G17*1,G17*2),"")
A18: 2 | B18: a. | I18: =IF(C18=Gegevensblad!$A$2,$D$8*2,"") | J18: =IF(C18=Gegevensblad!$A$3,IF(H18=Gegevensblad!$A$29,G18*1,G18*2),"")
B19: b. | I19: =IF(C19=Gegevensblad!$A$2,$D$8*2,"") | J19: =IF(C19=Gegevensblad!$A$3,IF(H19=Gegevensblad!$A$29,G19*1,G19*2),"")
B20: c. | I20: =IF(C20=Gegevensblad!$A$2,$D$8*2,"") | J20: =IF(C20=Gegevensblad!$A$3,IF(H20=Gegevensblad!$A$29,G20*1,G20*2),"")
B21: d. | I21: =IF(C21=Gegevensblad!$A$2,$D$8*2,"") | J21: =IF(C21=Gegevensblad!$A$3,IF(H21=Gegevensblad!$A$29,G21*1,G21*2),"")
A22: 3 | B22: a. | I22: =IF(C22=Gegevensblad!$A$2,$D$8*2,"") | J22: =IF(C22=Gegevensblad!$A$3,IF(H22=Gegevensblad!$A$29,G22*1,G22*2),"")
B23: b. | I23: =IF(C23=Gegevensblad!$A$2,$D$8*2,"") | J23: =IF(C23=Gegevensblad!$A$3,IF(H23=Gegevensblad!$A$29,G23*1,G23*2),"")
B24: c. | I24: =IF(C24=Gegevensblad!$A$2,$D$8*2,"") | J24: =IF(C24=Gegevensblad!$A$3,IF(H24=Gegevensblad!$A$29,G24*1,G24*2),"")
B25: d. | I25: =IF(C25=Gegevensblad!$A$2,$D$8*2,"") | J25: =IF(C25=Gegevensblad!$A$3,IF(H25=Gegevensblad!$A$29,G25*1,G25*2),"")
A26: 4 | B26: a. | I26: =IF(C26=Gegevensblad!$A$2,$D$8*2,"") | J26: =IF(C26=Gegevensblad!$A$3,IF(H26=Gegevensblad!$A$29,G26*1,G26*2),"")
B27: b. | I27: =IF(C27=Gegevensblad!$A$2,$D$8*2,"") | J27: =IF(C27=Gegevensblad!$A$3,IF(H27=Gegevensblad!$A$29,G27*1,G27*2),"")
B28: c. | I28: =IF(C28=Gegevensblad!$A$2,$D$8*2,"") | J28: =IF(C28=Gegevensblad!$A$3,IF(H28=Gegevensblad!$A$29,G28*1,G28*2),"")
B29: d. | I29: =IF(C29=Gegevensblad!$A$2,$D$8*2,"") | J29: =IF(C29=Gegevensblad!$A$3,IF(H29=Gegevensblad!$A$29,G29*1,G29*2),"")
A30: 5 | B30: a. | I30: =IF(C30=Gegevensblad!$A$2,$D$8*2,"") | J30: =IF(C30=Gegevensblad!$A$3,IF(H30=Gegevensblad!$A$29,G30*1,G30*2),"")
B31: b. | I31: =IF(C31=Gegevensblad!$A$2,$D$8*2,"") | J31: =IF(C31=Gegevensblad!$A$3,IF(H31=Gegevensblad!$A$29,G31*1,G31*2),"")
B32: c. | I32: =IF(C32=Gegevensblad!$A$2,$D$8*2,"") | J32: =IF(C32=Gegevensblad!$A$3,IF(H32=Gegevensblad!$A$29,G32*1,G32*2),"")
B33: d. | I33: =IF(C33=Gegevensblad!$A$2,$D$8*2,"") | J33: =IF(C33=Gegevensblad!$A$3,IF(H33=Gegevensblad!$A$29,G33*1,G33*2),"")
A34: 6 | B34: a. | I34: =IF(C34=Gegevensblad!$A$2,$D$8*2,"") | J34: =IF(C34=Gegevensblad!$A$3,IF(H34=Gegevensblad!$A$29,G34*1,G34*2),"")
B35: b. | I35: =IF(C35=Gegevensblad!$A$2,$D$8*2,"") | J35: =IF(C35=Gegevensblad!$A$3,IF(H35=Gegevensblad!$A$29,G35*1,G35*2),"")
B36: c. | I36: =IF(C36=Gegevensblad!$A$2,$D$8*2,"") | J36: =IF(C36=Gegevensblad!$A$3,IF(H36=Gegevensblad!$A$29,G36*1,G36*2),"")
B37: d. | I37: =IF(C37=Gegevensblad!$A$2,$D$8*2,"") | J37: =IF(C37=Gegevensblad!$A$3,IF(H37=Gegevensblad!$A$29,G37*1,G37*2),"")
A38: 7 | B38: a. | I38: =IF(C38=Gegevensblad!$A$2,$D$8*2,"") | J38: =IF(C38=Gegevensblad!$A$3,IF(H38=Gegevensblad!$A$29,G38*1,G38*2),"")
B39: b. | I39: =IF(C39=Gegevensblad!$A$2,$D$8*2,"") | J39: =IF(C39=Gegevensblad!$A$3,IF(H39=Gegevensblad!$A$29,G39*1,G39*2),"")
B40: c. | I40: =IF(C40=Gegevensblad!$A$2,$D$8*2,"") | J40: =IF(C40=Gegevensblad!$A$3,IF(H40=Gegevensblad!$A$29,G40*1,G40*2),"")
B41: d. | I41: =IF(C41=Gegevensblad!$A$2,$D$8*2,"") | J41: =IF(C41=Gegevensblad!$A$3,IF(H41=Gegevensblad!$A$29,G41*1,G41*2),"")
A42: 8 | B42: a. | I42: =IF(C42=Gegevensblad!$A$2,$D$8*2,"") | J42: =IF(C42=Gegevensblad!$A$3,IF(H42=Gegevensblad!$A$29,G42*1,G42*2),"")
B43: b. | I43: =IF(C43=Gegevensblad!$A$2,$D$8*2,"") | J43: =IF(C43=Gegevensblad!$A$3,IF(H43=Gegevensblad!$A$29,G43*1,G43*2),"")
B44: c. | I44: =IF(C44=Gegevensblad!$A$2,$D$8*2,"") | J44: =IF(C44=Gegevensblad!$A$3,IF(H44=Gegevensblad!$A$29,G44*1,G44*2),"")
...

Sheet Februari
A1: Declaratieformulier reiskostenvergoeding
A3: Klik hier voor uitleg van het formulier
A5: Naam medewerker | D5: =Januari!D5 -> naam
A6: Postcode huisadres | D6: =Januari!D6 -> 1235
A7: Postcode werkadres | D7: =Januari!D7 -> 5678CD
A8: Woon-werk kilometers enkele reisafstand | D8: =Januari!D8 -> 0
A9: Maand / jaar | D9: Februari | E9: 2022
G12: Aantal km | H12: Enkele reis/ | I12: Km woon- | J12: Km | K12: Overig | L12: Totaal | M12: Toelichting
A13: Dag | C13: Te declareren | D13: Postcode van | E13: Postcode naar | F13: Reisdoel | G13: enkele reis | H13: retour | I13: werk | J13: zakelijk
A14: 1 | B14: a. | I14: =IF(C14=Gegevensblad!$A$2,$D$8*2,"") | J14: =IF(C14=Gegevensblad!$A$3,IF(H14=Gegevensblad!$A$29,G14*1,G14*2),"")
B15: b. | I15: =IF(C15=Gegevensblad!$A$2,$D$8*2,"") | J15: =IF(C15=Gegevensblad!$A$3,IF(H15=Gegevensblad!$A$29,G15*1,G15*2),"")
B16: c. | I16: =IF(C16=Gegevensblad!$A$2,$D$8*2,"") | J16: =IF(C16=Gegevensblad!$A$3,IF(H16=Gegevensblad!$A$29,G16*1,G16*2),"")
B17: d. | I17: =IF(C17=Gegevensblad!$A$2,$D$8*2,"") | J17: =IF(C17=Gegevensblad!$A$3,IF(H17=Gegevensblad!$A$29,G17*1,G17*2),"")
A18: 2 | B18: a. | I18: =IF(C18=Gegevensblad!$A$2,$D$8*2,"") | J18: =IF(C18=Gegevensblad!$A$3,IF(H18=Gegevensblad!$A$29,G18*1,G18*2),"")
B19: b. | I19: =IF(C19=Gegevensblad!$A$2,$D$8*2,"") | J19: =IF(C19=Gegevensblad!$A$3,IF(H19=Gegevensblad!$A$29,G19*1,G19*2),"")
B20: c. | I20: =IF(C20=Gegevensblad!$A$2,$D$8*2,"") | J20: =IF(C20=Gegevensblad!$A$3,IF(H20=Gegevensblad!$A$29,G20*1,G20*2),"")
B21: d. | I21: =IF(C21=Gegevensblad!$A$2,$D$8*2,"") | J21: =IF(C21=Gegevensblad!$A$3,IF(H21=Gegevensblad!$A$29,G21*1,G21*2),"")
A22: 3 | B22: a. | I22: =IF(C22=Gegevensblad!$A$2,$D$8*2,"") | J22: =IF(C22=Gegevensblad!$A$3,IF(H22=Gegevensblad!$A$29,G22*1,G22*2),"")
B23: b. | I23: =IF(C23=Gegevensblad!$A$2,$D$8*2,"") | J23: =IF(C23=Gegevensblad!$A$3,IF(H23=Gegevensblad!$A$29,G23*1,G23*2),"")
B24: c. | I24: =IF(C24=Gegevensblad!$A$2,$D$8*2,"") | J24: =IF(C24=Gegevensblad!$A$3,IF(H24=Gegevensblad!$A$29,G24*1,G24*2),"")
B25: d. | I25: =IF(C25=Gegevensblad!$A$2,$D$8*2,"") | J25: =IF(C25=Gegevensblad!$A$3,IF(H25=Gegevensblad!$A$29,G25*1,G25*2),"")
A26: 4 | B26: a. | I26: =IF(C26=Gegevensblad!$A$2,$D$8*2,"") | J26: =IF(C26=Gegevensblad!$A$3,IF(H26=Gegevensblad!$A$29,G26*1,G26*2),"")
B27: b. | I27: =IF(C27=Gegevensblad!$A$2,$D$8*2,"") | J27: =IF(C27=Gegevensblad!$A$3,IF(H27=Gegevensblad!$A$29,G27*1,G27*2),"")
B28: c. | I28: =IF(C28=Gegevensblad!$A$2,$D$8*2,"") | J28: =IF(C28=Gegevensblad!$A$3,IF(H28=Gegevensblad!$A$29,G28*1,G28*2),"")
B29: d. | I29: =IF(C29=Gegevensblad!$A$2,$D$8*2,"") | J29: =IF(C29=Gegevensblad!$A$3,IF(H29=Gegevensblad!$A$29,G29*1,G29*2),"")
A30: 5 | B30: a. | I30: =IF(C30=Gegevensblad!$A$2,$D$8*2,"") | J30: =IF(C30=Gegevensblad!$A$3,IF(H30=Gegevensblad!$A$29,G30*1,G30*2),"")
B31: b. | I31: =IF(C31=Gegevensblad!$A$2,$D$8*2,"") | J31: =IF(C31=Gegevensblad!$A$3,IF(H31=Gegevensblad!$A$29,G31*1,G31*2),"")
B32: c. | I32: =IF(C32=Gegevensblad!$A$2,$D$8*2,"") | J32: =IF(C32=Gegevensblad!$A$3,IF(H32=Gegevensblad!$A$29,G32*1,G32*2),"")
B33: d. | I33: =IF(C33=Gegevensblad!$A$2,$D$8*2,"") | J33: =IF(C33=Gegevensblad!$A$3,IF(H33=Gegevensblad!$A$29,G33*1,G33*2),"")
A34: 6 | B34: a. | I34: =IF(C34=Gegevensblad!$A$2,$D$8*2,"") | J34: =IF(C34=Gegevensblad!$A$3,IF(H34=Gegevensblad!$A$29,G34*1,G34*2),"")
B35: b. | I35: =IF(C35=Gegevensblad!$A$2,$D$8*2,"") | J35: =IF(C35=Gegevensblad!$A$3,IF(H35=Gegevensblad!$A$29,G35*1,G35*2),"")
B36: c. | I36: =IF(C36=Gegevensblad!$A$2,$D$8*2,"") | J36: =IF(C36=Gegevensblad!$A$3,IF(H36=Gegevensblad!$A$29,G36*1,G36*2),"")
B37: d. | I37: =IF(C37=Gegevensblad!$A$2,$D$8*2,"") | J37: =IF(C37=Gegevensblad!$A$3,IF(H37=Gegevensblad!$A$29,G37*1,G37*2),"")
A38: 7 | B38: a. | I38: =IF(C38=Gegevensblad!$A$2,$D$8*2,"") | J38: =IF(C38=Gegevensblad!$A$3,IF(H38=Gegevensblad!$A$29,G38*1,G38*2),"")
B39: b. | I39: =IF(C39=Gegevensblad!$A$2,$D$8*2,"") | J39: =IF(C39=Gegevensblad!$A$3,IF(H39=Gegevensblad!$A$29,G39*1,G39*2),"")
B40: c. | I40: =IF(C40=Gegevensblad!$A$2,$D$8*2,"") | J40: =IF(C40=Gegevensblad!$A$3,IF(H40=Gegevensblad!$A$29,G40*1,G40*2),"")
B41: d. | I41: =IF(C41=Gegevensblad!$A$2,$D$8*2,"") | J41: =IF(C41=Gegevensblad!$A$3,IF(H41=Gegevensblad!$A$29,G41*1,G41*2),"")
A42: 8 | B42: a. | I42: =IF(C42=Gegevensblad!$A$2,$D$8*2,"") | J42: =IF(C42=Gegevensblad!$A$3,IF(H42=Gegevensblad!$A$29,G42*1,G42*2),"")
B43: b. | I43: =IF(C43=Gegevensblad!$A$2,$D$8*2,"") | J43: =IF(C43=Gegevensblad!$A$3,IF(H43=Gegevensblad!$A$29,G43*1,G43*2),"")
B44: c. | I44: =IF(C44=Gegevensblad!$A$2,$D$8*2,"") | J44: =IF(C44=Gegevensblad!$A$3,IF(H44=Gegevensblad!$A$29,G44*1,G44*2),"")
...

Sheet Maart
A1: Declaratieformulier reiskostenvergoeding
A3: Klik hier voor uitleg van het formulier
A5: Naam medewerker | D5: =Januari!D5 -> naam
A6: Postcode huisadres | D6: =Januari!D6 -> 1235
A7: Postcode werkadres | D7: =Januari!D7 -> 5678CD
A8: Woon-werk kilometers enkele reisafstand | D8: =Januari!D8 -> 0
A9: Maand / jaar | D9: Maart | E9: 2022
G12: Aantal km | H12: Enkele reis/ | I12: Km woon- | J12: Km | K12: Overig | L12: Totaal | M12: Toelichting
A13: Dag | C13: Te declareren | D13: Postcode van | E13: Postcode naar | F13: Reisdoel | G13: enkele reis | H13: retour | I13: werk | J13: zakelijk
A14: 1 | B14: a. | I14: =IF(C14=Gegevensblad!$A$2,$D$8*2,"") | J14: =IF(C14=Gegevensblad!$A$3,IF(H14=Gegevensblad!$A$29,G14*1,G14*2),"")
B15: b. | I15: =IF(C15=Gegevensblad!$A$2,$D$8*2,"") | J15: =IF(C15=Gegevensblad!$A$3,IF(H15=Gegevensblad!$A$29,G15*1,G15*2),"")
B16: c. | I16: =IF(C16=Gegevensblad!$A$2,$D$8*2,"") | J16: =IF(C16=Gegevensblad!$A$3,IF(H16=Gegevensblad!$A$29,G16*1,G16*2),"")
B17: d. | I17: =IF(C17=Gegevensblad!$A$2,$D$8*2,"") | J17: =IF(C17=Gegevensblad!$A$3,IF(H17=Gegevensblad!$A$29,G17*1,G17*2),"")
A18: 2 | B18: a. | I18: =IF(C18=Gegevensblad!$A$2,$D$8*2,"") | J18: =IF(C18=Gegevensblad!$A$3,IF(H18=Gegevensblad!$A$29,G18*1,G18*2),"")
B19: b. | I19: =IF(C19=Gegevensblad!$A$2,$D$8*2,"") | J19: =IF(C19=Gegevensblad!$A$3,IF(H19=Gegevensblad!$A$29,G19*1,G19*2),"")
B20: c. | I20: =IF(C20=Gegevensblad!$A$2,$D$8*2,"") | J20: =IF(C20=Gegevensblad!$A$3,IF(H20=Gegevensblad!$A$29,G20*1,G20*2),"")
B21: d. | I21: =IF(C21=Gegevensblad!$A$2,$D$8*2,"") | J21: =IF(C21=Gegevensblad!$A$3,IF(H21=Gegevensblad!$A$29,G21*1,G21*2),"")
A22: 3 | B22: a. | I22: =IF(C22=Gegevensblad!$A$2,$D$8*2,"") | J22: =IF(C22=Gegevensblad!$A$3,IF(H22=Gegevensblad!$A$29,G22*1,G22*2),"")
B23: b. | I23: =IF(C23=Gegevensblad!$A$2,$D$8*2,"") | J23: =IF(C23=Gegevensblad!$A$3,IF(H23=Gegevensblad!$A$29,G23*1,G23*2),"")
B24: c. | I24: =IF(C24=Gegevensblad!$A$2,$D$8*2,"") | J24: =IF(C24=Gegevensblad!$A$3,IF(H24=Gegevensblad!$A$29,G24*1,G24*2),"")
B25: d. | I25: =IF(C25=Gegevensblad!$A$2,$D$8*2,"") | J25: =IF(C25=Gegevensblad!$A$3,IF(H25=Gegevensblad!$A$29,G25*1,G25*2),"")
A26: 4 | B26: a. | I26: =IF(C26=Gegevensblad!$A$2,$D$8*2,"") | J26: =IF(C26=Gegevensblad!$A$3,IF(H26=Gegevensblad!$A$29,G26*1,G26*2),"")
B27: b. | I27: =IF(C27=Gegevensblad!$A$2,$D$8*2,"") | J27: =IF(C27=Gegevensblad!$A$3,IF(H27=Gegevensblad!$A$29,G27*1,G27*2),"")
B28: c. | I28: =IF(C28=Gegevensblad!$A$2,$D$8*2,"") | J28: =IF(C28=Gegevensblad!$A$3,IF(H28=Gegevensblad!$A$29,G28*1,G28*2),"")
B29: d. | I29: =IF(C29=Gegevensblad!$A$2,$D$8*2,"") | J29: =IF(C29=Gegevensblad!$A$3,IF(H29=Gegevensblad!$A$29,G29*1,G29*2),"")
A30: 5 | B30: a. | I30: =IF(C30=Gegevensblad!$A$2,$D$8*2,"") | J30: =IF(C30=Gegevensblad!$A$3,IF(H30=Gegevensblad!$A$29,G30*1,G30*2),"")
B31: b. | I31: =IF(C31=Gegevensblad!$A$2,$D$8*2,"") | J31: =IF(C31=Gegevensblad!$A$3,IF(H31=Gegevensblad!$A$29,G31*1,G31*2),"")
B32: c. | I32: =IF(C32=Gegevensblad!$A$2,$D$8*2,"") | J32: =IF(C32=Gegevensblad!$A$3,IF(H32=Gegevensblad!$A$29,G32*1,G32*2),"")
B33: d. | I33: =IF(C33=Gegevensblad!$A$2,$D$8*2,"") | J33: =IF(C33=Gegevensblad!$A$3,IF(H33=Gegevensblad!$A$29,G33*1,G33*2),"")
A34: 6 | B34: a. | I34: =IF(C34=Gegevensblad!$A$2,$D$8*2,"") | J34: =IF(C34=Gegevensblad!$A$3,IF(H34=Gegevensblad!$A$29,G34*1,G34*2),"")
B35: b. | I35: =IF(C35=Gegevensblad!$A$2,$D$8*2,"") | J35: =IF(C35=Gegevensblad!$A$3,IF(H35=Gegevensblad!$A$29,G35*1,G35*2),"")
B36: c. | I36: =IF(C36=Gegevensblad!$A$2,$D$8*2,"") | J36: =IF(C36=Gegevensblad!$A$3,IF(H36=Gegevensblad!$A$29,G36*1,G36*2),"")
B37: d. | I37: =IF(C37=Gegevensblad!$A$2,$D$8*2,"") | J37: =IF(C37=Gegevensblad!$A$3,IF(H37=Gegevensblad!$A$29,G37*1,G37*2),"")
A38: 7 | B38: a. | I38: =IF(C38=Gegevensblad!$A$2,$D$8*2,"") | J38: =IF(C38=Gegevensblad!$A$3,IF(H38=Gegevensblad!$A$29,G38*1,G38*2),"")
B39: b. | I39: =IF(C39=Gegevensblad!$A$2,$D$8*2,"") | J39: =IF(C39=Gegevensblad!$A$3,IF(H39=Gegevensblad!$A$29,G39*1,G39*2),"")
B40: c. | I40: =IF(C40=Gegevensblad!$A$2,$D$8*2,"") | J40: =IF(C40=Gegevensblad!$A$3,IF(H40=Gegevensblad!$A$29,G40*1,G40*2),"")
B41: d. | I41: =IF(C41=Gegevensblad!$A$2,$D$8*2,"") | J41: =IF(C41=Gegevensblad!$A$3,IF(H41=Gegevensblad!$A$29,G41*1,G41*2),"")
A42: 8 | B42: a. | I42: =IF(C42=Gegevensblad!$A$2,$D$8*2,"") | J42: =IF(C42=Gegevensblad!$A$3,IF(H42=Gegevensblad!$A$29,G42*1,G42*2),"")
B43: b. | I43: =IF(C43=Gegevensblad!$A$2,$D$8*2,"") | J43: =IF(C43=Gegevensblad!$A$3,IF(H43=Gegevensblad!$A$29,G43*1,G43*2),"")
B44: c. | I44: =IF(C44=Gegevensblad!$A$2,$D$8*2,"") | J44: =IF(C44=Gegevensblad!$A$3,IF(H44=Gegevensblad!$A$29,G44*1,G44*2),"")
...

Sheet April
A1: Declaratieformulier reiskostenvergoeding
A3: Klik hier voor uitleg van het formulier
A5: Naam medewerker | D5: =Januari!D5 -> naam
A6: Postcode huisadres | D6: =Januari!D6 -> 1235
A7: Postcode werkadres | D7: =Januari!D7 -> 5678CD
A8: Woon-werk kilometers enkele reisafstand | D8: =Januari!D8 -> 0
A9: Maand / jaar | D9: April | E9: 2022
G12: Aantal km | H12: Enkele reis/ | I12: Km woon- | J12: Km | K12: Overig | L12: Totaal | M12: Toelichting
A13: Dag | C13: Te declareren | D13: Postcode van | E13: Postcode naar | F13: Reisdoel | G13: enkele reis | H13: retour | I13: werk | J13: zakelijk
A14: 1 | B14: a. | I14: =IF(C14=Gegevensblad!$A$2,$D$8*2,"") | J14: =IF(C14=Gegevensblad!$A$3,IF(H14=Gegevensblad!$A$29,G14*1,G14*2),"")
B15: b. | I15: =IF(C15=Gegevensblad!$A$2,$D$8*2,"") | J15: =IF(C15=Gegevensblad!$A$3,IF(H15=Gegevensblad!$A$29,G15*1,G15*2),"")
B16: c. | I16: =IF(C16=Gegevensblad!$A$2,$D$8*2,"") | J16: =IF(C16=Gegevensblad!$A$3,IF(H16=Gegevensblad!$A$29,G16*1,G16*2),"")
B17: d. | I17: =IF(C17=Gegevensblad!$A$2,$D$8*2,"") | J17: =IF(C17=Gegevensblad!$A$3,IF(H17=Gegevensblad!$A$29,G17*1,G17*2),"")
A18: 2 | B18: a. | I18: =IF(C18=Gegevensblad!$A$2,$D$8*2,"") | J18: =IF(C18=Gegevensblad!$A$3,IF(H18=Gegevensblad!$A$29,G18*1,G18*2),"")
B19: b. | I19: =IF(C19=Gegevensblad!$A$2,$D$8*2,"") | J19: =IF(C19=Gegevensblad!$A$3,IF(H19=Gegevensblad!$A$29,G19*1,G19*2),"")
B20: c. | I20: =IF(C20=Gegevensblad!$A$2,$D$8*2,"") | J20: =IF(C20=Gegevensblad!$A$3,IF(H20=Gegevensblad!$A$29,G20*1,G20*2),"")
B21: d. | I21: =IF(C21=Gegevensblad!$A$2,$D$8*2,"") | J21: =IF(C21=Gegevensblad!$A$3,IF(H21=Gegevensblad!$A$29,G21*1,G21*2),"")
A22: 3 | B22: a. | I22: =IF(C22=Gegevensblad!$A$2,$D$8*2,"") | J22: =IF(C22=Gegevensblad!$A$3,IF(H22=Gegevensblad!$A$29,G22*1,G22*2),"")
B23: b. | I23: =IF(C23=Gegevensblad!$A$2,$D$8*2,"") | J23: =IF(C23=Gegevensblad!$A$3,IF(H23=Gegevensblad!$A$29,G23*1,G23*2),"")
B24: c. | I24: =IF(C24=Gegevensblad!$A$2,$D$8*2,"") | J24: =IF(C24=Gegevensblad!$A$3,IF(H24=Gegevensblad!$A$29,G24*1,G24*2),"")
B25: d. | I25: =IF(C25=Gegevensblad!$A$2,$D$8*2,"") | J25: =IF(C25=Gegevensblad!$A$3,IF(H25=Gegevensblad!$A$29,G25*1,G25*2),"")
A26: 4 | B26: a. | I26: =IF(C26=Gegevensblad!$A$2,$D$8*2,"") | J26: =IF(C26=Gegevensblad!$A$3,IF(H26=Gegevensblad!$A$29,G26*1,G26*2),"")
B27: b. | I27: =IF(C27=Gegevensblad!$A$2,$D$8*2,"") | J27: =IF(C27=Gegevensblad!$A$3,IF(H27=Gegevensblad!$A$29,G27*1,G27*2),"")
B28: c. | I28: =IF(C28=Gegevensblad!$A$2,$D$8*2,"") | J28: =IF(C28=Gegevensblad!$A$3,IF(H28=Gegevensblad!$A$29,G28*1,G28*2),"")
B29: d. | I29: =IF(C29=Gegevensblad!$A$2,$D$8*2,"") | J29: =IF(C29=Gegevensblad!$A$3,IF(H29=Gegevensblad!$A$29,G29*1,G29*2),"")
A30: 5 | B30: a. | I30: =IF(C30=Gegevensblad!$A$2,$D$8*2,"") | J30: =IF(C30=Gegevensblad!$A$3,IF(H30=Gegevensblad!$A$29,G30*1,G30*2),"")
B31: b. | I31: =IF(C31=Gegevensblad!$A$2,$D$8*2,"") | J31: =IF(C31=Gegevensblad!$A$3,IF(H31=Gegevensblad!$A$29,G31*1,G31*2),"")
B32: c. | I32: =IF(C32=Gegevensblad!$A$2,$D$8*2,"") | J32: =IF(C32=Gegevensblad!$A$3,IF(H32=Gegevensblad!$A$29,G32*1,G32*2),"")
B33: d. | I33: =IF(C33=Gegevensblad!$A$2,$D$8*2,"") | J33: =IF(C33=Gegevensblad!$A$3,IF(H33=Gegevensblad!$A$29,G33*1,G33*2),"")
A34: 6 | B34: a. | I34: =IF(C34=Gegevensblad!$A$2,$D$8*2,"") | J34: =IF(C34=Gegevensblad!$A$3,IF(H34=Gegevensblad!$A$29,G34*1,G34*2),"")
B35: b. | I35: =IF(C35=Gegevensblad!$A$2,$D$8*2,"") | J35: =IF(C35=Gegevensblad!$A$3,IF(H35=Gegevensblad!$A$29,G35*1,G35*2),"")
B36: c. | I36: =IF(C36=Gegevensblad!$A$2,$D$8*2,"") | J36: =IF(C36=Gegevensblad!$A$3,IF(H36=Gegevensblad!$A$29,G36*1,G36*2),"")
B37: d. | I37: =IF(C37=Gegevensblad!$A$2,$D$8*2,"") | J37: =IF(C37=Gegevensblad!$A$3,IF(H37=Gegevensblad!$A$29,G37*1,G37*2),"")
A38: 7 | B38: a. | I38: =IF(C38=Gegevensblad!$A$2,$D$8*2,"") | J38: =IF(C38=Gegevensblad!$A$3,IF(H38=Gegevensblad!$A$29,G38*1,G38*2),"")
B39: b. | I39: =IF(C39=Gegevensblad!$A$2,$D$8*2,"") | J39: =IF(C39=Gegevensblad!$A$3,IF(H39=Gegevensblad!$A$29,G39*1,G39*2),"")
B40: c. | I40: =IF(C40=Gegevensblad!$A$2,$D$8*2,"") | J40: =IF(C40=Gegevensblad!$A$3,IF(H40=Gegevensblad!$A$29,G40*1,G40*2),"")
B41: d. | I41: =IF(C41=Gegevensblad!$A$2,$D$8*2,"") | J41: =IF(C41=Gegevensblad!$A$3,IF(H41=Gegevensblad!$A$29,G41*1,G41*2),"")
A42: 8 | B42: a. | I42: =IF(C42=Gegevensblad!$A$2,$D$8*2,"") | J42: =IF(C42=Gegevensblad!$A$3,IF(H42=Gegevensblad!$A$29,G42*1,G42*2),"")
B43: b. | I43: =IF(C43=Gegevensblad!$A$2,$D$8*2,"") | J43: =IF(C43=Gegevensblad!$A$3,IF(H43=Gegevensblad!$A$29,G43*1,G43*2),"")
B44: c. | I44: =IF(C44=Gegevensblad!$A$2,$D$8*2,"") | J44: =IF(C44=Gegevensblad!$A$3,IF(H44=Gegevensblad!$A$29,G44*1,G44*2),"")
...

Sheet Mei
A1: Declaratieformulier reiskostenvergoeding
A3: Klik hier voor uitleg van het formulier
A5: Naam medewerker | D5: =Januari!D5 -> naam
A6: Postcode huisadres | D6: =Januari!D6 -> 1235
A7: Postcode werkadres | D7: =Januari!D7 -> 5678CD
A8: Woon-werk kilometers enkele reisafstand | D8: =Januari!D8 -> 0
A9: Maand / jaar | D9: Mei | E9: 2022
G12: Aantal km | H12: Enkele reis/ | I12: Km woon- | J12: Km | K12: Overig | L12: Totaal | M12: Toelichting
A13: Dag | C13: Te declareren | D13: Postcode van | E13: Postcode naar | F13: Reisdoel | G13: enkele reis | H13: retour | I13: werk | J13: zakelijk
A14: 1 | B14: a. | I14: =IF(C14=Gegevensblad!$A$2,$D$8*2,"") | J14: =IF(C14=Gegevensblad!$A$3,IF(H14=Gegevensblad!$A$29,G14*1,G14*2),"")
B15: b. | I15: =IF(C15=Gegevensblad!$A$2,$D$8*2,"") | J15: =IF(C15=Gegevensblad!$A$3,IF(H15=Gegevensblad!$A$29,G15*1,G15*2),"")
B16: c. | I16: =IF(C16=Gegevensblad!$A$2,$D$8*2,"") | J16: =IF(C16=Gegevensblad!$A$3,IF(H16=Gegevensblad!$A$29,G16*1,G16*2),"")
B17: d. | I17: =IF(C17=Gegevensblad!$A$2,$D$8*2,"") | J17: =IF(C17=Gegevensblad!$A$3,IF(H17=Gegevensblad!$A$29,G17*1,G17*2),"")
A18: 2 | B18: a. | I18: =IF(C18=Gegevensblad!$A$2,$D$8*2,"") | J18: =IF(C18=Gegevensblad!$A$3,IF(H18=Gegevensblad!$A$29,G18*1,G18*2),"")
B19: b. | I19: =IF(C19=Gegevensblad!$A$2,$D$8*2,"") | J19: =IF(C19=Gegevensblad!$A$3,IF(H19=Gegevensblad!$A$29,G19*1,G19*2),"")
B20: c. | I20: =IF(C20=Gegevensblad!$A$2,$D$8*2,"") | J20: =IF(C20=Gegevensblad!$A$3,IF(H20=Gegevensblad!$A$29,G20*1,G20*2),"")
B21: d. | I21: =IF(C21=Gegevensblad!$A$2,$D$8*2,"") | J21: =IF(C21=Gegevensblad!$A$3,IF(H21=Gegevensblad!$A$29,G21*1,G21*2),"")
A22: 3 | B22: a. | I22: =IF(C22=Gegevensblad!$A$2,$D$8*2,"") | J22: =IF(C22=Gegevensblad!$A$3,IF(H22=Gegevensblad!$A$29,G22*1,G22*2),"")
B23: b. | I23: =IF(C23=Gegevensblad!$A$2,$D$8*2,"") | J23: =IF(C23=Gegevensblad!$A$3,IF(H23=Gegevensblad!$A$29,G23*1,G23*2),"")
B24: c. | I24: =IF(C24=Gegevensblad!$A$2,$D$8*2,"") | J24: =IF(C24=Gegevensblad!$A$3,IF(H24=Gegevensblad!$A$29,G24*1,G24*2),"")
B25: d. | I25: =IF(C25=Gegevensblad!$A$2,$D$8*2,"") | J25: =IF(C25=Gegevensblad!$A$3,IF(H25=Gegevensblad!$A$29,G25*1,G25*2),"")
A26: 4 | B26: a. | I26: =IF(C26=Gegevensblad!$A$2,$D$8*2,"") | J26: =IF(C26=Gegevensblad!$A$3,IF(H26=Gegevensblad!$A$29,G26*1,G26*2),"")
B27: b. | I27: =IF(C27=Gegevensblad!$A$2,$D$8*2,"") | J27: =IF(C27=Gegevensblad!$A$3,IF(H27=Gegevensblad!$A$29,G27*1,G27*2),"")
B28: c. | I28: =IF(C28=Gegevensblad!$A$2,$D$8*2,"") | J28: =IF(C28=Gegevensblad!$A$3,IF(H28=Gegevensblad!$A$29,G28*1,G28*2),"")
B29: d. | I29: =IF(C29=Gegevensblad!$A$2,$D$8*2,"") | J29: =IF(C29=Gegevensblad!$A$3,IF(H29=Gegevensblad!$A$29,G29*1,G29*2),"")
A30: 5 | B30: a. | I30: =IF(C30=Gegevensblad!$A$2,$D$8*2,"") | J30: =IF(C30=Gegevensblad!$A$3,IF(H30=Gegevensblad!$A$29,G30*1,G30*2),"")
B31: b. | I31: =IF(C31=Gegevensblad!$A$2,$D$8*2,"") | J31: =IF(C31=Gegevensblad!$A$3,IF(H31=Gegevensblad!$A$29,G31*1,G31*2),"")
B32: c. | I32: =IF(C32=Gegevensblad!$A$2,$D$8*2,"") | J32: =IF(C32=Gegevensblad!$A$3,IF(H32=Gegevensblad!$A$29,G32*1,G32*2),"")
B33: d. | I33: =IF(C33=Gegevensblad!$A$2,$D$8*2,"") | J33: =IF(C33=Gegevensblad!$A$3,IF(H33=Gegevensblad!$A$29,G33*1,G33*2),"")
A34: 6 | B34: a. | I34: =IF(C34=Gegevensblad!$A$2,$D$8*2,"") | J34: =IF(C34=Gegevensblad!$A$3,IF(H34=Gegevensblad!$A$29,G34*1,G34*2),"")
B35: b. | I35: =IF(C35=Gegevensblad!$A$2,$D$8*2,"") | J35: =IF(C35=Gegevensblad!$A$3,IF(H35=Gegevensblad!$A$29,G35*1,G35*2),"")
B36: c. | I36: =IF(C36=Gegevensblad!$A$2,$D$8*2,"") | J36: =IF(C36=Gegevensblad!$A$3,IF(H36=Gegevensblad!$A$29,G36*1,G36*2),"")
B37: d. | I37: =IF(C37=Gegevensblad!$A$2,$D$8*2,"") | J37: =IF(C37=Gegevensblad!$A$3,IF(H37=Gegevensblad!$A$29,G37*1,G37*2),"")
A38: 7 | B38: a. | I38: =IF(C38=Gegevensblad!$A$2,$D$8*2,"") | J38: =IF(C38=Gegevensblad!$A$3,IF(H38=Gegevensblad!$A$29,G38*1,G38*2),"")
B39: b. | I39: =IF(C39=Gegevensblad!$A$2,$D$8*2,"") | J39: =IF(C39=Gegevensblad!$A$3,IF(H39=Gegevensblad!$A$29,G39*1,G39*2),"")
B40: c. | I40: =IF(C40=Gegevensblad!$A$2,$D$8*2,"") | J40: =IF(C40=Gegevensblad!$A$3,IF(H40=Gegevensblad!$A$29,G40*1,G40*2),"")
B41: d. | I41: =IF(C41=Gegevensblad!$A$2,$D$8*2,"") | J41: =IF(C41=Gegevensblad!$A$3,IF(H41=Gegevensblad!$A$29,G41*1,G41*2),"")
A42: 8 | B42: a. | I42: =IF(C42=Gegevensblad!$A$2,$D$8*2,"") | J42: =IF(C42=Gegevensblad!$A$3,IF(H42=Gegevensblad!$A$29,G42*1,G42*2),"")
B43: b. | I43: =IF(C43=Gegevensblad!$A$2,$D$8*2,"") | J43: =IF(C43=Gegevensblad!$A$3,IF(H43=Gegevensblad!$A$29,G43*1,G43*2),"")
B44: c. | I44: =IF(C44=Gegevensblad!$A$2,$D$8*2,"") | J44: =IF(C44=Gegevensblad!$A$3,IF(H44=Gegevensblad!$A$29,G44*1,G44*2),"")
...

Sheet Juni
A1: Declaratieformulier reiskostenvergoeding
A3: Klik hier voor uitleg van het formulier
A5: Naam medewerker | D5: =Januari!D5 -> naam
A6: Postcode huisadres | D6: =Januari!D6 -> 1235
A7: Postcode werkadres | D7: =Januari!D7 -> 5678CD
A8: Woon-werk kilometers enkele reisafstand | D8: =Januari!D8 -> 0
A9: Maand / jaar | D9: Juni | E9: 2022
G12: Aantal km | H12: Enkele reis/ | I12: Km woon- | J12: Km | K12: Overig | L12: Totaal | M12: Toelichting
A13: Dag | C13: Te declareren | D13: Postcode van | E13: Postcode naar | F13: Reisdoel | G13: enkele reis | H13: retour | I13: werk | J13: zakelijk
A14: 1 | B14: a. | I14: =IF(C14=Gegevensblad!$A$2,$D$8*2,"") | J14: =IF(C14=Gegevensblad!$A$3,IF(H14=Gegevensblad!$A$29,G14*1,G14*2),"")
B15: b. | I15: =IF(C15=Gegevensblad!$A$2,$D$8*2,"") | J15: =IF(C15=Gegevensblad!$A$3,IF(H15=Gegevensblad!$A$29,G15*1,G15*2),"")
B16: c. | I16: =IF(C16=Gegevensblad!$A$2,$D$8*2,"") | J16: =IF(C16=Gegevensblad!$A$3,IF(H16=Gegevensblad!$A$29,G16*1,G16*2),"")
B17: d. | I17: =IF(C17=Gegevensblad!$A$2,$D$8*2,"") | J17: =IF(C17=Gegevensblad!$A$3,IF(H17=Gegevensblad!$A$29,G17*1,G17*2),"")
A18: 2 | B18: a. | I18: =IF(C18=Gegevensblad!$A$2,$D$8*2,"") | J18: =IF(C18=Gegevensblad!$A$3,IF(H18=Gegevensblad!$A$29,G18*1,G18*2),"")
B19: b. | I19: =IF(C19=Gegevensblad!$A$2,$D$8*2,"") | J19: =IF(C19=Gegevensblad!$A$3,IF(H19=Gegevensblad!$A$29,G19*1,G19*2),"")
B20: c. | I20: =IF(C20=Gegevensblad!$A$2,$D$8*2,"") | J20: =IF(C20=Gegevensblad!$A$3,IF(H20=Gegevensblad!$A$29,G20*1,G20*2),"")
B21: d. | I21: =IF(C21=Gegevensblad!$A$2,$D$8*2,"") | J21: =IF(C21=Gegevensblad!$A$3,IF(H21=Gegevensblad!$A$29,G21*1,G21*2),"")
A22: 3 | B22: a. | I22: =IF(C22=Gegevensblad!$A$2,$D$8*2,"") | J22: =IF(C22=Gegevensblad!$A$3,IF(H22=Gegevensblad!$A$29,G22*1,G22*2),"")
B23: b. | I23: =IF(C23=Gegevensblad!$A$2,$D$8*2,"") | J23: =IF(C23=Gegevensblad!$A$3,IF(H23=Gegevensblad!$A$29,G23*1,G23*2),"")
B24: c. | I24: =IF(C24=Gegevensblad!$A$2,$D$8*2,"") | J24: =IF(C24=Gegevensblad!$A$3,IF(H24=Gegevensblad!$A$29,G24*1,G24*2),"")
B25: d. | I25: =IF(C25=Gegevensblad!$A$2,$D$8*2,"") | J25: =IF(C25=Gegevensblad!$A$3,IF(H25=Gegevensblad!$A$29,G25*1,G25*2),"")
A26: 4 | B26: a. | I26: =IF(C26=Gegevensblad!$A$2,$D$8*2,"") | J26: =IF(C26=Gegevensblad!$A$3,IF(H26=Gegevensblad!$A$29,G26*1,G26*2),"")
B27: b. | I27: =IF(C27=Gegevensblad!$A$2,$D$8*2,"") | J27: =IF(C27=Gegevensblad!$A$3,IF(H27=Gegevensblad!$A$29,G27*1,G27*2),"")
B28: c. | I28: =IF(C28=Gegevensblad!$A$2,$D$8*2,"") | J28: =IF(C28=Gegevensblad!$A$3,IF(H28=Gegevensblad!$A$29,G28*1,G28*2),"")
B29: d. | I29: =IF(C29=Gegevensblad!$A$2,$D$8*2,"") | J29: =IF(C29=Gegevensblad!$A$3,IF(H29=Gegevensblad!$A$29,G29*1,G29*2),"")
A30: 5 | B30: a. | I30: =IF(C30=Gegevensblad!$A$2,$D$8*2,"") | J30: =IF(C30=Gegevensblad!$A$3,IF(H30=Gegevensblad!$A$29,G30*1,G30*2),"")
B31: b. | I31: =IF(C31=Gegevensblad!$A$2,$D$8*2,"") | J31: =IF(C31=Gegevensblad!$A$3,IF(H31=Gegevensblad!$A$29,G31*1,G31*2),"")
B32: c. | I32: =IF(C32=Gegevensblad!$A$2,$D$8*2,"") | J32: =IF(C32=Gegevensblad!$A$3,IF(H32=Gegevensblad!$A$29,G32*1,G32*2),"")
B33: d. | I33: =IF(C33=Gegevensblad!$A$2,$D$8*2,"") | J33: =IF(C33=Gegevensblad!$A$3,IF(H33=Gegevensblad!$A$29,G33*1,G33*2),"")
A34: 6 | B34: a. | I34: =IF(C34=Gegevensblad!$A$2,$D$8*2,"") | J34: =IF(C34=Gegevensblad!$A$3,IF(H34=Gegevensblad!$A$29,G34*1,G34*2),"")
B35: b. | I35: =IF(C35=Gegevensblad!$A$2,$D$8*2,"") | J35: =IF(C35=Gegevensblad!$A$3,IF(H35=Gegevensblad!$A$29,G35*1,G35*2),"")
B36: c. | I36: =IF(C36=Gegevensblad!$A$2,$D$8*2,"") | J36: =IF(C36=Gegevensblad!$A$3,IF(H36=Gegevensblad!$A$29,G36*1,G36*2),"")
B37: d. | I37: =IF(C37=Gegevensblad!$A$2,$D$8*2,"") | J37: =IF(C37=Gegevensblad!$A$3,IF(H37=Gegevensblad!$A$29,G37*1,G37*2),"")
A38: 7 | B38: a. | I38: =IF(C38=Gegevensblad!$A$2,$D$8*2,"") | J38: =IF(C38=Gegevensblad!$A$3,IF(H38=Gegevensblad!$A$29,G38*1,G38*2),"")
B39: b. | I39: =IF(C39=Gegevensblad!$A$2,$D$8*2,"") | J39: =IF(C39=Gegevensblad!$A$3,IF(H39=Gegevensblad!$A$29,G39*1,G39*2),"")
B40: c. | I40: =IF(C40=Gegevensblad!$A$2,$D$8*2,"") | J40: =IF(C40=Gegevensblad!$A$3,IF(H40=Gegevensblad!$A$29,G40*1,G40*2),"")
B41: d. | I41: =IF(C41=Gegevensblad!$A$2,$D$8*2,"") | J41: =IF(C41=Gegevensblad!$A$3,IF(H41=Gegevensblad!$A$29,G41*1,G41*2),"")
A42: 8 | B42: a. | I42: =IF(C42=Gegevensblad!$A$2,$D$8*2,"") | J42: =IF(C42=Gegevensblad!$A$3,IF(H42=Gegevensblad!$A$29,G42*1,G42*2),"")
B43: b. | I43: =IF(C43=Gegevensblad!$A$2,$D$8*2,"") | J43: =IF(C43=Gegevensblad!$A$3,IF(H43=Gegevensblad!$A$29,G43*1,G43*2),"")
B44: c. | I44: =IF(C44=Gegevensblad!$A$2,$D$8*2,"") | J44: =IF(C44=Gegevensblad!$A$3,IF(H44=Gegevensblad!$A$29,G44*1,G44*2),"")
...

Sheet Juli
A1: Declaratieformulier reiskostenvergoeding
A3: Klik hier voor uitleg van het formulier
A5: Naam medewerker | D5: =Januari!D5 -> naam
A6: Postcode huisadres | D6: =Januari!D6 -> 1235
A7: Postcode werkadres | D7: =Januari!D7 -> 5678CD
A8: Woon-werk kilometers enkele reisafstand | D8: =Januari!D8 -> 0
A9: Maand / jaar | D9: Juli | E9: 2022
G12: Aantal km | H12: Enkele reis/ | I12: Km woon- | J12: Km | K12: Overig | L12: Totaal | M12: Toelichting
A13: Dag | C13: Te declareren | D13: Postcode van | E13: Postcode naar | F13: Reisdoel | G13: enkele reis | H13: retour | I13: werk | J13: zakelijk
A14: 1 | B14: a. | I14: =IF(C14=Gegevensblad!$A$2,$D$8*2,"") | J14: =IF(C14=Gegevensblad!$A$3,IF(H14=Gegevensblad!$A$29,G14*1,G14*2),"")
B15: b. | I15: =IF(C15=Gegevensblad!$A$2,$D$8*2,"") | J15: =IF(C15=Gegevensblad!$A$3,IF(H15=Gegevensblad!$A$29,G15*1,G15*2),"")
B16: c. | I16: =IF(C16=Gegevensblad!$A$2,$D$8*2,"") | J16: =IF(C16=Gegevensblad!$A$3,IF(H16=Gegevensblad!$A$29,G16*1,G16*2),"")
B17: d. | I17: =IF(C17=Gegevensblad!$A$2,$D$8*2,"") | J17: =IF(C17=Gegevensblad!$A$3,IF(H17=Gegevensblad!$A$29,G17*1,G17*2),"")
A18: 2 | B18: a. | I18: =IF(C18=Gegevensblad!$A$2,$D$8*2,"") | J18: =IF(C18=Gegevensblad!$A$3,IF(H18=Gegevensblad!$A$29,G18*1,G18*2),"")
B19: b. | I19: =IF(C19=Gegevensblad!$A$2,$D$8*2,"") | J19: =IF(C19=Gegevensblad!$A$3,IF(H19=Gegevensblad!$A$29,G19*1,G19*2),"")
B20: c. | I20: =IF(C20=Gegevensblad!$A$2,$D$8*2,"") | J20: =IF(C20=Gegevensblad!$A$3,IF(H20=Gegevensblad!$A$29,G20*1,G20*2),"")
B21: d. | I21: =IF(C21=Gegevensblad!$A$2,$D$8*2,"") | J21: =IF(C21=Gegevensblad!$A$3,IF(H21=Gegevensblad!$A$29,G21*1,G21*2),"")
A22: 3 | B22: a. | I22: =IF(C22=Gegevensblad!$A$2,$D$8*2,"") | J22: =IF(C22=Gegevensblad!$A$3,IF(H22=Gegevensblad!$A$29,G22*1,G22*2),"")
B23: b. | I23: =IF(C23=Gegevensblad!$A$2,$D$8*2,"") | J23: =IF(C23=Gegevensblad!$A$3,IF(H23=Gegevensblad!$A$29,G23*1,G23*2),"")
B24: c. | I24: =IF(C24=Gegevensblad!$A$2,$D$8*2,"") | J24: =IF(C24=Gegevensblad!$A$3,IF(H24=Gegevensblad!$A$29,G24*1,G24*2),"")
B25: d. | I25: =IF(C25=Gegevensblad!$A$2,$D$8*2,"") | J25: =IF(C25=Gegevensblad!$A$3,IF(H25=Gegevensblad!$A$29,G25*1,G25*2),"")
A26: 4 | B26: a. | I26: =IF(C26=Gegevensblad!$A$2,$D$8*2,"") | J26: =IF(C26=Gegevensblad!$A$3,IF(H26=Gegevensblad!$A$29,G26*1,G26*2),"")
B27: b. | I27: =IF(C27=Gegevensblad!$A$2,$D$8*2,"") | J27: =IF(C27=Gegevensblad!$A$3,IF(H27=Gegevensblad!$A$29,G27*1,G27*2),"")
B28: c. | I28: =IF(C28=Gegevensblad!$A$2,$D$8*2,"") | J28: =IF(C28=Gegevensblad!$A$3,IF(H28=Gegevensblad!$A$29,G28*1,G28*2),"")
B29: d. | I29: =IF(C29=Gegevensblad!$A$2,$D$8*2,"") | J29: =IF(C29=Gegevensblad!$A$3,IF(H29=Gegevensblad!$A$29,G29*1,G29*2),"")
A30: 5 | B30: a. | I30: =IF(C30=Gegevensblad!$A$2,$D$8*2,"") | J30: =IF(C30=Gegevensblad!$A$3,IF(H30=Gegevensblad!$A$29,G30*1,G30*2),"")
B31: b. | I31: =IF(C31=Gegevensblad!$A$2,$D$8*2,"") | J31: =IF(C31=Gegevensblad!$A$3,IF(H31=Gegevensblad!$A$29,G31*1,G31*2),"")
B32: c. | I32: =IF(C32=Gegevensblad!$A$2,$D$8*2,"") | J32: =IF(C32=Gegevensblad!$A$3,IF(H32=Gegevensblad!$A$29,G32*1,G32*2),"")
B33: d. | I33: =IF(C33=Gegevensblad!$A$2,$D$8*2,"") | J33: =IF(C33=Gegevensblad!$A$3,IF(H33=Gegevensblad!$A$29,G33*1,G33*2),"")
A34: 6 | B34: a. | I34: =IF(C34=Gegevensblad!$A$2,$D$8*2,"") | J34: =IF(C34=Gegevensblad!$A$3,IF(H34=Gegevensblad!$A$29,G34*1,G34*2),"")
B35: b. | I35: =IF(C35=Gegevensblad!$A$2,$D$8*2,"") | J35: =IF(C35=Gegevensblad!$A$3,IF(H35=Gegevensblad!$A$29,G35*1,G35*2),"")
B36: c. | I36: =IF(C36=Gegevensblad!$A$2,$D$8*2,"") | J36: =IF(C36=Gegevensblad!$A$3,IF(H36=Gegevensblad!$A$29,G36*1,G36*2),"")
B37: d. | I37: =IF(C37=Gegevensblad!$A$2,$D$8*2,"") | J37: =IF(C37=Gegevensblad!$A$3,IF(H37=Gegevensblad!$A$29,G37*1,G37*2),"")
A38: 7 | B38: a. | I38: =IF(C38=Gegevensblad!$A$2,$D$8*2,"") | J38: =IF(C38=Gegevensblad!$A$3,IF(H38=Gegevensblad!$A$29,G38*1,G38*2),"")
B39: b. | I39: =IF(C39=Gegevensblad!$A$2,$D$8*2,"") | J39: =IF(C39=Gegevensblad!$A$3,IF(H39=Gegevensblad!$A$29,G39*1,G39*2),"")
B40: c. | I40: =IF(C40=Gegevensblad!$A$2,$D$8*2,"") | J40: =IF(C40=Gegevensblad!$A$3,IF(H40=Gegevensblad!$A$29,G40*1,G40*2),"")
B41: d. | I41: =IF(C41=Gegevensblad!$A$2,$D$8*2,"") | J41: =IF(C41=Gegevensblad!$A$3,IF(H41=Gegevensblad!$A$29,G41*1,G41*2),"")
A42: 8 | B42: a. | I42: =IF(C42=Gegevensblad!$A$2,$D$8*2,"") | J42: =IF(C42=Gegevensblad!$A$3,IF(H42=Gegevensblad!$A$29,G42*1,G42*2),"")
B43: b. | I43: =IF(C43=Gegevensblad!$A$2,$D$8*2,"") | J43: =IF(C43=Gegevensblad!$A$3,IF(H43=Gegevensblad!$A$29,G43*1,G43*2),"")
B44: c. | I44: =IF(C44=Gegevensblad!$A$2,$D$8*2,"") | J44: =IF(C44=Gegevensblad!$A$3,IF(H44=Gegevensblad!$A$29,G44*1,G44*2),"")
...

Sheet Augustus
A1: Declaratieformulier reiskostenvergoeding
A3: Klik hier voor uitleg van het formulier
A5: Naam medewerker | D5: =Januari!D5 -> naam
A6: Postcode huisadres | D6: =Januari!D6 -> 1235
A7: Postcode werkadres | D7: =Januari!D7 -> 5678CD
A8: Woon-werk kilometers enkele reisafstand | D8: =Januari!D8 -> 0
A9: Maand / jaar | D9: Augustus | E9: 2022
G12: Aantal km | H12: Enkele reis/ | I12: Km woon- | J12: Km | K12: Overig | L12: Totaal | M12: Toelichting
A13: Dag | C13: Te declareren | D13: Postcode van | E13: Postcode naar | F13: Reisdoel | G13: enkele reis | H13: retour | I13: werk | J13: zakelijk
A14: 1 | B14: a. | I14: =IF(C14=Gegevensblad!$A$2,$D$8*2,"") | J14: =IF(C14=Gegevensblad!$A$3,IF(H14=Gegevensblad!$A$29,G14*1,G14*2),"")
B15: b. | I15: =IF(C15=Gegevensblad!$A$2,$D$8*2,"") | J15: =IF(C15=Gegevensblad!$A$3,IF(H15=Gegevensblad!$A$29,G15*1,G15*2),"")
B16: c. | I16: =IF(C16=Gegevensblad!$A$2,$D$8*2,"") | J16: =IF(C16=Gegevensblad!$A$3,IF(H16=Gegevensblad!$A$29,G16*1,G16*2),"")
B17: d. | I17: =IF(C17=Gegevensblad!$A$2,$D$8*2,"") | J17: =IF(C17=Gegevensblad!$A$3,IF(H17=Gegevensblad!$A$29,G17*1,G17*2),"")
A18: 2 | B18: a. | I18: =IF(C18=Gegevensblad!$A$2,$D$8*2,"") | J18: =IF(C18=Gegevensblad!$A$3,IF(H18=Gegevensblad!$A$29,G18*1,G18*2),"")
B19: b. | I19: =IF(C19=Gegevensblad!$A$2,$D$8*2,"") | J19: =IF(C19=Gegevensblad!$A$3,IF(H19=Gegevensblad!$A$29,G19*1,G19*2),"")
B20: c. | I20: =IF(C20=Gegevensblad!$A$2,$D$8*2,"") | J20: =IF(C20=Gegevensblad!$A$3,IF(H20=Gegevensblad!$A$29,G20*1,G20*2),"")
B21: d. | I21: =IF(C21=Gegevensblad!$A$2,$D$8*2,"") | J21: =IF(C21=Gegevensblad!$A$3,IF(H21=Gegevensblad!$A$29,G21*1,G21*2),"")
A22: 3 | B22: a. | I22: =IF(C22=Gegevensblad!$A$2,$D$8*2,"") | J22: =IF(C22=Gegevensblad!$A$3,IF(H22=Gegevensblad!$A$29,G22*1,G22*2),"")
B23: b. | I23: =IF(C23=Gegevensblad!$A$2,$D$8*2,"") | J23: =IF(C23=Gegevensblad!$A$3,IF(H23=Gegevensblad!$A$29,G23*1,G23*2),"")
B24: c. | I24: =IF(C24=Gegevensblad!$A$2,$D$8*2,"") | J24: =IF(C24=Gegevensblad!$A$3,IF(H24=Gegevensblad!$A$29,G24*1,G24*2),"")
B25: d. | I25: =IF(C25=Gegevensblad!$A$2,$D$8*2,"") | J25: =IF(C25=Gegevensblad!$A$3,IF(H25=Gegevensblad!$A$29,G25*1,G25*2),"")
A26: 4 | B26: a. | I26: =IF(C26=Gegevensblad!$A$2,$D$8*2,"") | J26: =IF(C26=Gegevensblad!$A$3,IF(H26=Gegevensblad!$A$29,G26*1,G26*2),"")
B27: b. | I27: =IF(C27=Gegevensblad!$A$2,$D$8*2,"") | J27: =IF(C27=Gegevensblad!$A$3,IF(H27=Gegevensblad!$A$29,G27*1,G27*2),"")
B28: c. | I28: =IF(C28=Gegevensblad!$A$2,$D$8*2,"") | J28: =IF(C28=Gegevensblad!$A$3,IF(H28=Gegevensblad!$A$29,G28*1,G28*2),"")
B29: d. | I29: =IF(C29=Gegevensblad!$A$2,$D$8*2,"") | J29: =IF(C29=Gegevensblad!$A$3,IF(H29=Gegevensblad!$A$29,G29*1,G29*2),"")
A30: 5 | B30: a. | I30: =IF(C30=Gegevensblad!$A$2,$D$8*2,"") | J30: =IF(C30=Gegevensblad!$A$3,IF(H30=Gegevensblad!$A$29,G30*1,G30*2),"")
B31: b. | I31: =IF(C31=Gegevensblad!$A$2,$D$8*2,"") | J31: =IF(C31=Gegevensblad!$A$3,IF(H31=Gegevensblad!$A$29,G31*1,G31*2),"")
B32: c. | I32: =IF(C32=Gegevensblad!$A$2,$D$8*2,"") | J32: =IF(C32=Gegevensblad!$A$3,IF(H32=Gegevensblad!$A$29,G32*1,G32*2),"")
B33: d. | I33: =IF(C33=Gegevensblad!$A$2,$D$8*2,"") | J33: =IF(C33=Gegevensblad!$A$3,IF(H33=Gegevensblad!$A$29,G33*1,G33*2),"")
A34: 6 | B34: a. | I34: =IF(C34=Gegevensblad!$A$2,$D$8*2,"") | J34: =IF(C34=Gegevensblad!$A$3,IF(H34=Gegevensblad!$A$29,G34*1,G34*2),"")
B35: b. | I35: =IF(C35=Gegevensblad!$A$2,$D$8*2,"") | J35: =IF(C35=Gegevensblad!$A$3,IF(H35=Gegevensblad!$A$29,G35*1,G35*2),"")
B36: c. | I36: =IF(C36=Gegevensblad!$A$2,$D$8*2,"") | J36: =IF(C36=Gegevensblad!$A$3,IF(H36=Gegevensblad!$A$29,G36*1,G36*2),"")
B37: d. | I37: =IF(C37=Gegevensblad!$A$2,$D$8*2,"") | J37: =IF(C37=Gegevensblad!$A$3,IF(H37=Gegevensblad!$A$29,G37*1,G37*2),"")
A38: 7 | B38: a. | I38: =IF(C38=Gegevensblad!$A$2,$D$8*2,"") | J38: =IF(C38=Gegevensblad!$A$3,IF(H38=Gegevensblad!$A$29,G38*1,G38*2),"")
B39: b. | I39: =IF(C39=Gegevensblad!$A$2,$D$8*2,"") | J39: =IF(C39=Gegevensblad!$A$3,IF(H39=Gegevensblad!$A$29,G39*1,G39*2),"")
B40: c. | I40: =IF(C40=Gegevensblad!$A$2,$D$8*2,"") | J40: =IF(C40=Gegevensblad!$A$3,IF(H40=Gegevensblad!$A$29,G40*1,G40*2),"")
B41: d. | I41: =IF(C41=Gegevensblad!$A$2,$D$8*2,"") | J41: =IF(C41=Gegevensblad!$A$3,IF(H41=Gegevensblad!$A$29,G41*1,G41*2),"")
A42: 8 | B42: a. | I42: =IF(C42=Gegevensblad!$A$2,$D$8*2,"") | J42: =IF(C42=Gegevensblad!$A$3,IF(H42=Gegevensblad!$A$29,G42*1,G42*2),"")
B43: b. | I43: =IF(C43=Gegevensblad!$A$2,$D$8*2,"") | J43: =IF(C43=Gegevensblad!$A$3,IF(H43=Gegevensblad!$A$29,G43*1,G43*2),"")
B44: c. | I44: =IF(C44=Gegevensblad!$A$2,$D$8*2,"") | J44: =IF(C44=Gegevensblad!$A$3,IF(H44=Gegevensblad!$A$29,G44*1,G44*2),"")
...

Sheet September
A1: Declaratieformulier reiskostenvergoeding
A3: Klik hier voor uitleg van het formulier
A5: Naam medewerker | D5: =Januari!D5 -> naam
A6: Postcode huisadres | D6: =Januari!D6 -> 1235
A7: Postcode werkadres | D7: =Januari!D7 -> 5678CD
A8: Woon-werk kilometers enkele reisafstand | D8: =Januari!D8 -> 0
A9: Maand / jaar | D9: September | E9: 2022
G12: Aantal km | H12: Enkele reis/ | I12: Km woon- | J12: Km | K12: Overig | L12: Totaal | M12: Toelichting
A13: Dag | C13: Te declareren | D13: Postcode van | E13: Postcode naar | F13: Reisdoel | G13: enkele reis | H13: retour | I13: werk | J13: zakelijk
A14: 1 | B14: a. | I14: =IF(C14=Gegevensblad!$A$2,$D$8*2,"") | J14: =IF(C14=Gegevensblad!$A$3,IF(H14=Gegevensblad!$A$29,G14*1,G14*2),"")
B15: b. | I15: =IF(C15=Gegevensblad!$A$2,$D$8*2,"") | J15: =IF(C15=Gegevensblad!$A$3,IF(H15=Gegevensblad!$A$29,G15*1,G15*2),"")
B16: c. | I16: =IF(C16=Gegevensblad!$A$2,$D$8*2,"") | J16: =IF(C16=Gegevensblad!$A$3,IF(H16=Gegevensblad!$A$29,G16*1,G16*2),"")
B17: d. | I17: =IF(C17=Gegevensblad!$A$2,$D$8*2,"") | J17: =IF(C17=Gegevensblad!$A$3,IF(H17=Gegevensblad!$A$29,G17*1,G17*2),"")
A18: 2 | B18: a. | I18: =IF(C18=Gegevensblad!$A$2,$D$8*2,"") | J18: =IF(C18=Gegevensblad!$A$3,IF(H18=Gegevensblad!$A$29,G18*1,G18*2),"")
B19: b. | I19: =IF(C19=Gegevensblad!$A$2,$D$8*2,"") | J19: =IF(C19=Gegevensblad!$A$3,IF(H19=Gegevensblad!$A$29,G19*1,G19*2),"")
B20: c. | I20: =IF(C20=Gegevensblad!$A$2,$D$8*2,"") | J20: =IF(C20=Gegevensblad!$A$3,IF(H20=Gegevensblad!$A$29,G20*1,G20*2),"")
B21: d. | I21: =IF(C21=Gegevensblad!$A$2,$D$8*2,"") | J21: =IF(C21=Gegevensblad!$A$3,IF(H21=Gegevensblad!$A$29,G21*1,G21*2),"")
A22: 3 | B22: a. | I22: =IF(C22=Gegevensblad!$A$2,$D$8*2,"") | J22: =IF(C22=Gegevensblad!$A$3,IF(H22=Gegevensblad!$A$29,G22*1,G22*2),"")
B23: b. | I23: =IF(C23=Gegevensblad!$A$2,$D$8*2,"") | J23: =IF(C23=Gegevensblad!$A$3,IF(H23=Gegevensblad!$A$29,G23*1,G23*2),"")
B24: c. | I24: =IF(C24=Gegevensblad!$A$2,$D$8*2,"") | J24: =IF(C24=Gegevensblad!$A$3,IF(H24=Gegevensblad!$A$29,G24*1,G24*2),"")
B25: d. | I25: =IF(C25=Gegevensblad!$A$2,$D$8*2,"") | J25: =IF(C25=Gegevensblad!$A$3,IF(H25=Gegevensblad!$A$29,G25*1,G25*2),"")
A26: 4 | B26: a. | I26: =IF(C26=Gegevensblad!$A$2,$D$8*2,"") | J26: =IF(C26=Gegevensblad!$A$3,IF(H26=Gegevensblad!$A$29,G26*1,G26*2),"")
B27: b. | I27: =IF(C27=Gegevensblad!$A$2,$D$8*2,"") | J27: =IF(C27=Gegevensblad!$A$3,IF(H27=Gegevensblad!$A$29,G27*1,G27*2),"")
B28: c. | I28: =IF(C28=Gegevensblad!$A$2,$D$8*2,"") | J28: =IF(C28=Gegevensblad!$A$3,IF(H28=Gegevensblad!$A$29,G28*1,G28*2),"")
B29: d. | I29: =IF(C29=Gegevensblad!$A$2,$D$8*2,"") | J29: =IF(C29=Gegevensblad!$A$3,IF(H29=Gegevensblad!$A$29,G29*1,G29*2),"")
A30: 5 | B30: a. | I30: =IF(C30=Gegevensblad!$A$2,$D$8*2,"") | J30: =IF(C30=Gegevensblad!$A$3,IF(H30=Gegevensblad!$A$29,G30*1,G30*2),"")
B31: b. | I31: =IF(C31=Gegevensblad!$A$2,$D$8*2,"") | J31: =IF(C31=Gegevensblad!$A$3,IF(H31=Gegevensblad!$A$29,G31*1,G31*2),"")
B32: c. | I32: =IF(C32=Gegevensblad!$A$2,$D$8*2,"") | J32: =IF(C32=Gegevensblad!$A$3,IF(H32=Gegevensblad!$A$29,G32*1,G32*2),"")
B33: d. | I33: =IF(C33=Gegevensblad!$A$2,$D$8*2,"") | J33: =IF(C33=Gegevensblad!$A$3,IF(H33=Gegevensblad!$A$29,G33*1,G33*2),"")
A34: 6 | B34: a. | I34: =IF(C34=Gegevensblad!$A$2,$D$8*2,"") | J34: =IF(C34=Gegevensblad!$A$3,IF(H34=Gegevensblad!$A$29,G34*1,G34*2),"")
B35: b. | I35: =IF(C35=Gegevensblad!$A$2,$D$8*2,"") | J35: =IF(C35=Gegevensblad!$A$3,IF(H35=Gegevensblad!$A$29,G35*1,G35*2),"")
B36: c. | I36: =IF(C36=Gegevensblad!$A$2,$D$8*2,"") | J36: =IF(C36=Gegevensblad!$A$3,IF(H36=Gegevensblad!$A$29,G36*1,G36*2),"")
B37: d. | I37: =IF(C37=Gegevensblad!$A$2,$D$8*2,"") | J37: =IF(C37=Gegevensblad!$A$3,IF(H37=Gegevensblad!$A$29,G37*1,G37*2),"")
A38: 7 | B38: a. | I38: =IF(C38=Gegevensblad!$A$2,$D$8*2,"") | J38: =IF(C38=Gegevensblad!$A$3,IF(H38=Gegevensblad!$A$29,G38*1,G38*2),"")
B39: b. | I39: =IF(C39=Gegevensblad!$A$2,$D$8*2,"") | J39: =IF(C39=Gegevensblad!$A$3,IF(H39=Gegevensblad!$A$29,G39*1,G39*2),"")
B40: c. | I40: =IF(C40=Gegevensblad!$A$2,$D$8*2,"") | J40: =IF(C40=Gegevensblad!$A$3,IF(H40=Gegevensblad!$A$29,G40*1,G40*2),"")
B41: d. | I41: =IF(C41=Gegevensblad!$A$2,$D$8*2,"") | J41: =IF(C41=Gegevensblad!$A$3,IF(H41=Gegevensblad!$A$29,G41*1,G41*2),"")
A42: 8 | B42: a. | I42: =IF(C42=Gegevensblad!$A$2,$D$8*2,"") | J42: =IF(C42=Gegevensblad!$A$3,IF(H42=Gegevensblad!$A$29,G42*1,G42*2),"")
B43: b. | I43: =IF(C43=Gegevensblad!$A$2,$D$8*2,"") | J43: =IF(C43=Gegevensblad!$A$3,IF(H43=Gegevensblad!$A$29,G43*1,G43*2),"")
B44: c. | I44: =IF(C44=Gegevensblad!$A$2,$D$8*2,"") | J44: =IF(C44=Gegevensblad!$A$3,IF(H44=Gegevensblad!$A$29,G44*1,G44*2),"")
...

Sheet Oktober
A1: Declaratieformulier reiskostenvergoeding
A3: Klik hier voor uitleg van het formulier
A5: Naam medewerker | D5: =Januari!D5 -> naam
A6: Postcode huisadres | D6: =Januari!D6 -> 1235
A7: Postcode werkadres | D7: =Januari!D7 -> 5678CD
A8: Woon-werk kilometers enkele reisafstand | D8: =Januari!D8 -> 0
A9: Maand / jaar | D9: Oktober | E9: 2022
G12: Aantal km | H12: Enkele reis/ | I12: Km woon- | J12: Km | K12: Overig | L12: Totaal | M12: Toelichting
A13: Dag | C13: Te declareren | D13: Postcode van | E13: Postcode naar | F13: Reisdoel | G13: enkele reis | H13: retour | I13: werk | J13: zakelijk
A14: 1 | B14: a. | I14: =IF(C14=Gegevensblad!$A$2,$D$8*2,"") | J14: =IF(C14=Gegevensblad!$A$3,IF(H14=Gegevensblad!$A$29,G14*1,G14*2),"")
B15: b. | I15: =IF(C15=Gegevensblad!$A$2,$D$8*2,"") | J15: =IF(C15=Gegevensblad!$A$3,IF(H15=Gegevensblad!$A$29,G15*1,G15*2),"")
B16: c. | I16: =IF(C16=Gegevensblad!$A$2,$D$8*2,"") | J16: =IF(C16=Gegevensblad!$A$3,IF(H16=Gegevensblad!$A$29,G16*1,G16*2),"")
B17: d. | I17: =IF(C17=Gegevensblad!$A$2,$D$8*2,"") | J17: =IF(C17=Gegevensblad!$A$3,IF(H17=Gegevensblad!$A$29,G17*1,G17*2),"")
A18: 2 | B18: a. | I18: =IF(C18=Gegevensblad!$A$2,$D$8*2,"") | J18: =IF(C18=Gegevensblad!$A$3,IF(H18=Gegevensblad!$A$29,G18*1,G18*2),"")
B19: b. | I19: =IF(C19=Gegevensblad!$A$2,$D$8*2,"") | J19: =IF(C19=Gegevensblad!$A$3,IF(H19=Gegevensblad!$A$29,G19*1,G19*2),"")
B20: c. | I20: =IF(C20=Gegevensblad!$A$2,$D$8*2,"") | J20: =IF(C20=Gegevensblad!$A$3,IF(H20=Gegevensblad!$A$29,G20*1,G20*2),"")
B21: d. | I21: =IF(C21=Gegevensblad!$A$2,$D$8*2,"") | J21: =IF(C21=Gegevensblad!$A$3,IF(H21=Gegevensblad!$A$29,G21*1,G21*2),"")
A22: 3 | B22: a. | I22: =IF(C22=Gegevensblad!$A$2,$D$8*2,"") | J22: =IF(C22=Gegevensblad!$A$3,IF(H22=Gegevensblad!$A$29,G22*1,G22*2),"")
B23: b. | I23: =IF(C23=Gegevensblad!$A$2,$D$8*2,"") | J23: =IF(C23=Gegevensblad!$A$3,IF(H23=Gegevensblad!$A$29,G23*1,G23*2),"")
B24: c. | I24: =IF(C24=Gegevensblad!$A$2,$D$8*2,"") | J24: =IF(C24=Gegevensblad!$A$3,IF(H24=Gegevensblad!$A$29,G24*1,G24*2),"")
B25: d. | I25: =IF(C25=Gegevensblad!$A$2,$D$8*2,"") | J25: =IF(C25=Gegevensblad!$A$3,IF(H25=Gegevensblad!$A$29,G25*1,G25*2),"")
A26: 4 | B26: a. | I26: =IF(C26=Gegevensblad!$A$2,$D$8*2,"") | J26: =IF(C26=Gegevensblad!$A$3,IF(H26=Gegevensblad!$A$29,G26*1,G26*2),"")
B27: b. | I27: =IF(C27=Gegevensblad!$A$2,$D$8*2,"") | J27: =IF(C27=Gegevensblad!$A$3,IF(H27=Gegevensblad!$A$29,G27*1,G27*2),"")
B28: c. | I28: =IF(C28=Gegevensblad!$A$2,$D$8*2,"") | J28: =IF(C28=Gegevensblad!$A$3,IF(H28=Gegevensblad!$A$29,G28*1,G28*2),"")
B29: d. | I29: =IF(C29=Gegevensblad!$A$2,$D$8*2,"") | J29: =IF(C29=Gegevensblad!$A$3,IF(H29=Gegevensblad!$A$29,G29*1,G29*2),"")
A30: 5 | B30: a. | I30: =IF(C30=Gegevensblad!$A$2,$D$8*2,"") | J30: =IF(C30=Gegevensblad!$A$3,IF(H30=Gegevensblad!$A$29,G30*1,G30*2),"")
B31: b. | I31: =IF(C31=Gegevensblad!$A$2,$D$8*2,"") | J31: =IF(C31=Gegevensblad!$A$3,IF(H31=Gegevensblad!$A$29,G31*1,G31*2),"")
B32: c. | I32: =IF(C32=Gegevensblad!$A$2,$D$8*2,"") | J32: =IF(C32=Gegevensblad!$A$3,IF(H32=Gegevensblad!$A$29,G32*1,G32*2),"")
B33: d. | I33: =IF(C33=Gegevensblad!$A$2,$D$8*2,"") | J33: =IF(C33=Gegevensblad!$A$3,IF(H33=Gegevensblad!$A$29,G33*1,G33*2),"")
A34: 6 | B34: a. | I34: =IF(C34=Gegevensblad!$A$2,$D$8*2,"") | J34: =IF(C34=Gegevensblad!$A$3,IF(H34=Gegevensblad!$A$29,G34*1,G34*2),"")
B35: b. | I35: =IF(C35=Gegevensblad!$A$2,$D$8*2,"") | J35: =IF(C35=Gegevensblad!$A$3,IF(H35=Gegevensblad!$A$29,G35*1,G35*2),"")
B36: c. | I36: =IF(C36=Gegevensblad!$A$2,$D$8*2,"") | J36: =IF(C36=Gegevensblad!$A$3,IF(H36=Gegevensblad!$A$29,G36*1,G36*2),"")
B37: d. | I37: =IF(C37=Gegevensblad!$A$2,$D$8*2,"") | J37: =IF(C37=Gegevensblad!$A$3,IF(H37=Gegevensblad!$A$29,G37*1,G37*2),"")
A38: 7 | B38: a. | I38: =IF(C38=Gegevensblad!$A$2,$D$8*2,"") | J38: =IF(C38=Gegevensblad!$A$3,IF(H38=Gegevensblad!$A$29,G38*1,G38*2),"")
B39: b. | I39: =IF(C39=Gegevensblad!$A$2,$D$8*2,"") | J39: =IF(C39=Gegevensblad!$A$3,IF(H39=Gegevensblad!$A$29,G39*1,G39*2),"")
B40: c. | I40: =IF(C40=Gegevensblad!$A$2,$D$8*2,"") | J40: =IF(C40=Gegevensblad!$A$3,IF(H40=Gegevensblad!$A$29,G40*1,G40*2),"")
B41: d. | I41: =IF(C41=Gegevensblad!$A$2,$D$8*2,"") | J41: =IF(C41=Gegevensblad!$A$3,IF(H41=Gegevensblad!$A$29,G41*1,G41*2),"")
A42: 8 | B42: a. | I42: =IF(C42=Gegevensblad!$A$2,$D$8*2,"") | J42: =IF(C42=Gegevensblad!$A$3,IF(H42=Gegevensblad!$A$29,G42*1,G42*2),"")
B43: b. | I43: =IF(C43=Gegevensblad!$A$2,$D$8*2,"") | J43: =IF(C43=Gegevensblad!$A$3,IF(H43=Gegevensblad!$A$29,G43*1,G43*2),"")
B44: c. | I44: =IF(C44=Gegevensblad!$A$2,$D$8*2,"") | J44: =IF(C44=Gegevensblad!$A$3,IF(H44=Gegevensblad!$A$29,G44*1,G44*2),"")
...

Sheet November
A1: Declaratieformulier reiskostenvergoeding
A3: Klik hier voor uitleg van het formulier
A5: Naam medewerker | D5: =Januari!D5 -> naam
A6: Postcode huisadres | D6: =Januari!D6 -> 1235
A7: Postcode werkadres | D7: =Januari!D7 -> 5678CD
A8: Woon-werk kilometers enkele reisafstand | D8: =Januari!D8 -> 0
A9: Maand / jaar | D9: November | E9: 2022
G12: Aantal km | H12: Enkele reis/ | I12: Km woon- | J12: Km | K12: Overig | L12: Totaal | M12: Toelichting
A13: Dag | C13: Te declareren | D13: Postcode van | E13: Postcode naar | F13: Reisdoel | G13: enkele reis | H13: retour | I13: werk | J13: zakelijk
A14: 1 | B14: a. | I14: =IF(C14=Gegevensblad!$A$2,$D$8*2,"") | J14: =IF(C14=Gegevensblad!$A$3,IF(H14=Gegevensblad!$A$29,G14*1,G14*2),"")
B15: b. | I15: =IF(C15=Gegevensblad!$A$2,$D$8*2,"") | J15: =IF(C15=Gegevensblad!$A$3,IF(H15=Gegevensblad!$A$29,G15*1,G15*2),"")
B16: c. | I16: =IF(C16=Gegevensblad!$A$2,$D$8*2,"") | J16: =IF(C16=Gegevensblad!$A$3,IF(H16=Gegevensblad!$A$29,G16*1,G16*2),"")
B17: d. | I17: =IF(C17=Gegevensblad!$A$2,$D$8*2,"") | J17: =IF(C17=Gegevensblad!$A$3,IF(H17=Gegevensblad!$A$29,G17*1,G17*2),"")
A18: 2 | B18: a. | I18: =IF(C18=Gegevensblad!$A$2,$D$8*2,"") | J18: =IF(C18=Gegevensblad!$A$3,IF(H18=Gegevensblad!$A$29,G18*1,G18*2),"")
B19: b. | I19: =IF(C19=Gegevensblad!$A$2,$D$8*2,"") | J19: =IF(C19=Gegevensblad!$A$3,IF(H19=Gegevensblad!$A$29,G19*1,G19*2),"")
B20: c. | I20: =IF(C20=Gegevensblad!$A$2,$D$8*2,"") | J20: =IF(C20=Gegevensblad!$A$3,IF(H20=Gegevensblad!$A$29,G20*1,G20*2),"")
B21: d. | I21: =IF(C21=Gegevensblad!$A$2,$D$8*2,"") | J21: =IF(C21=Gegevensblad!$A$3,IF(H21=Gegevensblad!$A$29,G21*1,G21*2),"")
A22: 3 | B22: a. | I22: =IF(C22=Gegevensblad!$A$2,$D$8*2,"") | J22: =IF(C22=Gegevensblad!$A$3,IF(H22=Gegevensblad!$A$29,G22*1,G22*2),"")
B23: b. | I23: =IF(C23=Gegevensblad!$A$2,$D$8*2,"") | J23: =IF(C23=Gegevensblad!$A$3,IF(H23=Gegevensblad!$A$29,G23*1,G23*2),"")
B24: c. | I24: =IF(C24=Gegevensblad!$A$2,$D$8*2,"") | J24: =IF(C24=Gegevensblad!$A$3,IF(H24=Gegevensblad!$A$29,G24*1,G24*2),"")
B25: d. | I25: =IF(C25=Gegevensblad!$A$2,$D$8*2,"") | J25: =IF(C25=Gegevensblad!$A$3,IF(H25=Gegevensblad!$A$29,G25*1,G25*2),"")
A26: 4 | B26: a. | I26: =IF(C26=Gegevensblad!$A$2,$D$8*2,"") | J26: =IF(C26=Gegevensblad!$A$3,IF(H26=Gegevensblad!$A$29,G26*1,G26*2),"")
B27: b. | I27: =IF(C27=Gegevensblad!$A$2,$D$8*2,"") | J27: =IF(C27=Gegevensblad!$A$3,IF(H27=Gegevensblad!$A$29,G27*1,G27*2),"")
B28: c. | I28: =IF(C28=Gegevensblad!$A$2,$D$8*2,"") | J28: =IF(C28=Gegevensblad!$A$3,IF(H28=Gegevensblad!$A$29,G28*1,G28*2),"")
B29: d. | I29: =IF(C29=Gegevensblad!$A$2,$D$8*2,"") | J29: =IF(C29=Gegevensblad!$A$3,IF(H29=Gegevensblad!$A$29,G29*1,G29*2),"")
A30: 5 | B30: a. | I30: =IF(C30=Gegevensblad!$A$2,$D$8*2,"") | J30: =IF(C30=Gegevensblad!$A$3,IF(H30=Gegevensblad!$A$29,G30*1,G30*2),"")
B31: b. | I31: =IF(C31=Gegevensblad!$A$2,$D$8*2,"") | J31: =IF(C31=Gegevensblad!$A$3,IF(H31=Gegevensblad!$A$29,G31*1,G31*2),"")
B32: c. | I32: =IF(C32=Gegevensblad!$A$2,$D$8*2,"") | J32: =IF(C32=Gegevensblad!$A$3,IF(H32=Gegevensblad!$A$29,G32*1,G32*2),"")
B33: d. | I33: =IF(C33=Gegevensblad!$A$2,$D$8*2,"") | J33: =IF(C33=Gegevensblad!$A$3,IF(H33=Gegevensblad!$A$29,G33*1,G33*2),"")
A34: 6 | B34: a. | I34: =IF(C34=Gegevensblad!$A$2,$D$8*2,"") | J34: =IF(C34=Gegevensblad!$A$3,IF(H34=Gegevensblad!$A$29,G34*1,G34*2),"")
B35: b. | I35: =IF(C35=Gegevensblad!$A$2,$D$8*2,"") | J35: =IF(C35=Gegevensblad!$A$3,IF(H35=Gegevensblad!$A$29,G35*1,G35*2),"")
B36: c. | I36: =IF(C36=Gegevensblad!$A$2,$D$8*2,"") | J36: =IF(C36=Gegevensblad!$A$3,IF(H36=Gegevensblad!$A$29,G36*1,G36*2),"")
B37: d. | I37: =IF(C37=Gegevensblad!$A$2,$D$8*2,"") | J37: =IF(C37=Gegevensblad!$A$3,IF(H37=Gegevensblad!$A$29,G37*1,G37*2),"")
A38: 7 | B38: a. | I38: =IF(C38=Gegevensblad!$A$2,$D$8*2,"") | J38: =IF(C38=Gegevensblad!$A$3,IF(H38=Gegevensblad!$A$29,G38*1,G38*2),"")
B39: b. | I39: =IF(C39=Gegevensblad!$A$2,$D$8*2,"") | J39: =IF(C39=Gegevensblad!$A$3,IF(H39=Gegevensblad!$A$29,G39*1,G39*2),"")
B40: c. | I40: =IF(C40=Gegevensblad!$A$2,$D$8*2,"") | J40: =IF(C40=Gegevensblad!$A$3,IF(H40=Gegevensblad!$A$29,G40*1,G40*2),"")
B41: d. | I41: =IF(C41=Gegevensblad!$A$2,$D$8*2,"") | J41: =IF(C41=Gegevensblad!$A$3,IF(H41=Gegevensblad!$A$29,G41*1,G41*2),"")
A42: 8 | B42: a. | I42: =IF(C42=Gegevensblad!$A$2,$D$8*2,"") | J42: =IF(C42=Gegevensblad!$A$3,IF(H42=Gegevensblad!$A$29,G42*1,G42*2),"")
B43: b. | I43: =IF(C43=Gegevensblad!$A$2,$D$8*2,"") | J43: =IF(C43=Gegevensblad!$A$3,IF(H43=Gegevensblad!$A$29,G43*1,G43*2),"")
B44: c. | I44: =IF(C44=Gegevensblad!$A$2,$D$8*2,"") | J44: =IF(C44=Gegevensblad!$A$3,IF(H44=Gegevensblad!$A$29,G44*1,G44*2),"")
...

Sheet December
A1: Declaratieformulier reiskostenvergoeding
A3: Klik hier voor uitleg van het formulier
A5: Naam medewerker | D5: =Januari!D5 -> naam
A6: Postcode huisadres | D6: =Januari!D6 -> 1235
A7: Postcode werkadres | D7: =Januari!D7 -> 5678CD
A8: Woon-werk kilometers enkele reisafstand | D8: =Januari!D8 -> 0
A9: Maand / jaar | D9: December | E9: 2022
G12: Aantal km | H12: Enkele reis/ | I12: Km woon- | J12: Km | K12: Overig | L12: Totaal | M12: Toelichting
A13: Dag | C13: Te declareren | D13: Postcode van | E13: Postcode naar | F13: Reisdoel | G13: enkele reis | H13: retour | I13: werk | J13: zakelijk
A14: 1 | B14: a. | I14: =IF(C14=Gegevensblad!$A$2,$D$8*2,"") | J14: =IF(C14=Gegevensblad!$A$3,IF(H14=Gegevensblad!$A$29,G14*1,G14*2),"")
B15: b. | I15: =IF(C15=Gegevensblad!$A$2,$D$8*2,"") | J15: =IF(C15=Gegevensblad!$A$3,IF(H15=Gegevensblad!$A$29,G15*1,G15*2),"")
B16: c. | I16: =IF(C16=Gegevensblad!$A$2,$D$8*2,"") | J16: =IF(C16=Gegevensblad!$A$3,IF(H16=Gegevensblad!$A$29,G16*1,G16*2),"")
B17: d. | I17: =IF(C17=Gegevensblad!$A$2,$D$8*2,"") | J17: =IF(C17=Gegevensblad!$A$3,IF(H17=Gegevensblad!$A$29,G17*1,G17*2),"")
A18: 2 | B18: a. | I18: =IF(C18=Gegevensblad!$A$2,$D$8*2,"") | J18: =IF(C18=Gegevensblad!$A$3,IF(H18=Gegevensblad!$A$29,G18*1,G18*2),"")
B19: b. | I19: =IF(C19=Gegevensblad!$A$2,$D$8*2,"") | J19: =IF(C19=Gegevensblad!$A$3,IF(H19=Gegevensblad!$A$29,G19*1,G19*2),"")
B20: c. | I20: =IF(C20=Gegevensblad!$A$2,$D$8*2,"") | J20: =IF(C20=Gegevensblad!$A$3,IF(H20=Gegevensblad!$A$29,G20*1,G20*2),"")
B21: d. | I21: =IF(C21=Gegevensblad!$A$2,$D$8*2,"") | J21: =IF(C21=Gegevensblad!$A$3,IF(H21=Gegevensblad!$A$29,G21*1,G21*2),"")
A22: 3 | B22: a. | I22: =IF(C22=Gegevensblad!$A$2,$D$8*2,"") | J22: =IF(C22=Gegevensblad!$A$3,IF(H22=Gegevensblad!$A$29,G22*1,G22*2),"")
B23: b. | I23: =IF(C23=Gegevensblad!$A$2,$D$8*2,"") | J23: =IF(C23=Gegevensblad!$A$3,IF(H23=Gegevensblad!$A$29,G23*1,G23*2),"")
B24: c. | I24: =IF(C24=Gegevensblad!$A$2,$D$8*2,"") | J24: =IF(C24=Gegevensblad!$A$3,IF(H24=Gegevensblad!$A$29,G24*1,G24*2),"")
B25: d. | I25: =IF(C25=Gegevensblad!$A$2,$D$8*2,"") | J25: =IF(C25=Gegevensblad!$A$3,IF(H25=Gegevensblad!$A$29,G25*1,G25*2),"")
A26: 4 | B26: a. | I26: =IF(C26=Gegevensblad!$A$2,$D$8*2,"") | J26: =IF(C26=Gegevensblad!$A$3,IF(H26=Gegevensblad!$A$29,G26*1,G26*2),"")
B27: b. | I27: =IF(C27=Gegevensblad!$A$2,$D$8*2,"") | J27: =IF(C27=Gegevensblad!$A$3,IF(H27=Gegevensblad!$A$29,G27*1,G27*2),"")
B28: c. | I28: =IF(C28=Gegevensblad!$A$2,$D$8*2,"") | J28: =IF(C28=Gegevensblad!$A$3,IF(H28=Gegevensblad!$A$29,G28*1,G28*2),"")
B29: d. | I29: =IF(C29=Gegevensblad!$A$2,$D$8*2,"") | J29: =IF(C29=Gegevensblad!$A$3,IF(H29=Gegevensblad!$A$29,G29*1,G29*2),"")
A30: 5 | B30: a. | I30: =IF(C30=Gegevensblad!$A$2,$D$8*2,"") | J30: =IF(C30=Gegevensblad!$A$3,IF(H30=Gegevensblad!$A$29,G30*1,G30*2),"")
B31: b. | I31: =IF(C31=Gegevensblad!$A$2,$D$8*2,"") | J31: =IF(C31=Gegevensblad!$A$3,IF(H31=Gegevensblad!$A$29,G31*1,G31*2),"")
B32: c. | I32: =IF(C32=Gegevensblad!$A$2,$D$8*2,"") | J32: =IF(C32=Gegevensblad!$A$3,IF(H32=Gegevensblad!$A$29,G32*1,G32*2),"")
B33: d. | I33: =IF(C33=Gegevensblad!$A$2,$D$8*2,"") | J33: =IF(C33=Gegevensblad!$A$3,IF(H33=Gegevensblad!$A$29,G33*1,G33*2),"")
A34: 6 | B34: a. | I34: =IF(C34=Gegevensblad!$A$2,$D$8*2,"") | J34: =IF(C34=Gegevensblad!$A$3,IF(H34=Gegevensblad!$A$29,G34*1,G34*2),"")
B35: b. | I35: =IF(C35=Gegevensblad!$A$2,$D$8*2,"") | J35: =IF(C35=Gegevensblad!$A$3,IF(H35=Gegevensblad!$A$29,G35*1,G35*2),"")
B36: c. | I36: =IF(C36=Gegevensblad!$A$2,$D$8*2,"") | J36: =IF(C36=Gegevensblad!$A$3,IF(H36=Gegevensblad!$A$29,G36*1,G36*2),"")
B37: d. | I37: =IF(C37=Gegevensblad!$A$2,$D$8*2,"") | J37: =IF(C37=Gegevensblad!$A$3,IF(H37=Gegevensblad!$A$29,G37*1,G37*2),"")
A38: 7 | B38: a. | I38: =IF(C38=Gegevensblad!$A$2,$D$8*2,"") | J38: =IF(C38=Gegevensblad!$A$3,IF(H38=Gegevensblad!$A$29,G38*1,G38*2),"")
B39: b. | I39: =IF(C39=Gegevensblad!$A$2,$D$8*2,"") | J39: =IF(C39=Gegevensblad!$A$3,IF(H39=Gegevensblad!$A$29,G39*1,G39*2),"")
B40: c. | I40: =IF(C40=Gegevensblad!$A$2,$D$8*2,"") | J40: =IF(C40=Gegevensblad!$A$3,IF(H40=Gegevensblad!$A$29,G40*1,G40*2),"")
B41: d. | I41: =IF(C41=Gegevensblad!$A$2,$D$8*2,"") | J41: =IF(C41=Gegevensblad!$A$3,IF(H41=Gegevensblad!$A$29,G41*1,G41*2),"")
A42: 8 | B42: a. | I42: =IF(C42=Gegevensblad!$A$2,$D$8*2,"") | J42: =IF(C42=Gegevensblad!$A$3,IF(H42=Gegevensblad!$A$29,G42*1,G42*2),"")
B43: b. | I43: =IF(C43=Gegevensblad!$A$2,$D$8*2,"") | J43: =IF(C43=Gegevensblad!$A$3,IF(H43=Gegevensblad!$A$29,G43*1,G43*2),"")
B44: c. | I44: =IF(C44=Gegevensblad!$A$2,$D$8*2,"") | J44: =IF(C44=Gegevensblad!$A$3,IF(H44=Gegevensblad!$A$29,G44*1,G44*2),"")
...

Sheet Gegevensblad
A2: Reiskosten woon-werk | D2: 0.19
A3: Reiskosten zakelijk | D3: 0.19
A7: Januari
A8: Februari
A9: Maart
A10: April
A11: Mei
A12: Juni
A13: Juli
A14: Augustus
A15: September
A16: Oktober
A17: November
A18: December
... A30: Retour
