Workbook

Sheet UITLEG
A1: UITLEG EERST LEZEN VOORDAT JE HET FORMULIER GAAT GEBRUIKEN
A3: 1. | B3: ONJUIST INGEVULDE DECLARATIES WORDEN NIET IN BEHANDELING GENOMEN!
A4: 2. | B4: Vul alleen de gele velden in. De overige velden worden automatisch ingevuld
B5: Begin in januari met het invullen van de regels 5 t/m 8. Deze gegevens worden
B6: automatisch in de daaropvolgende maanden ingevuld. Zolang er niets wijzigt,
B7: hoeven deze gegevens niet aangepast te worden.
A8: 3. | B8: In elke rij kan je met het dropdownmenu in kolom C (Te declareren) aangeven
B9: wat je wil declareren:
B10: - | C10: Reiskosten woon-werk | D10: Reis van huis naar je vaste werkplek.
B11: - | C11: Reiskosten zakelijk | D11: Reis van bijvoorbeeld kantoor naar een
D12: zakelijke afspraak.
A13: 4. | B13: Indien je kiest voor Reiskosten woon-werk, worden de
B14: gegevens automatisch ingevuld. Kies je voor Reiskosten zakelijk, vul dan de
B15: postcodes in en het aantal kilometers enkele reis.
B16: Gebruik hiervoor Google Maps: | D16: https://www.google.nl/maps
B17: Vul daarnaast het reisdoel in, bijvoorbeeld het project waar je heen bent
B18: gegaan.
A19: 5. | B19: Als het om een zakelijke reis gaat, geef dan aan of het een retour of enkele reis is.
B20: Als je meer dan één rit per dag maakt, kan je klikken op het plusje voor de
B21: betreffende regel. Je krijgt dan 3 extra regels om in te vullen. Heb je hier niet
B22: genoeg aan, gebruik dan de regel(s) van een zaterdag of zondag.
A23: 6. | B23: Als je meerdere locaties hebt waar je werkt en vanuit huis naartoe rijdt, vul dan
B24: één locatie als woon-werk in en de andere locatie(s) als zakelijke reis. Qua
B25: vergoeding is er geen verschil. Dit zal vooral voor BuurtSportCoaches gelden.
A26: 7. | B26: In de kolom Overig kan je overige reiskosten invullen. Vul daarbij altijd ook een
B27: toelichting en voeg de bonnen/betaalbewijzen toe aan je declaratie.
A28: 8. | B28: Declareren doe je per maand van de 1ste t/m de laatste dag van de maand en
B29: dien je achteraf uiterlijk voor de 15e van de volgende maand. Declaraties die
B30: op of na de 15e worden ingediend worden pas de maand daarop gecontroleerd
B31: en verwerkt.
A32: 9. | B32: De declaratie dien je op de gebruikelijke manier in via Synergy. Hierbij voeg je
B33: dit bestand toe als bijlage en geef je in Synergy het aantal te declareren
B34: kilometers aan. Dit moet overeenkomen met het aantal volgens dit bestand.
A35: 10. | B35: Gebruik het gehele jaar hetzelfde bestand, zodat ook de maanden ervoor terug
B36: te zien zijn.

Sheet Januari
A1: Declaratieformulier reiskostenvergoeding
A3: Klik hier voor uitleg van het formulier
A5: Naam medewerker | D5: naam
A6: Postcode huisadres | D6: 1235
A7: Postcode werkadres | D7: 5678CD
A8: Woon-werk kilometers enkele reisafstand | D8: 0
A9: Maand / jaar | D9: Januari | E9: 2022
G12: Aantal km | H12: Enkele reis/ | I12: Km woon- | J12: Km | K12: Overig | L12: Totaal | M12: Toelichting
A13: Dag | C13: Te declareren | D13: Postcode van | E13: Postcode naar | F13: Reisdoel | G13: enkele reis | H13: retour | I13: werk | J13: zakelijk
A14: 1 | B14: a. | I14: =IF(C14=Gegevensblad!$A$2,$D$8*2,"") | J14: =IF(C14=Gegevensblad!$A$3,IF(H14=Gegevensblad!$A$29,G14*1,G14*2),"")
B15: b. | I15: =IF(C15=Gegevensblad!$A$2,$D$8*2,"") | J15: =IF(C15=Gegevensblad!$A$3,IF(H15=Gegevensblad!$A$29,G15*1,G15*2),"")
B16: c. | I16: =IF(C16=Gegevensblad!$A$2,$D$8*2,"") | J16: =IF(C16=Gegevensblad!$A$3,IF(H16=Gegevensblad!$A$29,G16*1,G16*2),"")
B17: d. | I17: =IF(C17=Gegevensblad!$A$2,$D$8*2,"") | J17: =IF(C17=Gegevensblad!$A$3,IF(H17=Gegevensblad!$A$29,G17*1,G17*2),"")
A18: 2 | B18: a. | I18: =IF(C18=Gegevensblad!$A$2,$D$8*2,"") | J18: =IF(C18=Gegevensblad!$A$3,IF(H18=Gegevensblad!$A$29,G18*1,G18*2),"")
B19: b. | I19: =IF(C19=Gegevensblad!$A$2,$D$8*2,"") | J19: =IF(C19=Gegevensblad!$A$3,IF(H19=Gegevensblad!$A$29,G19*1,G19*2),"")
B20: c. | I20: =IF(C20=Gegevensblad!$A$2,$D$8*2,"") | J20: =IF(C20=Gegevensblad!$A$3,IF(H20=Gegevensblad!$A$29,G20*1,G20*2),"")
B21: d. | I21: =IF(C21=Gegevensblad!$A$2,$D$8*2,"") | J21: =IF(C21=Gegevensblad!$A$3,IF(H21=Gegevensblad!$A$29,G21*1,G21*2),"")
A22: 3 | B22: a. | I22: =IF(C22=Gegevensblad!$A$2,$D$8*2,"") | J22: =IF(C22=Gegevensblad!$A$3,IF(H22=Gegevensblad!$A$29,G22*1,G22*2),"")
B23: b. | I23: =IF(C23=Gegevensblad!$A$2,$D$8*2,"") | J23: =IF(C23=Gegevensblad!$A$3,IF(H23=Gegevensblad!$A$29,G23*1,G23*2),"")
B24: c. | I24: =IF(C24=Gegevensblad!$A$2,$D$8*2,"") | J24: =IF(C24=Gegevensblad!$A$3,IF(H24=Gegevensblad!$A$29,G24*1,G24*2),"")
B25: d. | I25: =IF(C25=Gegevensblad!$A$2,$D$8*2,"") | J25: =IF(C25=Gegevensblad!$A$3,IF(H25=Gegevensblad!$A$29,G25*1,G25*2),"")
A26: 4 | B26: a. | I26: =IF(C26=Gegevensblad!$A$2,$D$8*2,"") | J26: =IF(C26=Gegevensblad!$A$3,IF(H26=Gegevensblad!$A$29,G26*1,G26*2),"")
B27: b. | I27: =IF(C27=Gegevensblad!$A$2,$D$8*2,"") | J27: =IF(C27=Gegevensblad!$A$3,IF(H27=Gegevensblad!$A$29,G27*1,G27*2),"")
B28: c. | I28: =IF(C28=Gegevensblad!$A$2,$D$8*2,"") | J28: =IF(C28=Gegevensblad!$A$3,IF(H28=Gegevensblad!$A$29,G28*1,G28*2),"")
B29: d. | I29: =IF(C29=Gegevensblad!$A$2,$D$8*2,"") | J29: =IF(C29=Gegevensblad!$A$3,IF(H29=Gegevensblad!$A$29,G29*1,G29*2),"")
A30: 5 | B30: a. | I30: =IF(C30=Gegevensblad!$A$2,$D$8*2,"") | J30: =IF(C30=Gegevensblad!$A$3,IF(H30=Gegevensblad!$A$29,G30*1,G30*2),"")
B31: b. | I31: =IF(C31=Gegevensblad!$A$2,$D$8*2,"") | J31: =IF(C31=Gegevensblad!$A$3,IF(H31=Gegevensblad!$A$29,G31*1,G31*2),"")
B32: c. | I32: =IF(C32=Gegevensblad!$A$2,$D$8*2,"") | J32: =IF(C32=Gegevensblad!$A$3,IF(H32=Gegevensblad!$A$29,G32*1,G32*2),"")
B33: d. | I33: =IF(C33=Gegevensblad!$A$2,$D$8*2,"") | J33: =IF(C33=Gegevensblad!$A$3,IF(H33=Gegevensblad!$A$29,G33*1,G33*2),"")
A34: 6 | B34: a. | I34: =IF(C34=Gegevensblad!$A$2,$D$8*2,"") | J34: =IF(C34=Gegevensblad!$A$3,IF(H34=Gegevensblad!$A$29,G34*1,G34*2),"")
B35: b. | I35: =IF(C35=Gegevensblad!$A$2,$D$8*2,"") | J35: =IF(C35=Gegevensblad!$A$3,IF(H35=Gegevensblad!$A$29,G35*1,G35*2),"")
B36: c. | I36: =IF(C36=Gegevensblad!$A$2,$D$8*2,"") | J36: =IF(C36=Gegevensblad!$A$3,IF(H36=Gegevensblad!$A$29,G36*1,G36*2),"")
B37: d. | I37: =IF(C37=Gegevensblad!$A$2,$D$8*2,"") | J37: =IF(C37=Gegevensblad!$A$3,IF(H37=Gegevensblad!$A$29,G37*1,G37*2),"")
A38: 7 | B38: a. | I38: =IF(C38=Gegevensblad!$A$2,$D$8*2,"") | J38: =IF(C38=Gegevensblad!$A$3,IF(H38=Gegevensblad!$A$29,G38*1,G38*2),"")
B39: b. | I39: =IF(C39=Gegevensblad!$A$2,$D$8*2,"") | J39: =IF(C39=Gegevensblad!$A$3,IF(H39=Gegevensblad!$A$29,G39*1,G39*2),"")
B40: c. | I40: =IF(C40=Gegevensblad!$A$2,$D$8*2,"") | J40: =IF(C40=Gegevensblad!$A$3,IF(H40=Gegevensblad!$A$29,G40*1,G40*2),"")
B41: d. | I41: =IF(C41=Gegevensblad!$A$2,$D$8*2,"") | J41: =IF(C41=Gegevensblad!$A$3,IF(H41=Gegevensblad!$A$29,G41*1,G41*2),"")
A42: 8 | B42: a. | I42: =IF(C42=Gegevensblad!$A$2,$D$8*2,"") | J42: =IF(C42=Gegevensblad!$A$3,IF(H42=Gegevensblad!$A$29,G42*1,G42*2),"")
B43: b. | I43: =IF(C43=Gegevensblad!$A$2,$D$8*2,"") | J43: =IF(C43=Gegevensblad!$A$3,IF(H43=Gegevensblad!$A$29,G43*1,G43*2),"")
B44: c. | I44: =IF(C44=Gegevensblad!$A$2,$D$8*2,"") | J44: =IF(C44=Gegevensblad!$A$3,IF(H44=Gegevensblad!$A$29,G44*1,G44*2),"")
B45: d. | I45: =IF(C45=Gegevensblad!$A$2,$D$8*2,"") | J45: =IF(C45=Gegevensblad!$A$3,IF(H45=Gegevensblad!$A$29,G45*1,G45*2),"")
A46: 9 | B46: a. | I46: =IF(C46=Gegevensblad!$A$2,$D$8*2,"") | J46: =IF(C46=Gegevensblad!$A$3,IF(H46=Gegevensblad!$A$29,G46*1,G46*2),"")
B47: b. | I47: =IF(C47=Gegevensblad!$A$2,$D$8*2,"") | J47: =IF(C47=Gegevensblad!$A$3,IF(H47=Gegevensblad!$A$29,G47*1,G47*2),"")
B48: c. | I48: =IF(C48=Gegevensblad!$A$2,$D$8*2,"") | J48: =IF(C48=Gegevensblad!$A$3,IF(H48=Gegevensblad!$A$29,G48*1,G48*2),"")
B49: d. | I49: =IF(C49=Gegevensblad!$A$2,$D$8*2,"") | J49: =IF(C49=Gegevensblad!$A$3,IF(H49=Gegevensblad!$A$29,G49*1,G49*2),"")
A50: 10 | B50: a. | I50: =IF(C50=Gegevensblad!$A$2,$D$8*2,"") | J50: =IF(C50=Gegevensblad!$A$3,IF(H50=Gegevensblad!$A$29,G50*1,G50*2),"")
B51: b. | I51: =IF(C51=Gegevensblad!$A$2,$D$8*2,"") | J51: =IF(C51=Gegevensblad!$A$3,IF(H51=Gegevensblad!$A$29,G51*1,G51*2),"")
B52: c. | I52: =IF(C52=Gegevensblad!$A$2,$D$8*2,"") | J52: =IF(C52=Gegevensblad!$A$3,IF(H52=Gegevensblad!$A$29,G52*1,G52*2),"")
B53: d. | I53: =IF(C53=Gegevensblad!$A$2,$D$8*2,"") | J53: =IF(C53=Gegevensblad!$A$3,IF(H53=Gegevensblad!$A$29,G53*1,G53*2),"")
A54: 11 | B54: a. | I54: =IF(C54=Gegevensblad!$A$2,$D$8*2,"") | J54: =IF(C54=Gegevensblad!$A$3,IF(H54=Gegevensblad!$A$29,G54*1,G54*2),"")
B55: b. | I55: =IF(C55=Gegevensblad!$A$2,$D$8*2,"") | J55: =IF(C55=Gegevensblad!$A$3,IF(H55=Gegevensblad!$A$29,G55*1,G55*2),"")
B56: c. | I56: =IF(C56=Gegevensblad!$A$2,$D$8*2,"") | J56: =IF(C56=Gegevensblad!$A$3,IF(H56=Gegevensblad!$A$29,G56*1,G56*2),"")
B57: d. | I57: =IF(C57=Gegevensblad!$A$2,$D$8*2,"") | J57: =IF(C57=Gegevensblad!$A$3,IF(H57=Gegevensblad!$A$29,G57*1,G57*2),"")
A58: 12 | B58: a. | I58: =IF(C58=Gegevensblad!$A$2,$D$8*2,"") | J58: =IF(C58=Gegevensblad!$A$3,IF(H58=Gegevensblad!$A$29,G58*1,G58*2),"")
B59: b. | I59: =IF(C59=Gegevensblad!$A$2,$D$8*2,"") | J59: =IF(C59=Gegevensblad!$A$3,IF(H59=Gegevensblad!$A$29,G59*1,G59*2),"")
B60: c. | I60: =IF(C60=Gegevensblad!$A$2,$D$8*2,"") | J60: =IF(C60=Gegevensblad!$A$3,IF(H60=Gegevensblad!$A$29,G60*1,G60*2),"")
B61: d. | I61: =IF(C61=Gegevensblad!$A$2,$D$8*2,"") | J61: =IF(C61=Gegevensblad!$A$3,IF(H61=Gegevensblad!$A$29,G61*1,G61*2),"")
A62: 13 | B62: a. | I62: =IF(C62=Gegevensblad!$A$2,$D$8*2,"") | J62: =IF(C62=Gegevensblad!$A$3,IF(H62=Gegevensblad!$A$29,G62*1,G62*2),"")
B63: b. | I63: =IF(C63=Gegevensblad!$A$2,$D$8*2,"") | J63: =IF(C63=Gegevensblad!$A$3,IF(H63=Gegevensblad!$A$29,G63*1,G63*2),"")
B64: c. | I64: =IF(C64=Gegevensblad!$A$2,$D$8*2,"") | J64: =IF(C64=Gegevensblad!$A$3,IF(H64=Gegevensblad!$A$29,G64*1,G64*2),"")
B65: d. | I65: =IF(C65=Gegevensblad!$A$2,$D$8*2,"") | J65: =IF(C65=Gegevensblad!$A$3,IF(H65=Gegevensblad!$A$29,G65*1,G65*2),"")
A66: 14 | B66: a. | I66: =IF(C66=Gegevensblad!$A$2,$D$8*2,"") | J66: =IF(C66=Gegevensblad!$A$3,IF(H66=Gegevensblad!$A$29,G66*1,G66*2),"")
B67: b. | I67: =IF(C67=Gegevensblad!$A$2,$D$8*2,"") | J67: =IF(C67=Gegevensblad!$A$3,IF(H67=Gegevensblad!$A$29,G67*1,G67*2),"")
B68: c. | I68: =IF(C68=Gegevensblad!$A$2,$D$8*2,"") | J68: =IF(C68=Gegevensblad!$A$3,IF(H68=Gegevensblad!$A$29,G68*1,G68*2),"")
B69: d. | I69: =IF(C69=Gegevensblad!$A$2,$D$8*2,"") | J69: =IF(C69=Gegevensblad!$A$3,IF(H69=Gegevensblad!$A$29,G69*1,G69*2),"")
A70: 15 | B70: a. | I70: =IF(C70=Gegevensblad!$A$2,$D$8*2,"") | J70: =IF(C70=Gegevensblad!$A$3,IF(H70=Gegevensblad!$A$29,G70*1,G70*2),"")
B71: b. | I71: =IF(C71=Gegevensblad!$A$2,$D$8*2,"") | J71: =IF(C71=Gegevensblad!$A$3,IF(H71=Gegevensblad!$A$29,G71*1,G71*2),"")
B72: c. | I72: =IF(C72=Gegevensblad!$A$2,$D$8*2,"") | J72: =IF(C72=Gegevensblad!$A$3,IF(H72=Gegevensblad!$A$29,G72*1,G72*2),"")
B73: d. | I73: =IF(C73=Gegevensblad!$A$2,$D$8*2,"") | J73: =IF(C73=Gegevensblad!$A$3,IF(H73=Gegevensblad!$A$29,G73*1,G73*2),"")
A74: 16 | B74: a. | I74: =IF(C74=Gegevensblad!$A$2,$D$8*2,"") | J74: =IF(C74=Gegevensblad!$A$3,IF(H74=Gegevensblad!$A$29,G74*1,G74*2),"")
B75: b. | I75: =IF(C75=Gegevensblad!$A$2,$D$8*2,"") | J75: =IF(C75=Gegevensblad!$A$3,IF(H75=Gegevensblad!$A$29,G75*1,G75*2),"")
B76: c. | I76: =IF(C76=Gegevensblad!$A$2,$D$8*2,"") | J76: =IF(C76=Gegevensblad!$A$3,IF(H76=Gegevensblad!$A$29,G76*1,G76*2),"")
B77: d. | I77: =IF(C77=Gegevensblad!$A$2,$D$8*2,"") | J77: =IF(C77=Gegevensblad!$A$3,IF(H77=Gegevensblad!$A$29,G77*1,G77*2),"")
A78: 17 | B78: a. | I78: =IF(C78=Gegevensblad!$A$2,$D$8*2,"") | J78: =IF(C78=Gegevensblad!$A$3,IF(H78=Gegevensblad!$A$29,G78*1,G78*2),"")
B79: b. | I79: =IF(C79=Gegevensblad!$A$2,$D$8*2,"") | J79: =IF(C79=Gegevensblad!$A$3,IF(H79=Gegevensblad!$A$29,G79*1,G79*2),"")
B80: c. | I80: =IF(C80=Gegevensblad!$A$2,$D$8*2,"") | J80: =IF(C80=Gegevensblad!$A$3,IF(H80=Gegevensblad!$A$29,G80*1,G80*2),"")
B81: d. | I81: =IF(C81=Gegevensblad!$A$2,$D$8*2,"") | J81: =IF(C81=Gegevensblad!$A$3,IF(H81=Gegevensblad!$A$29,G81*1,G81*2),"")
A82: 18 | B82: a. | I82: =IF(C82=Gegevensblad!$A$2,$D$8*2,"") | J82: =IF(C82=Gegevensblad!$A$3,IF(H82=Gegevensblad!$A$29,G82*1,G82*2),"")
B83: b. | I83: =IF(C83=Gegevensblad!$A$2,$D$8*2,"") | J83: =IF(C83=Gegevensblad!$A$3,IF(H83=Gegevensblad!$A$29,G83*1,G83*2),"")
B84: c. | I84: =IF(C84=Gegevensblad!$A$2,$D$8*2,"") | J84: =IF(C84=Gegevensblad!$A$3,IF(H84=Gegevensblad!$A$29,G84*1,G84*2),"")
B85: d. | I85: =IF(C85=Gegevensblad!$A$2,$D$8*2,"") | J85: =IF(C85=Gegevensblad!$A$3,IF(H85=Gegevensblad!$A$29,G85*1,G85*2),"")
A86: 19 | B86: a. | I86: =IF(C86=Gegevensblad!$A$2,$D$8*2,"") | J86: =IF(C86=Gegevensblad!$A$3,IF(H86=Gegevensblad!$A$29,G86*1,G86*2),"")
B87: b. | I87: =IF(C87=Gegevensblad!$A$2,$D$8*2,"") | J87: =IF(C87=Gegevensblad!$A$3,IF(H87=Gegevensblad!$A$29,G87*1,G87*2),"")
B88: c. | I88: =IF(C88=Gegevensblad!$A$2,$D$8*2,"") | J88: =IF(C88=Gegevensblad!$A$3,IF(H88=Gegevensblad!$A$29,G88*1,G88*2),"")
B89: d. | I89: =IF(C89=Gegevensblad!$A$2,$D$8*2,"") | J89: =IF(C89=Gegevensblad!$A$3,IF(H89=Gegevensblad!$A$29,G89*1,G89*2),"")
A90: 20 | B90: a. | I90: =IF(C90=Gegevensblad!$A$2,$D$8*2,"") | J90: =IF(C90=Gegevensblad!$A$3,IF(H90=Gegevensblad!$A$29,G90*1,G90*2),"")
B91: b. | I91: =IF(C91=Gegevensblad!$A$2,$D$8*2,"") | J91: =IF(C91=Gegevensblad!$A$3,IF(H91=Gegevensblad!$A$29,G91*1,G91*2),"")
B92: c. | I92: =IF(C92=Gegevensblad!$A$2,$D$8*2,"") | J92: =IF(C92=Gegevensblad!$A$3,IF(H92=Gegevensblad!$A$29,G92*1,G92*2),"")
B93: d. | I93: =IF(C93=Gegevensblad!$A$2,$D$8*2,"") | J93: =IF(C93=Gegevensblad!$A$3,IF(H93=Gegevensblad!$A$29,G93*1,G93*2),"")
A94: 21 | B94: a. | I94: =IF(C94=Gegevensblad!$A$2,$D$8*2,"") | J94: =IF(C94=Gegevensblad!$A$3,IF(H94=Gegevensblad!$A$29,G94*1,G94*2),"")
B95: b. | I95: =IF(C95=Gegevensblad!$A$2,$D$8*2,"") | J95: =IF(C95=Gegevensblad!$A$3,IF(H95=Gegevensblad!$A$29,G95*1,G95*2),"")
B96: c. | I96: =IF(C96=Gegevensblad!$A$2,$D$8*2,"") | J96: =IF(C96=Gegevensblad!$A$3,IF(H96=Gegevensblad!$A$29,G96*1,G96*2),"")
B97: d. | I97: =IF(C97=Gegevensblad!$A$2,$D$8*2,"") | J97: =IF(C97=Gegevensblad!$A$3,IF(H97=Gegevensblad!$A$29,G97*1,G97*2),"")
A98: 22 | B98: a. | I98: =IF(C98=Gegevensblad!$A$2,$D$8*2,"") | J98: =IF(C98=Gegevensblad!$A$3,IF(H98=Gegevensblad!$A$29,G98*1,G98*2),"")
B99: b. | I99: =IF(C99=Gegevensblad!$A$2,$D$8*2,"") | J99: =IF(C99=Gegevensblad!$A$3,IF(H99=Gegevensblad!$A$29,G99*1,G99*2),"")
B100: c. | I100: =IF(C100=Gegevensblad!$A$2,$D$8*2,"") | J100: =IF(C100=Gegevensblad!$A$3,IF(H100=Gegevensblad!$A$29,G100*1,G100*2),"")
B101: d. | I101: =IF(C101=Gegevensblad!$A$2,$D$8*2,"") | J101: =IF(C101=Gegevensblad!$A$3,IF(H101=Gegevensblad!$A$29,G101*1,G101*2),"")
A102: 23 | B102: a. | I102: =IF(C102=Gegevensblad!$A$2,$D$8*2,"") | J102: =IF(C102=Gegevensblad!$A$3,IF(H102=Gegevensblad!$A$29,G102*1,G102*2),"")
B103: b. | I103: =IF(C103=Gegevensblad!$A$2,$D$8*2,"") | J103: =IF(C103=Gegevensblad!$A$3,IF(H103=Gegevensblad!$A$29,G103*1,G103*2),"")
B104: c. | I104: =IF(C104=Gegevensblad!$A$2,$D$8*2,"") | J104: =IF(C104=Gegevensblad!$A$3,IF(H104=Gegevensblad!$A$29,G104*1,G104*2),"")
...

Sheet Februari
A1: Declaratieformulier reiskostenvergoeding
A3: Klik hier voor uitleg van het formulier
A5: Naam medewerker | D5: =Januari!D5 -> naam
A6: Postcode huisadres | D6: =Januari!D6 -> 1235
A7: Postcode werkadres | D7: =Januari!D7 -> 5678CD
A8: Woon-werk kilometers enkele reisafstand | D8: =Januari!D8 -> 0
A9: Maand / jaar | D9: Februari | E9: 2022
G12: Aantal km | H12: Enkele reis/ | I12: Km woon- | J12: Km | K12: Overig | L12: Totaal | M12: Toelichting
A13: Dag | C13: Te declareren | D13: Postcode van | E13: Postcode naar | F13: Reisdoel | G13: enkele reis | H13: retour | I13: werk | J13: zakelijk
A14: 1 | B14: a. | I14: =IF(C14=Gegevensblad!$A$2,$D$8*2,"") | J14: =IF(C14=Gegevensblad!$A$3,IF(H14=Gegevensblad!$A$29,G14*1,G14*2),"")
B15: b. | I15: =IF(C15=Gegevensblad!$A$2,$D$8*2,"") | J15: =IF(C15=Gegevensblad!$A$3,IF(H15=Gegevensblad!$A$29,G15*1,G15*2),"")
B16: c. | I16: =IF(C16=Gegevensblad!$A$2,$D$8*2,"") | J16: =IF(C16=Gegevensblad!$A$3,IF(H16=Gegevensblad!$A$29,G16*1,G16*2),"")
B17: d. | I17: =IF(C17=Gegevensblad!$A$2,$D$8*2,"") | J17: =IF(C17=Gegevensblad!$A$3,IF(H17=Gegevensblad!$A$29,G17*1,G17*2),"")
A18: 2 | B18: a. | I18: =IF(C18=Gegevensblad!$A$2,$D$8*2,"") | J18: =IF(C18=Gegevensblad!$A$3,IF(H18=Gegevensblad!$A$29,G18*1,G18*2),"")
B19: b. | I19: =IF(C19=Gegevensblad!$A$2,$D$8*2,"") | J19: =IF(C19=Gegevensblad!$A$3,IF(H19=Gegevensblad!$A$29,G19*1,G19*2),"")
B20: c. | I20: =IF(C20=Gegevensblad!$A$2,$D$8*2,"") | J20: =IF(C20=Gegevensblad!$A$3,IF(H20=Gegevensblad!$A$29,G20*1,G20*2),"")
B21: d. | I21: =IF(C21=Gegevensblad!$A$2,$D$8*2,"") | J21: =IF(C21=Gegevensblad!$A$3,IF(H21=Gegevensblad!$A$29,G21*1,G21*2),"")
A22: 3 | B22: a. | I22: =IF(C22=Gegevensblad!$A$2,$D$8*2,"") | J22: =IF(C22=Gegevensblad!$A$3,IF(H22=Gegevensblad!$A$29,G22*1,G22*2),"")
B23: b. | I23: =IF(C23=Gegevensblad!$A$2,$D$8*2,"") | J23: =IF(C23=Gegevensblad!$A$3,IF(H23=Gegevensblad!$A$29,G23*1,G23*2),"")
B24: c. | I24: =IF(C24=Gegevensblad!$A$2,$D$8*2,"") | J24: =IF(C24=Gegevensblad!$A$3,IF(H24=Gegevensblad!$A$29,G24*1,G24*2),"")
B25: d. | I25: =IF(C25=Gegevensblad!$A$2,$D$8*2,"") | J25: =IF(C25=Gegevensblad!$A$3,IF(H25=Gegevensblad!$A$29,G25*1,G25*2),"")
A26: 4 | B26: a. | I26: =IF(C26=Gegevensblad!$A$2,$D$8*2,"") | J26: =IF(C26=Gegevensblad!$A$3,IF(H26=Gegevensblad!$A$29,G26*1,G26*2),"")
B27: b. | I27: =IF(C27=Gegevensblad!$A$2,$D$8*2,"") | J27: =IF(C27=Gegevensblad!$A$3,IF(H27=Gegevensblad!$A$29,G27*1,G27*2),"")
B28: c. | I28: =IF(C28=Gegevensblad!$A$2,$D$8*2,"") | J28: =IF(C28=Gegevensblad!$A$3,IF(H28=Gegevensblad!$A$29,G28*1,G28*2),"")
B29: d. | I29: =IF(C29=Gegevensblad!$A$2,$D$8*2,"") | J29: =IF(C29=Gegevensblad!$A$3,IF(H29=Gegevensblad!$A$29,G29*1,G29*2),"")
A30: 5 | B30: a. | I30: =IF(C30=Gegevensblad!$A$2,$D$8*2,"") | J30: =IF(C30=Gegevensblad!$A$3,IF(H30=Gegevensblad!$A$29,G30*1,G30*2),"")
B31: b. | I31: =IF(C31=Gegevensblad!$A$2,$D$8*2,"") | J31: =IF(C31=Gegevensblad!$A$3,IF(H31=Gegevensblad!$A$29,G31*1,G31*2),"")
B32: c. | I32: =IF(C32=Gegevensblad!$A$2,$D$8*2,"") | J32: =IF(C32=Gegevensblad!$A$3,IF(H32=Gegevensblad!$A$29,G32*1,G32*2),"")
B33: d. | I33: =IF(C33=Gegevensblad!$A$2,$D$8*2,"") | J33: =IF(C33=Gegevensblad!$A$3,IF(H33=Gegevensblad!$A$29,G33*1,G33*2),"")
A34: 6 | B34: a. | I34: =IF(C34=Gegevensblad!$A$2,$D$8*2,"") | J34: =IF(C34=Gegevensblad!$A$3,IF(H34=Gegevensblad!$A$29,G34*1,G34*2),"")
B35: b. | I35: =IF(C35=Gegevensblad!$A$2,$D$8*2,"") | J35: =IF(C35=Gegevensblad!$A$3,IF(H35=Gegevensblad!$A$29,G35*1,G35*2),"")
B36: c. | I36: =IF(C36=Gegevensblad!$A$2,$D$8*2,"") | J36: =IF(C36=Gegevensblad!$A$3,IF(H36=Gegevensblad!$A$29,G36*1,G36*2),"")
B37: d. | I37: =IF(C37=Gegevensblad!$A$2,$D$8*2,"") | J37: =IF(C37=Gegevensblad!$A$3,IF(H37=Gegevensblad!$A$29,G37*1,G37*2),"")
A38: 7 | B38: a. | I38: =IF(C38=Gegevensblad!$A$2,$D$8*2,"") | J38: =IF(C38=Gegevensblad!$A$3,IF(H38=Gegevensblad!$A$29,G38*1,G38*2),"")
B39: b. | I39: =IF(C39=Gegevensblad!$A$2,$D$8*2,"") | J39: =IF(C39=Gegevensblad!$A$3,IF(H39=Gegevensblad!$A$29,G39*1,G39*2),"")
B40: c. | I40: =IF(C40=Gegevensblad!$A$2,$D$8*2,"") | J40: =IF(C40=Gegevensblad!$A$3,IF(H40=Gegevensblad!$A$29,G40*1,G40*2),"")
B41: d. | I41: =IF(C41=Gegevensblad!$A$2,$D$8*2,"") | J41: =IF(C41=Gegevensblad!$A$3,IF(H41=Gegevensblad!$A$29,G41*1,G41*2),"")
A42: 8 | B42: a. | I42: =IF(C42=Gegevensblad!$A$2,$D$8*2,"") | J42: =IF(C42=Gegevensblad!$A$3,IF(H42=Gegevensblad!$A$29,G42*1,G42*2),"")
B43: b. | I43: =IF(C43=Gegevensblad!$A$2,$D$8*2,"") | J43: =IF(C43=Gegevensblad!$A$3,IF(H43=Gegevensblad!$A$29,G43*1,G43*2),"")
B44: c. | I44: =IF(C44=Gegevensblad!$A$2,$D$8*2,"") | J44: =IF(C44=Gegevensblad!$A$3,IF(H44=Gegevensblad!$A$29,G44*1,G44*2),"")
B45: d. | I45: =IF(C45=Gegevensblad!$A$2,$D$8*2,"") | J45: =IF(C45=Gegevensblad!$A$3,IF(H45=Gegevensblad!$A$29,G45*1,G45*2),"")
A46: 9 | B46: a. | I46: =IF(C46=Gegevensblad!$A$2,$D$8*2,"") | J46: =IF(C46=Gegevensblad!$A$3,IF(H46=Gegevensblad!$A$29,G46*1,G46*2),"")
B47: b. | I47: =IF(C47=Gegevensblad!$A$2,$D$8*2,"") | J47: =IF(C47=Gegevensblad!$A$3,IF(H47=Gegevensblad!$A$29,G47*1,G47*2),"")
B48: c. | I48: =IF(C48=Gegevensblad!$A$2,$D$8*2,"") | J48: =IF(C48=Gegevensblad!$A$3,IF(H48=Gegevensblad!$A$29,G48*1,G48*2),"")
B49: d. | I49: =IF(C49=Gegevensblad!$A$2,$D$8*2,"") | J49: =IF(C49=Gegevensblad!$A$3,IF(H49=Gegevensblad!$A$29,G49*1,G49*2),"")
A50: 10 | B50: a. | I50: =IF(C50=Gegevensblad!$A$2,$D$8*2,"") | J50: =IF(C50=Gegevensblad!$A$3,IF(H50=Gegevensblad!$A$29,G50*1,G50*2),"")
B51: b. | I51: =IF(C51=Gegevensblad!$A$2,$D$8*2,"") | J51: =IF(C51=Gegevensblad!$A$3,IF(H51=Gegevensblad!$A$29,G51*1,G51*2),"")
B52: c. | I52: =IF(C52=Gegevensblad!$A$2,$D$8*2,"") | J52: =IF(C52=Gegevensblad!$A$3,IF(H52=Gegevensblad!$A$29,G52*1,G52*2),"")
B53: d. | I53: =IF(C53=Gegevensblad!$A$2,$D$8*2,"") | J53: =IF(C53=Gegevensblad!$A$3,IF(H53=Gegevensblad!$A$29,G53*1,G53*2),"")
A54: 11 | B54: a. | I54: =IF(C54=Gegevensblad!$A$2,$D$8*2,"") | J54: =IF(C54=Gegevensblad!$A$3,IF(H54=Gegevensblad!$A$29,G54*1,G54*2),"")
B55: b. | I55: =IF(C55=Gegevensblad!$A$2,$D$8*2,"") | J55: =IF(C55=Gegevensblad!$A$3,IF(H55=Gegevensblad!$A$29,G55*1,G55*2),"")
B56: c. | I56: =IF(C56=Gegevensblad!$A$2,$D$8*2,"") | J56: =IF(C56=Gegevensblad!$A$3,IF(H56=Gegevensblad!$A$29,G56*1,G56*2),"")
B57: d. | I57: =IF(C57=Gegevensblad!$A$2,$D$8*2,"") | J57: =IF(C57=Gegevensblad!$A$3,IF(H57=Gegevensblad!$A$29,G57*1,G57*2),"")
A58: 12 | B58: a. | I58: =IF(C58=Gegevensblad!$A$2,$D$8*2,"") | J58: =IF(C58=Gegevensblad!$A$3,IF(H58=Gegevensblad!$A$29,G58*1,G58*2),"")
B59: b. | I59: =IF(C59=Gegevensblad!$A$2,$D$8*2,"") | J59: =IF(C59=Gegevensblad!$A$3,IF(H59=Gegevensblad!$A$29,G59*1,G59*2),"")
B60: c. | I60: =IF(C60=Gegevensblad!$A$2,$D$8*2,"") | J60: =IF(C60=Gegevensblad!$A$3,IF(H60=Gegevensblad!$A$29,G60*1,G60*2),"")
B61: d. | I61: =IF(C61=Gegevensblad!$A$2,$D$8*2,"") | J61: =IF(C61=Gegevensblad!$A$3,IF(H61=Gegevensblad!$A$29,G61*1,G61*2),"")
A62: 13 | B62: a. | I62: =IF(C62=Gegevensblad!$A$2,$D$8*2,"") | J62: =IF(C62=Gegevensblad!$A$3,IF(H62=Gegevensblad!$A$29,G62*1,G62*2),"")
B63: b. | I63: =IF(C63=Gegevensblad!$A$2,$D$8*2,"") | J63: =IF(C63=Gegevensblad!$A$3,IF(H63=Gegevensblad!$A$29,G63*1,G63*2),"")
B64: c. | I64: =IF(C64=Gegevensblad!$A$2,$D$8*2,"") | J64: =IF(C64=Gegevensblad!$A$3,IF(H64=Gegevensblad!$A$29,G64*1,G64*2),"")
B65: d. | I65: =IF(C65=Gegevensblad!$A$2,$D$8*2,"") | J65: =IF(C65=Gegevensblad!$A$3,IF(H65=Gegevensblad!$A$29,G65*1,G65*2),"")
A66: 14 | B66: a. | I66: =IF(C66=Gegevensblad!$A$2,$D$8*2,"") | J66: =IF(C66=Gegevensblad!$A$3,IF(H66=Gegevensblad!$A$29,G66*1,G66*2),"")
B67: b. | I67: =IF(C67=Gegevensblad!$A$2,$D$8*2,"") | J67: =IF(C67=Gegevensblad!$A$3,IF(H67=Gegevensblad!$A$29,G67*1,G67*2),"")
B68: c. | I68: =IF(C68=Gegevensblad!$A$2,$D$8*2,"") | J68: =IF(C68=Gegevensblad!$A$3,IF(H68=Gegevensblad!$A$29,G68*1,G68*2),"")
B69: d. | I69: =IF(C69=Gegevensblad!$A$2,$D$8*2,"") | J69: =IF(C69=Gegevensblad!$A$3,IF(H69=Gegevensblad!$A$29,G69*1,G69*2),"")
A70: 15 | B70: a. | I70: =IF(C70=Gegevensblad!$A$2,$D$8*2,"") | J70: =IF(C70=Gegevensblad!$A$3,IF(H70=Gegevensblad!$A$29,G70*1,G70*2),"")
B71: b. | I71: =IF(C71=Gegevensblad!$A$2,$D$8*2,"") | J71: =IF(C71=Gegevensblad!$A$3,IF(H71=Gegevensblad!$A$29,G71*1,G71*2),"")
B72: c. | I72: =IF(C72=Gegevensblad!$A$2,$D$8*2,"") | J72: =IF(C72=Gegevensblad!$A$3,IF(H72=Gegevensblad!$A$29,G72*1,G72*2),"")
B73: d. | I73: =IF(C73=Gegevensblad!$A$2,$D$8*2,"") | J73: =IF(C73=Gegevensblad!$A$3,IF(H73=Gegevensblad!$A$29,G73*1,G73*2),"")
A74: 16 | B74: a. | I74: =IF(C74=Gegevensblad!$A$2,$D$8*2,"") | J74: =IF(C74=Gegevensblad!$A$3,IF(H74=Gegevensblad!$A$29,G74*1,G74*2),"")
B75: b. | I75: =IF(C75=Gegevensblad!$A$2,$D$8*2,"") | J75: =IF(C75=Gegevensblad!$A$3,IF(H75=Gegevensblad!$A$29,G75*1,G75*2),"")
B76: c. | I76: =IF(C76=Gegevensblad!$A$2,$D$8*2,"") | J76: =IF(C76=Gegevensblad!$A$3,IF(H76=Gegevensblad!$A$29,G76*1,G76*2),"")
B77: d. | I77: =IF(C77=Gegevensblad!$A$2,$D$8*2,"") | J77: =IF(C77=Gegevensblad!$A$3,IF(H77=Gegevensblad!$A$29,G77*1,G77*2),"")
A78: 17 | B78: a. | I78: =IF(C78=Gegevensblad!$A$2,$D$8*2,"") | J78: =IF(C78=Gegevensblad!$A$3,IF(H78=Gegevensblad!$A$29,G78*1,G78*2),"")
B79: b. | I79: =IF(C79=Gegevensblad!$A$2,$D$8*2,"") | J79: =IF(C79=Gegevensblad!$A$3,IF(H79=Gegevensblad!$A$29,G79*1,G79*2),"")
B80: c. | I80: =IF(C80=Gegevensblad!$A$2,$D$8*2,"") | J80: =IF(C80=Gegevensblad!$A$3,IF(H80=Gegevensblad!$A$29,G80*1,G80*2),"")
B81: d. | I81: =IF(C81=Gegevensblad!$A$2,$D$8*2,"") | J81: =IF(C81=Gegevensblad!$A$3,IF(H81=Gegevensblad!$A$29,G81*1,G81*2),"")
A82: 18 | B82: a. | I82: =IF(C82=Gegevensblad!$A$2,$D$8*2,"") | J82: =IF(C82=Gegevensblad!$A$3,IF(H82=Gegevensblad!$A$29,G82*1,G82*2),"")
B83: b. | I83: =IF(C83=Gegevensblad!$A$2,$D$8*2,"") | J83: =IF(C83=Gegevensblad!$A$3,IF(H83=Gegevensblad!$A$29,G83*1,G83*2),"")
B84: c. | I84: =IF(C84=Gegevensblad!$A$2,$D$8*2,"") | J84: =IF(C84=Gegevensblad!$A$3,IF(H84=Gegevensblad!$A$29,G84*1,G84*2),"")
B85: d. | I85: =IF(C85=Gegevensblad!$A$2,$D$8*2,"") | J85: =IF(C85=Gegevensblad!$A$3,IF(H85=Gegevensblad!$A$29,G85*1,G85*2),"")
A86: 19 | B86: a. | I86: =IF(C86=Gegevensblad!$A$2,$D$8*2,"") | J86: =IF(C86=Gegevensblad!$A$3,IF(H86=Gegevensblad!$A$29,G86*1,G86*2),"")
B87: b. | I87: =IF(C87=Gegevensblad!$A$2,$D$8*2,"") | J87: =IF(C87=Gegevensblad!$A$3,IF(H87=Gegevensblad!$A$29,G87*1,G87*2),"")
B88: c. | I88: =IF(C88=Gegevensblad!$A$2,$D$8*2,"") | J88: =IF(C88=Gegevensblad!$A$3,IF(H88=Gegevensblad!$A$29,G88*1,G88*2),"")
B89: d. | I89: =IF(C89=Gegevensblad!$A$2,$D$8*2,"") | J89: =IF(C89=Gegevensblad!$A$3,IF(H89=Gegevensblad!$A$29,G89*1,G89*2),"")
A90: 20 | B90: a. | I90: =IF(C90=Gegevensblad!$A$2,$D$8*2,"") | J90: =IF(C90=Gegevensblad!$A$3,IF(H90=Gegevensblad!$A$29,G90*1,G90*2),"")
B91: b. | I91: =IF(C91=Gegevensblad!$A$2,$D$8*2,"") | J91: =IF(C91=Gegevensblad!$A$3,IF(H91=Gegevensblad!$A$29,G91*1,G91*2),"")
B92: c. | I92: =IF(C92=Gegevensblad!$A$2,$D$8*2,"") | J92: =IF(C92=Gegevensblad!$A$3,IF(H92=Gegevensblad!$A$29,G92*1,G92*2),"")
B93: d. | I93: =IF(C93=Gegevensblad!$A$2,$D$8*2,"") | J93: =IF(C93=Gegevensblad!$A$3,IF(H93=Gegevensblad!$A$29,G93*1,G93*2),"")
A94: 21 | B94: a. | I94: =IF(C94=Gegevensblad!$A$2,$D$8*2,"") | J94: =IF(C94=Gegevensblad!$A$3,IF(H94=Gegevensblad!$A$29,G94*1,G94*2),"")
B95: b. | I95: =IF(C95=Gegevensblad!$A$2,$D$8*2,"") | J95: =IF(C95=Gegevensblad!$A$3,IF(H95=Gegevensblad!$A$29,G95*1,G95*2),"")
B96: c. | I96: =IF(C96=Gegevensblad!$A$2,$D$8*2,"") | J96: =IF(C96=Gegevensblad!$A$3,IF(H96=Gegevensblad!$A$29,G96*1,G96*2),"")
B97: d. | I97: =IF(C97=Gegevensblad!$A$2,$D$8*2,"") | J97: =IF(C97=Gegevensblad!$A$3,IF(H97=Gegevensblad!$A$29,G97*1,G97*2),"")
A98: 22 | B98: a. | I98: =IF(C98=Gegevensblad!$A$2,$D$8*2,"") | J98: =IF(C98=Gegevensblad!$A$3,IF(H98=Gegevensblad!$A$29,G98*1,G98*2),"")
B99: b. | I99: =IF(C99=Gegevensblad!$A$2,$D$8*2,"") | J99: =IF(C99=Gegevensblad!$A$3,IF(H99=Gegevensblad!$A$29,G99*1,G99*2),"")
B100: c. | I100: =IF(C100=Gegevensblad!$A$2,$D$8*2,"") | J100: =IF(C100=Gegevensblad!$A$3,IF(H100=Gegevensblad!$A$29,G100*1,G100*2),"")
B101: d. | I101: =IF(C101=Gegevensblad!$A$2,$D$8*2,"") | J101: =IF(C101=Gegevensblad!$A$3,IF(H101=Gegevensblad!$A$29,G101*1,G101*2),"")
A102: 23 | B102: a. | I102: =IF(C102=Gegevensblad!$A$2,$D$8*2,"") | J102: =IF(C102=Gegevensblad!$A$3,IF(H102=Gegevensblad!$A$29,G102*1,G102*2),"")
B103: b. | I103: =IF(C103=Gegevensblad!$A$2,$D$8*2,"") | J103: =IF(C103=Gegevensblad!$A$3,IF(H103=Gegevensblad!$A$29,G103*1,G103*2),"")
B104: c. | I104: =IF(C104=Gegevensblad!$A$2,$D$8*2,"") | J104: =IF(C104=Gegevensblad!$A$3,IF(H104=Gegevensblad!$A$29,G104*1,G104*2),"")
...

Sheet Maart
A1: Declaratieformulier reiskostenvergoeding
A3: Klik hier voor uitleg van het formulier
A5: Naam medewerker | D5: =Januari!D5 -> naam
A6: Postcode huisadres | D6: =Januari!D6 -> 1235
A7: Postcode werkadres | D7: =Januari!D7 -> 5678CD
A8: Woon-werk kilometers enkele reisafstand | D8: =Januari!D8 -> 0
A9: Maand / jaar | D9: Maart | E9: 2022
G12: Aantal km | H12: Enkele reis/ | I12: Km woon- | J12: Km | K12: Overig | L12: Totaal | M12: Toelichting
A13: Dag | C13: Te declareren | D13: Postcode van | E13: Postcode naar | F13: Reisdoel | G13: enkele reis | H13: retour | I13: werk | J13: zakelijk
A14: 1 | B14: a. | I14: =IF(C14=Gegevensblad!$A$2,$D$8*2,"") | J14: =IF(C14=Gegevensblad!$A$3,IF(H14=Gegevensblad!$A$29,G14*1,G14*2),"")
B15: b. | I15: =IF(C15=Gegevensblad!$A$2,$D$8*2,"") | J15: =IF(C15=Gegevensblad!$A$3,IF(H15=Gegevensblad!$A$29,G15*1,G15*2),"")
B16: c. | I16: =IF(C16=Gegevensblad!$A$2,$D$8*2,"") | J16: =IF(C16=Gegevensblad!$A$3,IF(H16=Gegevensblad!$A$29,G16*1,G16*2),"")
B17: d. | I17: =IF(C17=Gegevensblad!$A$2,$D$8*2,"") | J17: =IF(C17=Gegevensblad!$A$3,IF(H17=Gegevensblad!$A$29,G17*1,G17*2),"")
A18: 2 | B18: a. | I18: =IF(C18=Gegevensblad!$A$2,$D$8*2,"") | J18: =IF(C18=Gegevensblad!$A$3,IF(H18=Gegevensblad!$A$29,G18*1,G18*2),"")
B19: b. | I19: =IF(C19=Gegevensblad!$A$2,$D$8*2,"") | J19: =IF(C19=Gegevensblad!$A$3,IF(H19=Gegevensblad!$A$29,G19*1,G19*2),"")
B20: c. | I20: =IF(C20=Gegevensblad!$A$2,$D$8*2,"") | J20: =IF(C20=Gegevensblad!$A$3,IF(H20=Gegevensblad!$A$29,G20*1,G20*2),"")
B21: d. | I21: =IF(C21=Gegevensblad!$A$2,$D$8*2,"") | J21: =IF(C21=Gegevensblad!$A$3,IF(H21=Gegevensblad!$A$29,G21*1,G21*2),"")
A22: 3 | B22: a. | I22: =IF(C22=Gegevensblad!$A$2,$D$8*2,"") | J22: =IF(C22=Gegevensblad!$A$3,IF(H22=Gegevensblad!$A$29,G22*1,G22*2),"")
B23: b. | I23: =IF(C23=Gegevensblad!$A$2,$D$8*2,"") | J23: =IF(C23=Gegevensblad!$A$3,IF(H23=Gegevensblad!$A$29,G23*1,G23*2),"")
B24: c. | I24: =IF(C24=Gegevensblad!$A$2,$D$8*2,"") | J24: =IF(C24=Gegevensblad!$A$3,IF(H24=Gegevensblad!$A$29,G24*1,G24*2),"")
B25: d. | I25: =IF(C25=Gegevensblad!$A$2,$D$8*2,"") | J25: =IF(C25=Gegevensblad!$A$3,IF(H25=Gegevensblad!$A$29,G25*1,G25*2),"")
A26: 4 | B26: a. | I26: =IF(C26=Gegevensblad!$A$2,$D$8*2,"") | J26: =IF(C26=Gegevensblad!$A$3,IF(H26=Gegevensblad!$A$29,G26*1,G26*2),"")
B27: b. | I27: =IF(C27=Gegevensblad!$A$2,$D$8*2,"") | J27: =IF(C27=Gegevensblad!$A$3,IF(H27=Gegevensblad!$A$29,G27*1,G27*2),"")
B28: c. | I28: =IF(C28=Gegevensblad!$A$2,$D$8*2,"") | J28: =IF(C28=Gegevensblad!$A$3,IF(H28=Gegevensblad!$A$29,G28*1,G28*2),"")
B29: d. | I29: =IF(C29=Gegevensblad!$A$2,$D$8*2,"") | J29: =IF(C29=Gegevensblad!$A$3,IF(H29=Gegevensblad!$A$29,G29*1,G29*2),"")
A30: 5 | B30: a. | I30: =IF(C30=Gegevensblad!$A$2,$D$8*2,"") | J30: =IF(C30=Gegevensblad!$A$3,IF(H30=Gegevensblad!$A$29,G30*1,G30*2),"")
B31: b. | I31: =IF(C31=Gegevensblad!$A$2,$D$8*2,"") | J31: =IF(C31=Gegevensblad!$A$3,IF(H31=Gegevensblad!$A$29,G31*1,G31*2),"")
B32: c. | I32: =IF(C32=Gegevensblad!$A$2,$D$8*2,"") | J32: =IF(C32=Gegevensblad!$A$3,IF(H32=Gegevensblad!$A$29,G32*1,G32*2),"")
B33: d. | I33: =IF(C33=Gegevensblad!$A$2,$D$8*2,"") | J33: =IF(C33=Gegevensblad!$A$3,IF(H33=Gegevensblad!$A$29,G33*1,G33*2),"")
A34: 6 | B34: a. | I34: =IF(C34=Gegevensblad!$A$2,$D$8*2,"") | J34: =IF(C34=Gegevensblad!$A$3,IF(H34=Gegevensblad!$A$29,G34*1,G34*2),"")
B35: b. | I35: =IF(C35=Gegevensblad!$A$2,$D$8*2,"") | J35: =IF(C35=Gegevensblad!$A$3,IF(H35=Gegevensblad!$A$29,G35*1,G35*2),"")
B36: c. | I36: =IF(C36=Gegevensblad!$A$2,$D$8*2,"") | J36: =IF(C36=Gegevensblad!$A$3,IF(H36=Gegevensblad!$A$29,G36*1,G36*2),"")
B37: d. | I37: =IF(C37=Gegevensblad!$A$2,$D$8*2,"") | J37: =IF(C37=Gegevensblad!$A$3,IF(H37=Gegevensblad!$A$29,G37*1,G37*2),"")
A38: 7 | B38: a. | I38: =IF(C38=Gegevensblad!$A$2,$D$8*2,"") | J38: =IF(C38=Gegevensblad!$A$3,IF(H38=Gegevensblad!$A$29,G38*1,G38*2),"")
B39: b. | I39: =IF(C39=Gegevensblad!$A$2,$D$8*2,"") | J39: =IF(C39=Gegevensblad!$A$3,IF(H39=Gegevensblad!$A$29,G39*1,G39*2),"")
B40: c. | I40: =IF(C40=Gegevensblad!$A$2,$D$8*2,"") | J40: =IF(C40=Gegevensblad!$A$3,IF(H40=Gegevensblad!$A$29,G40*1,G40*2),"")
B41: d. | I41: =IF(C41=Gegevensblad!$A$2,$D$8*2,"") | J41: =IF(C41=Gegevensblad!$A$3,IF(H41=Gegevensblad!$A$29,G41*1,G41*2),"")
A42: 8 | B42: a. | I42: =IF(C42=Gegevensblad!$A$2,$D$8*2,"") | J42: =IF(C42=Gegevensblad!$A$3,IF(H42=Gegevensblad!$A$29,G42*1,G42*2),"")
B43: b. | I43: =IF(C43=Gegevensblad!$A$2,$D$8*2,"") | J43: =IF(C43=Gegevensblad!$A$3,IF(H43=Gegevensblad!$A$29,G43*1,G43*2),"")
B44: c. | I44: =IF(C44=Gegevensblad!$A$2,$D$8*2,"") | J44: =IF(C44=Gegevensblad!$A$3,IF(H44=Gegevensblad!$A$29,G44*1,G44*2),"")
B45: d. | I45: =IF(C45=Gegevensblad!$A$2,$D$8*2,"") | J45: =IF(C45=Gegevensblad!$A$3,IF(H45=Gegevensblad!$A$29,G45*1,G45*2),"")
A46: 9 | B46: a. | I46: =IF(C46=Gegevensblad!$A$2,$D$8*2,"") | J46: =IF(C46=Gegevensblad!$A$3,IF(H46=Gegevensblad!$A$29,G46*1,G46*2),"")
B47: b. | I47: =IF(C47=Gegevensblad!$A$2,$D$8*2,"") | J47: =IF(C47=Gegevensblad!$A$3,IF(H47=Gegevensblad!$A$29,G47*1,G47*2),"")
B48: c. | I48: =IF(C48=Gegevensblad!$A$2,$D$8*2,"") | J48: =IF(C48=Gegevensblad!$A$3,IF(H48=Gegevensblad!$A$29,G48*1,G48*2),"")
B49: d. | I49: =IF(C49=Gegevensblad!$A$2,$D$8*2,"") | J49: =IF(C49=Gegevensblad!$A$3,IF(H49=Gegevensblad!$A$29,G49*1,G49*2),"")
A50: 10 | B50: a. | I50: =IF(C50=Gegevensblad!$A$2,$D$8*2,"") | J50: =IF(C50=Gegevensblad!$A$3,IF(H50=Gegevensblad!$A$29,G50*1,G50*2),"")
B51: b. | I51: =IF(C51=Gegevensblad!$A$2,$D$8*2,"") | J51: =IF(C51=Gegevensblad!$A$3,IF(H51=Gegevensblad!$A$29,G51*1,G51*2),"")
B52: c. | I52: =IF(C52=Gegevensblad!$A$2,$D$8*2,"") | J52: =IF(C52=Gegevensblad!$A$3,IF(H52=Gegevensblad!$A$29,G52*1,G52*2),"")
B53: d. | I53: =IF(C53=Gegevensblad!$A$2,$D$8*2,"") | J53: =IF(C53=Gegevensblad!$A$3,IF(H53=Gegevensblad!$A$29,G53*1,G53*2),"")
A54: 11 | B54: a. | I54: =IF(C54=Gegevensblad!$A$2,$D$8*2,"") | J54: =IF(C54=Gegevensblad!$A$3,IF(H54=Gegevensblad!$A$29,G54*1,G54*2),"")
B55: b. | I55: =IF(C55=Gegevensblad!$A$2,$D$8*2,"") | J55: =IF(C55=Gegevensblad!$A$3,IF(H55=Gegevensblad!$A$29,G55*1,G55*2),"")
B56: c. | I56: =IF(C56=Gegevensblad!$A$2,$D$8*2,"") | J56: =IF(C56=Gegevensblad!$A$3,IF(H56=Gegevensblad!$A$29,G56*1,G56*2),"")
B57: d. | I57: =IF(C57=Gegevensblad!$A$2,$D$8*2,"") | J57: =IF(C57=Gegevensblad!$A$3,IF(H57=Gegevensblad!$A$29,G57*1,G57*2),"")
A58: 12 | B58: a. | I58: =IF(C58=Gegevensblad!$A$2,$D$8*2,"") | J58: =IF(C58=Gegevensblad!$A$3,IF(H58=Gegevensblad!$A$29,G58*1,G58*2),"")
B59: b. | I59: =IF(C59=Gegevensblad!$A$2,$D$8*2,"") | J59: =IF(C59=Gegevensblad!$A$3,IF(H59=Gegevensblad!$A$29,G59*1,G59*2),"")
B60: c. | I60: =IF(C60=Gegevensblad!$A$2,$D$8*2,"") | J60: =IF(C60=Gegevensblad!$A$3,IF(H60=Gegevensblad!$A$29,G60*1,G60*2),"")
B61: d. | I61: =IF(C61=Gegevensblad!$A$2,$D$8*2,"") | J61: =IF(C61=Gegevensblad!$A$3,IF(H61=Gegevensblad!$A$29,G61*1,G61*2),"")
A62: 13 | B62: a. | I62: =IF(C62=Gegevensblad!$A$2,$D$8*2,"") | J62: =IF(C62=Gegevensblad!$A$3,IF(H62=Gegevensblad!$A$29,G62*1,G62*2),"")
B63: b. | I63: =IF(C63=Gegevensblad!$A$2,$D$8*2,"") | J63: =IF(C63=Gegevensblad!$A$3,IF(H63=Gegevensblad!$A$29,G63*1,G63*2),"")
B64: c. | I64: =IF(C64=Gegevensblad!$A$2,$D$8*2,"") | J64: =IF(C64=Gegevensblad!$A$3,IF(H64=Gegevensblad!$A$29,G64*1,G64*2),"")
B65: d. | I65: =IF(C65=Gegevensblad!$A$2,$D$8*2,"") | J65: =IF(C65=Gegevensblad!$A$3,IF(H65=Gegevensblad!$A$29,G65*1,G65*2),"")
A66: 14 | B66: a. | I66: =IF(C66=Gegevensblad!$A$2,$D$8*2,"") | J66: =IF(C66=Gegevensblad!$A$3,IF(H66=Gegevensblad!$A$29,G66*1,G66*2),"")
B67: b. | I67: =IF(C67=Gegevensblad!$A$2,$D$8*2,"") | J67: =IF(C67=Gegevensblad!$A$3,IF(H67=Gegevensblad!$A$29,G67*1,G67*2),"")
B68: c. | I68: =IF(C68=Gegevensblad!$A$2,$D$8*2,"") | J68: =IF(C68=Gegevensblad!$A$3,IF(H68=Gegevensblad!$A$29,G68*1,G68*2),"")
B69: d. | I69: =IF(C69=Gegevensblad!$A$2,$D$8*2,"") | J69: =IF(C69=Gegevensblad!$A$3,IF(H69=Gegevensblad!$A$29,G69*1,G69*2),"")
A70: 15 | B70: a. | I70: =IF(C70=Gegevensblad!$A$2,$D$8*2,"") | J70: =IF(C70=Gegevensblad!$A$3,IF(H70=Gegevensblad!$A$29,G70*1,G70*2),"")
B71: b. | I71: =IF(C71=Gegevensblad!$A$2,$D$8*2,"") | J71: =IF(C71=Gegevensblad!$A$3,IF(H71=Gegevensblad!$A$29,G71*1,G71*2),"")
B72: c. | I72: =IF(C72=Gegevensblad!$A$2,$D$8*2,"") | J72: =IF(C72=Gegevensblad!$A$3,IF(H72=Gegevensblad!$A$29,G72*1,G72*2),"")
B73: d. | I73: =IF(C73=Gegevensblad!$A$2,$D$8*2,"") | J73: =IF(C73=Gegevensblad!$A$3,IF(H73=Gegevensblad!$A$29,G73*1,G73*2),"")
A74: 16 | B74: a. | I74: =IF(C74=Gegevensblad!$A$2,$D$8*2,"") | J74: =IF(C74=Gegevensblad!$A$3,IF(H74=Gegevensblad!$A$29,G74*1,G74*2),"")
B75: b. | I75: =IF(C75=Gegevensblad!$A$2,$D$8*2,"") | J75: =IF(C75=Gegevensblad!$A$3,IF(H75=Gegevensblad!$A$29,G75*1,G75*2),"")
B76: c. | I76: =IF(C76=Gegevensblad!$A$2,$D$8*2,"") | J76: =IF(C76=Gegevensblad!$A$3,IF(H76=Gegevensblad!$A$29,G76*1,G76*2),"")
B77: d. | I77: =IF(C77=Gegevensblad!$A$2,$D$8*2,"") | J77: =IF(C77=Gegevensblad!$A$3,IF(H77=Gegevensblad!$A$29,G77*1,G77*2),"")
A78: 17 | B78: a. | I78: =IF(C78=Gegevensblad!$A$2,$D$8*2,"") | J78: =IF(C78=Gegevensblad!$A$3,IF(H78=Gegevensblad!$A$29,G78*1,G78*2),"")
B79: b. | I79: =IF(C79=Gegevensblad!$A$2,$D$8*2,"") | J79: =IF(C79=Gegevensblad!$A$3,IF(H79=Gegevensblad!$A$29,G79*1,G79*2),"")
B80: c. | I80: =IF(C80=Gegevensblad!$A$2,$D$8*2,"") | J80: =IF(C80=Gegevensblad!$A$3,IF(H80=Gegevensblad!$A$29,G80*1,G80*2),"")
B81: d. | I81: =IF(C81=Gegevensblad!$A$2,$D$8*2,"") | J81: =IF(C81=Gegevensblad!$A$3,IF(H81=Gegevensblad!$A$29,G81*1,G81*2),"")
A82: 18 | B82: a. | I82: =IF(C82=Gegevensblad!$A$2,$D$8*2,"") | J82: =IF(C82=Gegevensblad!$A$3,IF(H82=Gegevensblad!$A$29,G82*1,G82*2),"")
B83: b. | I83: =IF(C83=Gegevensblad!$A$2,$D$8*2,"") | J83: =IF(C83=Gegevensblad!$A$3,IF(H83=Gegevensblad!$A$29,G83*1,G83*2),"")
B84: c. | I84: =IF(C84=Gegevensblad!$A$2,$D$8*2,"") | J84: =IF(C84=Gegevensblad!$A$3,IF(H84=Gegevensblad!$A$29,G84*1,G84*2),"")
B85: d. | I85: =IF(C85=Gegevensblad!$A$2,$D$8*2,"") | J85: =IF(C85=Gegevensblad!$A$3,IF(H85=Gegevensblad!$A$29,G85*1,G85*2),"")
A86: 19 | B86: a. | I86: =IF(C86=Gegevensblad!$A$2,$D$8*2,"") | J86: =IF(C86=Gegevensblad!$A$3,IF(H86=Gegevensblad!$A$29,G86*1,G86*2),"")
B87: b. | I87: =IF(C87=Gegevensblad!$A$2,$D$8*2,"") | J87: =IF(C87=Gegevensblad!$A$3,IF(H87=Gegevensblad!$A$29,G87*1,G87*2),"")
B88: c. | I88: =IF(C88=Gegevensblad!$A$2,$D$8*2,"") | J88: =IF(C88=Gegevensblad!$A$3,IF(H88=Gegevensblad!$A$29,G88*1,G88*2),"")
B89: d. | I89: =IF(C89=Gegevensblad!$A$2,$D$8*2,"") | J89: =IF(C89=Gegevensblad!$A$3,IF(H89=Gegevensblad!$A$29,G89*1,G89*2),"")
A90: 20 | B90: a. | I90: =IF(C90=Gegevensblad!$A$2,$D$8*2,"") | J90: =IF(C90=Gegevensblad!$A$3,IF(H90=Gegevensblad!$A$29,G90*1,G90*2),"")
B91: b. | I91: =IF(C91=Gegevensblad!$A$2,$D$8*2,"") | J91: =IF(C91=Gegevensblad!$A$3,IF(H91=Gegevensblad!$A$29,G91*1,G91*2),"")
B92: c. | I92: =IF(C92=Gegevensblad!$A$2,$D$8*2,"") | J92: =IF(C92=Gegevensblad!$A$3,IF(H92=Gegevensblad!$A$29,G92*1,G92*2),"")
B93: d. | I93: =IF(C93=Gegevensblad!$A$2,$D$8*2,"") | J93: =IF(C93=Gegevensblad!$A$3,IF(H93=Gegevensblad!$A$29,G93*1,G93*2),"")
A94: 21 | B94: a. | I94: =IF(C94=Gegevensblad!$A$2,$D$8*2,"") | J94: =IF(C94=Gegevensblad!$A$3,IF(H94=Gegevensblad!$A$29,G94*1,G94*2),"")
B95: b. | I95: =IF(C95=Gegevensblad!$A$2,$D$8*2,"") | J95: =IF(C95=Gegevensblad!$A$3,IF(H95=Gegevensblad!$A$29,G95*1,G95*2),"")
B96: c. | I96: =IF(C96=Gegevensblad!$A$2,$D$8*2,"") | J96: =IF(C96=Gegevensblad!$A$3,IF(H96=Gegevensblad!$A$29,G96*1,G96*2),"")
B97: d. | I97: =IF(C97=Gegevensblad!$A$2,$D$8*2,"") | J97: =IF(C97=Gegevensblad!$A$3,IF(H97=Gegevensblad!$A$29,G97*1,G97*2),"")
A98: 22 | B98: a. | I98: =IF(C98=Gegevensblad!$A$2,$D$8*2,"") | J98: =IF(C98=Gegevensblad!$A$3,IF(H98=Gegevensblad!$A$29,G98*1,G98*2),"")
B99: b. | I99: =IF(C99=Gegevensblad!$A$2,$D$8*2,"") | J99: =IF(C99=Gegevensblad!$A$3,IF(H99=Gegevensblad!$A$29,G99*1,G99*2),"")
B100: c. | I100: =IF(C100=Gegevensblad!$A$2,$D$8*2,"") | J100: =IF(C100=Gegevensblad!$A$3,IF(H100=Gegevensblad!$A$29,G100*1,G100*2),"")
B101: d. | I101: =IF(C101=Gegevensblad!$A$2,$D$8*2,"") | J101: =IF(C101=Gegevensblad!$A$3,IF(H101=Gegevensblad!$A$29,G101*1,G101*2),"")
A102: 23 | B102: a. | I102: =IF(C102=Gegevensblad!$A$2,$D$8*2,"") | J102: =IF(C102=Gegevensblad!$A$3,IF(H102=Gegevensblad!$A$29,G102*1,G102*2),"")
B103: b. | I103: =IF(C103=Gegevensblad!$A$2,$D$8*2,"") | J103: =IF(C103=Gegevensblad!$A$3,IF(H103=Gegevensblad!$A$29,G103*1,G103*2),"")
B104: c. | I104: =IF(C104=Gegevensblad!$A$2,$D$8*2,"") | J104: =IF(C104=Gegevensblad!$A$3,IF(H104=Gegevensblad!$A$29,G104*1,G104*2),"")
...

Sheet April
A1: Declaratieformulier reiskostenvergoeding
A3: Klik hier voor uitleg van het formulier
A5: Naam medewerker | D5: =Januari!D5 -> naam
A6: Postcode huisadres | D6: =Januari!D6 -> 1235
A7: Postcode werkadres | D7: =Januari!D7 -> 5678CD
A8: Woon-werk kilometers enkele reisafstand | D8: =Januari!D8 -> 0
A9: Maand / jaar | D9: April | E9: 2022
G12: Aantal km | H12: Enkele reis/ | I12: Km woon- | J12: Km | K12: Overig | L12: Totaal | M12: Toelichting
A13: Dag | C13: Te declareren | D13: Postcode van | E13: Postcode naar | F13: Reisdoel | G13: enkele reis | H13: retour | I13: werk | J13: zakelijk
A14: 1 | B14: a. | I14: =IF(C14=Gegevensblad!$A$2,$D$8*2,"") | J14: =IF(C14=Gegevensblad!$A$3,IF(H14=Gegevensblad!$A$29,G14*1,G14*2),"")
B15: b. | I15: =IF(C15=Gegevensblad!$A$2,$D$8*2,"") | J15: =IF(C15=Gegevensblad!$A$3,IF(H15=Gegevensblad!$A$29,G15*1,G15*2),"")
B16: c. | I16: =IF(C16=Gegevensblad!$A$2,$D$8*2,"") | J16: =IF(C16=Gegevensblad!$A$3,IF(H16=Gegevensblad!$A$29,G16*1,G16*2),"")
B17: d. | I17: =IF(C17=Gegevensblad!$A$2,$D$8*2,"") | J17: =IF(C17=Gegevensblad!$A$3,IF(H17=Gegevensblad!$A$29,G17*1,G17*2),"")
A18: 2 | B18: a. | I18: =IF(C18=Gegevensblad!$A$2,$D$8*2,"") | J18: =IF(C18=Gegevensblad!$A$3,IF(H18=Gegevensblad!$A$29,G18*1,G18*2),"")
B19: b. | I19: =IF(C19=Gegevensblad!$A$2,$D$8*2,"") | J19: =IF(C19=Gegevensblad!$A$3,IF(H19=Gegevensblad!$A$29,G19*1,G19*2),"")
B20: c. | I20: =IF(C20=Gegevensblad!$A$2,$D$8*2,"") | J20: =IF(C20=Gegevensblad!$A$3,IF(H20=Gegevensblad!$A$29,G20*1,G20*2),"")
B21: d. | I21: =IF(C21=Gegevensblad!$A$2,$D$8*2,"") | J21: =IF(C21=Gegevensblad!$A$3,IF(H21=Gegevensblad!$A$29,G21*1,G21*2),"")
A22: 3 | B22: a. | I22: =IF(C22=Gegevensblad!$A$2,$D$8*2,"") | J22: =IF(C22=Gegevensblad!$A$3,IF(H22=Gegevensblad!$A$29,G22*1,G22*2),"")
B23: b. | I23: =IF(C23=Gegevensblad!$A$2,$D$8*2,"") | J23: =IF(C23=Gegevensblad!$A$3,IF(H23=Gegevensblad!$A$29,G23*1,G23*2),"")
B24: c. | I24: =IF(C24=Gegevensblad!$A$2,$D$8*2,"") | J24: =IF(C24=Gegevensblad!$A$3,IF(H24=Gegevensblad!$A$29,G24*1,G24*2),"")
B25: d. | I25: =IF(C25=Gegevensblad!$A$2,$D$8*2,"") | J25: =IF(C25=Gegevensblad!$A$3,IF(H25=Gegevensblad!$A$29,G25*1,G25*2),"")
A26: 4 | B26: a. | I26: =IF(C26=Gegevensblad!$A$2,$D$8*2,"") | J26: =IF(C26=Gegevensblad!$A$3,IF(H26=Gegevensblad!$A$29,G26*1,G26*2),"")
B27: b. | I27: =IF(C27=Gegevensblad!$A$2,$D$8*2,"") | J27: =IF(C27=Gegevensblad!$A$3,IF(H27=Gegevensblad!$A$29,G27*1,G27*2),"")
B28: c. | I28: =IF(C28=Gegevensblad!$A$2,$D$8*2,"") | J28: =IF(C28=Gegevensblad!$A$3,IF(H28=Gegevensblad!$A$29,G28*1,G28*2),"")
B29: d. | I29: =IF(C29=Gegevensblad!$A$2,$D$8*2,"") | J29: =IF(C29=Gegevensblad!$A$3,IF(H29=Gegevensblad!$A$29,G29*1,G29*2),"")
A30: 5 | B30: a. | I30: =IF(C30=Gegevensblad!$A$2,$D$8*2,"") | J30: =IF(C30=Gegevensblad!$A$3,IF(H30=Gegevensblad!$A$29,G30*1,G30*2),"")
B31: b. | I31: =IF(C31=Gegevensblad!$A$2,$D$8*2,"") | J31: =IF(C31=Gegevensblad!$A$3,IF(H31=Gegevensblad!$A$29,G31*1,G31*2),"")
B32: c. | I32: =IF(C32=Gegevensblad!$A$2,$D$8*2,"") | J32: =IF(C32=Gegevensblad!$A$3,IF(H32=Gegevensblad!$A$29,G32*1,G32*2),"")
B33: d. | I33: =IF(C33=Gegevensblad!$A$2,$D$8*2,"") | J33: =IF(C33=Gegevensblad!$A$3,IF(H33=Gegevensblad!$A$29,G33*1,G33*2),"")
A34: 6 | B34: a. | I34: =IF(C34=Gegevensblad!$A$2,$D$8*2,"") | J34: =IF(C34=Gegevensblad!$A$3,IF(H34=Gegevensblad!$A$29,G34*1,G34*2),"")
B35: b. | I35: =IF(C35=Gegevensblad!$A$2,$D$8*2,"") | J35: =IF(C35=Gegevensblad!$A$3,IF(H35=Gegevensblad!$A$29,G35*1,G35*2),"")
B36: c. | I36: =IF(C36=Gegevensblad!$A$2,$D$8*2,"") | J36: =IF(C36=Gegevensblad!$A$3,IF(H36=Gegevensblad!$A$29,G36*1,G36*2),"")
B37: d. | I37: =IF(C37=Gegevensblad!$A$2,$D$8*2,"") | J37: =IF(C37=Gegevensblad!$A$3,IF(H37=Gegevensblad!$A$29,G37*1,G37*2),"")
A38: 7 | B38: a. | I38: =IF(C38=Gegevensblad!$A$2,$D$8*2,"") | J38: =IF(C38=Gegevensblad!$A$3,IF(H38=Gegevensblad!$A$29,G38*1,G38*2),"")
B39: b. | I39: =IF(C39=Gegevensblad!$A$2,$D$8*2,"") | J39: =IF(C39=Gegevensblad!$A$3,IF(H39=Gegevensblad!$A$29,G39*1,G39*2),"")
B40: c. | I40: =IF(C40=Gegevensblad!$A$2,$D$8*2,"") | J40: =IF(C40=Gegevensblad!$A$3,IF(H40=Gegevensblad!$A$29,G40*1,G40*2),"")
B41: d. | I41: =IF(C41=Gegevensblad!$A$2,$D$8*2,"") | J41: =IF(C41=Gegevensblad!$A$3,IF(H41=Gegevensblad!$A$29,G41*1,G41*2),"")
A42: 8 | B42: a. | I42: =IF(C42=Gegevensblad!$A$2,$D$8*2,"") | J42: =IF(C42=Gegevensblad!$A$3,IF(H42=Gegevensblad!$A$29,G42*1,G42*2),"")
B43: b. | I43: =IF(C43=Gegevensblad!$A$2,$D$8*2,"") | J43: =IF(C43=Gegevensblad!$A$3,IF(H43=Gegevensblad!$A$29,G43*1,G43*2),"")
B44: c. | I44: =IF(C44=Gegevensblad!$A$2,$D$8*2,"") | J44: =IF(C44=Gegevensblad!$A$3,IF(H44=Gegevensblad!$A$29,G44*1,G44*2),"")
B45: d. | I45: =IF(C45=Gegevensblad!$A$2,$D$8*2,"") | J45: =IF(C45=Gegevensblad!$A$3,IF(H45=Gegevensblad!$A$29,G45*1,G45*2),"")
A46: 9 | B46: a. | I46: =IF(C46=Gegevensblad!$A$2,$D$8*2,"") | J46: =IF(C46=Gegevensblad!$A$3,IF(H46=Gegevensblad!$A$29,G46*1,G46*2),"")
B47: b. | I47: =IF(C47=Gegevensblad!$A$2,$D$8*2,"") | J47: =IF(C47=Gegevensblad!$A$3,IF(H47=Gegevensblad!$A$29,G47*1,G47*2),"")
B48: c. | I48: =IF(C48=Gegevensblad!$A$2,$D$8*2,"") | J48: =IF(C48=Gegevensblad!$A$3,IF(H48=Gegevensblad!$A$29,G48*1,G48*2),"")
B49: d. | I49: =IF(C49=Gegevensblad!$A$2,$D$8*2,"") | J49: =IF(C49=Gegevensblad!$A$3,IF(H49=Gegevensblad!$A$29,G49*1,G49*2),"")
A50: 10 | B50: a. | I50: =IF(C50=Gegevensblad!$A$2,$D$8*2,"") | J50: =IF(C50=Gegevensblad!$A$3,IF(H50=Gegevensblad!$A$29,G50*1,G50*2),"")
B51: b. | I51: =IF(C51=Gegevensblad!$A$2,$D$8*2,"") | J51: =IF(C51=Gegevensblad!$A$3,IF(H51=Gegevensblad!$A$29,G51*1,G51*2),"")
B52: c. | I52: =IF(C52=Gegevensblad!$A$2,$D$8*2,"") | J52: =IF(C52=Gegevensblad!$A$3,IF(H52=Gegevensblad!$A$29,G52*1,G52*2),"")
B53: d. | I53: =IF(C53=Gegevensblad!$A$2,$D$8*2,"") | J53: =IF(C53=Gegevensblad!$A$3,IF(H53=Gegevensblad!$A$29,G53*1,G53*2),"")
A54: 11 | B54: a. | I54: =IF(C54=Gegevensblad!$A$2,$D$8*2,"") | J54: =IF(C54=Gegevensblad!$A$3,IF(H54=Gegevensblad!$A$29,G54*1,G54*2),"")
B55: b. | I55: =IF(C55=Gegevensblad!$A$2,$D$8*2,"") | J55: =IF(C55=Gegevensblad!$A$3,IF(H55=Gegevensblad!$A$29,G55*1,G55*2),"")
B56: c. | I56: =IF(C56=Gegevensblad!$A$2,$D$8*2,"") | J56: =IF(C56=Gegevensblad!$A$3,IF(H56=Gegevensblad!$A$29,G56*1,G56*2),"")
B57: d. | I57: =IF(C57=Gegevensblad!$A$2,$D$8*2,"") | J57: =IF(C57=Gegevensblad!$A$3,IF(H57=Gegevensblad!$A$29,G57*1,G57*2),"")
A58: 12 | B58: a. | I58: =IF(C58=Gegevensblad!$A$2,$D$8*2,"") | J58: =IF(C58=Gegevensblad!$A$3,IF(H58=Gegevensblad!$A$29,G58*1,G58*2),"")
B59: b. | I59: =IF(C59=Gegevensblad!$A$2,$D$8*2,"") | J59: =IF(C59=Gegevensblad!$A$3,IF(H59=Gegevensblad!$A$29,G59*1,G59*2),"")
B60: c. | I60: =IF(C60=Gegevensblad!$A$2,$D$8*2,"") | J60: =IF(C60=Gegevensblad!$A$3,IF(H60=Gegevensblad!$A$29,G60*1,G60*2),"")
B61: d. | I61: =IF(C61=Gegevensblad!$A$2,$D$8*2,"") | J61: =IF(C61=Gegevensblad!$A$3,IF(H61=Gegevensblad!$A$29,G61*1,G61*2),"")
A62: 13 | B62: a. | I62: =IF(C62=Gegevensblad!$A$2,$D$8*2,"") | J62: =IF(C62=Gegevensblad!$A$3,IF(H62=Gegevensblad!$A$29,G62*1,G62*2),"")
B63: b. | I63: =IF(C63=Gegevensblad!$A$2,$D$8*2,"") | J63: =IF(C63=Gegevensblad!$A$3,IF(H63=Gegevensblad!$A$29,G63*1,G63*2),"")
B64: c. | I64: =IF(C64=Gegevensblad!$A$2,$D$8*2,"") | J64: =IF(C64=Gegevensblad!$A$3,IF(H64=Gegevensblad!$A$29,G64*1,G64*2),"")
B65: d. | I65: =IF(C65=Gegevensblad!$A$2,$D$8*2,"") | J65: =IF(C65=Gegevensblad!$A$3,IF(H65=Gegevensblad!$A$29,G65*1,G65*2),"")
A66: 14 | B66: a. | I66: =IF(C66=Gegevensblad!$A$2,$D$8*2,"") | J66: =IF(C66=Gegevensblad!$A$3,IF(H66=Gegevensblad!$A$29,G66*1,G66*2),"")
B67: b. | I67: =IF(C67=Gegevensblad!$A$2,$D$8*2,"") | J67: =IF(C67=Gegevensblad!$A$3,IF(H67=Gegevensblad!$A$29,G67*1,G67*2),"")
B68: c. | I68: =IF(C68=Gegevensblad!$A$2,$D$8*2,"") | J68: =IF(C68=Gegevensblad!$A$3,IF(H68=Gegevensblad!$A$29,G68*1,G68*2),"")
B69: d. | I69: =IF(C69=Gegevensblad!$A$2,$D$8*2,"") | J69: =IF(C69=Gegevensblad!$A$3,IF(H69=Gegevensblad!$A$29,G69*1,G69*2),"")
A70: 15 | B70: a. | I70: =IF(C70=Gegevensblad!$A$2,$D$8*2,"") | J70: =IF(C70=Gegevensblad!$A$3,IF(H70=Gegevensblad!$A$29,G70*1,G70*2),"")
B71: b. | I71: =IF(C71=Gegevensblad!$A$2,$D$8*2,"") | J71: =IF(C71=Gegevensblad!$A$3,IF(H71=Gegevensblad!$A$29,G71*1,G71*2),"")
B72: c. | I72: =IF(C72=Gegevensblad!$A$2,$D$8*2,"") | J72: =IF(C72=Gegevensblad!$A$3,IF(H72=Gegevensblad!$A$29,G72*1,G72*2),"")
B73: d. | I73: =IF(C73=Gegevensblad!$A$2,$D$8*2,"") | J73: =IF(C73=Gegevensblad!$A$3,IF(H73=Gegevensblad!$A$29,G73*1,G73*2),"")
A74: 16 | B74: a. | I74: =IF(C74=Gegevensblad!$A$2,$D$8*2,"") | J74: =IF(C74=Gegevensblad!$A$3,IF(H74=Gegevensblad!$A$29,G74*1,G74*2),"")
B75: b. | I75: =IF(C75=Gegevensblad!$A$2,$D$8*2,"") | J75: =IF(C75=Gegevensblad!$A$3,IF(H75=Gegevensblad!$A$29,G75*1,G75*2),"")
B76: c. | I76: =IF(C76=Gegevensblad!$A$2,$D$8*2,"") | J76: =IF(C76=Gegevensblad!$A$3,IF(H76=Gegevensblad!$A$29,G76*1,G76*2),"")
B77: d. | I77: =IF(C77=Gegevensblad!$A$2,$D$8*2,"") | J77: =IF(C77=Gegevensblad!$A$3,IF(H77=Gegevensblad!$A$29,G77*1,G77*2),"")
A78: 17 | B78: a. | I78: =IF(C78=Gegevensblad!$A$2,$D$8*2,"") | J78: =IF(C78=Gegevensblad!$A$3,IF(H78=Gegevensblad!$A$29,G78*1,G78*2),"")
B79: b. | I79: =IF(C79=Gegevensblad!$A$2,$D$8*2,"") | J79: =IF(C79=Gegevensblad!$A$3,IF(H79=Gegevensblad!$A$29,G79*1,G79*2),"")
B80: c. | I80: =IF(C80=Gegevensblad!$A$2,$D$8*2,"") | J80: =IF(C80=Gegevensblad!$A$3,IF(H80=Gegevensblad!$A$29,G80*1,G80*2),"")
B81: d. | I81: =IF(C81=Gegevensblad!$A$2,$D$8*2,"") | J81: =IF(C81=Gegevensblad!$A$3,IF(H81=Gegevensblad!$A$29,G81*1,G81*2),"")
A82: 18 | B82: a. | I82: =IF(C82=Gegevensblad!$A$2,$D$8*2,"") | J82: =IF(C82=Gegevensblad!$A$3,IF(H82=Gegevensblad!$A$29,G82*1,G82*2),"")
B83: b. | I83: =IF(C83=Gegevensblad!$A$2,$D$8*2,"") | J83: =IF(C83=Gegevensblad!$A$3,IF(H83=Gegevensblad!$A$29,G83*1,G83*2),"")
B84: c. | I84: =IF(C84=Gegevensblad!$A$2,$D$8*2,"") | J84: =IF(C84=Gegevensblad!$A$3,IF(H84=Gegevensblad!$A$29,G84*1,G84*2),"")
B85: d. | I85: =IF(C85=Gegevensblad!$A$2,$D$8*2,"") | J85: =IF(C85=Gegevensblad!$A$3,IF(H85=Gegevensblad!$A$29,G85*1,G85*2),"")
A86: 19 | B86: a. | I86: =IF(C86=Gegevensblad!$A$2,$D$8*2,"") | J86: =IF(C86=Gegevensblad!$A$3,IF(H86=Gegevensblad!$A$29,G86*1,G86*2),"")
B87: b. | I87: =IF(C87=Gegevensblad!$A$2,$D$8*2,"") | J87: =IF(C87=Gegevensblad!$A$3,IF(H87=Gegevensblad!$A$29,G87*1,G87*2),"")
B88: c. | I88: =IF(C88=Gegevensblad!$A$2,$D$8*2,"") | J88: =IF(C88=Gegevensblad!$A$3,IF(H88=Gegevensblad!$A$29,G88*1,G88*2),"")
B89: d. | I89: =IF(C89=Gegevensblad!$A$2,$D$8*2,"") | J89: =IF(C89=Gegevensblad!$A$3,IF(H89=Gegevensblad!$A$29,G89*1,G89*2),"")
A90: 20 | B90: a. | I90: =IF(C90=Gegevensblad!$A$2,$D$8*2,"") | J90: =IF(C90=Gegevensblad!$A$3,IF(H90=Gegevensblad!$A$29,G90*1,G90*2),"")
B91: b. | I91: =IF(C91=Gegevensblad!$A$2,$D$8*2,"") | J91: =IF(C91=Gegevensblad!$A$3,IF(H91=Gegevensblad!$A$29,G91*1,G91*2),"")
B92: c. | I92: =IF(C92=Gegevensblad!$A$2,$D$8*2,"") | J92: =IF(C92=Gegevensblad!$A$3,IF(H92=Gegevensblad!$A$29,G92*1,G92*2),"")
B93: d. | I93: =IF(C93=Gegevensblad!$A$2,$D$8*2,"") | J93: =IF(C93=Gegevensblad!$A$3,IF(H93=Gegevensblad!$A$29,G93*1,G93*2),"")
A94: 21 | B94: a. | I94: =IF(C94=Gegevensblad!$A$2,$D$8*2,"") | J94: =IF(C94=Gegevensblad!$A$3,IF(H94=Gegevensblad!$A$29,G94*1,G94*2),"")
B95: b. | I95: =IF(C95=Gegevensblad!$A$2,$D$8*2,"") | J95: =IF(C95=Gegevensblad!$A$3,IF(H95=Gegevensblad!$A$29,G95*1,G95*2),"")
B96: c. | I96: =IF(C96=Gegevensblad!$A$2,$D$8*2,"") | J96: =IF(C96=Gegevensblad!$A$3,IF(H96=Gegevensblad!$A$29,G96*1,G96*2),"")
B97: d. | I97: =IF(C97=Gegevensblad!$A$2,$D$8*2,"") | J97: =IF(C97=Gegevensblad!$A$3,IF(H97=Gegevensblad!$A$29,G97*1,G97*2),"")
A98: 22 | B98: a. | I98: =IF(C98=Gegevensblad!$A$2,$D$8*2,"") | J98: =IF(C98=Gegevensblad!$A$3,IF(H98=Gegevensblad!$A$29,G98*1,G98*2),"")
B99: b. | I99: =IF(C99=Gegevensblad!$A$2,$D$8*2,"") | J99: =IF(C99=Gegevensblad!$A$3,IF(H99=Gegevensblad!$A$29,G99*1,G99*2),"")
B100: c. | I100: =IF(C100=Gegevensblad!$A$2,$D$8*2,"") | J100: =IF(C100=Gegevensblad!$A$3,IF(H100=Gegevensblad!$A$29,G100*1,G100*2),"")
B101: d. | I101: =IF(C101=Gegevensblad!$A$2,$D$8*2,"") | J101: =IF(C101=Gegevensblad!$A$3,IF(H101=Gegevensblad!$A$29,G101*1,G101*2),"")
A102: 23 | B102: a. | I102: =IF(C102=Gegevensblad!$A$2,$D$8*2,"") | J102: =IF(C102=Gegevensblad!$A$3,IF(H102=Gegevensblad!$A$29,G102*1,G102*2),"")
B103: b. | I103: =IF(C103=Gegevensblad!$A$2,$D$8*2,"") | J103: =IF(C103=Gegevensblad!$A$3,IF(H103=Gegevensblad!$A$29,G103*1,G103*2),"")
B104: c. | I104: =IF(C104=Gegevensblad!$A$2,$D$8*2,"") | J104: =IF(C104=Gegevensblad!$A$3,IF(H104=Gegevensblad!$A$29,G104*1,G104*2),"")
...

Sheet Mei
A1: Declaratieformulier reiskostenvergoeding
A3: Klik hier voor uitleg van het formulier
A5: Naam medewerker | D5: =Januari!D5 -> naam
A6: Postcode huisadres | D6: =Januari!D6 -> 1235
A7: Postcode werkadres | D7: =Januari!D7 -> 5678CD
A8: Woon-werk kilometers enkele reisafstand | D8: =Januari!D8 -> 0
A9: Maand / jaar | D9: Mei | E9: 2022
G12: Aantal km | H12: Enkele reis/ | I12: Km woon- | J12: Km | K12: Overig | L12: Totaal | M12: Toelichting
A13: Dag | C13: Te declareren | D13: Postcode van | E13: Postcode naar | F13: Reisdoel | G13: enkele reis | H13: retour | I13: werk | J13: zakelijk
A14: 1 | B14: a. | I14: =IF(C14=Gegevensblad!$A$2,$D$8*2,"") | J14: =IF(C14=Gegevensblad!$A$3,IF(H14=Gegevensblad!$A$29,G14*1,G14*2),"")
B15: b. | I15: =IF(C15=Gegevensblad!$A$2,$D$8*2,"") | J15: =IF(C15=Gegevensblad!$A$3,IF(H15=Gegevensblad!$A$29,G15*1,G15*2),"")
B16: c. | I16: =IF(C16=Gegevensblad!$A$2,$D$8*2,"") | J16: =IF(C16=Gegevensblad!$A$3,IF(H16=Gegevensblad!$A$29,G16*1,G16*2),"")
B17: d. | I17: =IF(C17=Gegevensblad!$A$2,$D$8*2,"") | J17: =IF(C17=Gegevensblad!$A$3,IF(H17=Gegevensblad!$A$29,G17*1,G17*2),"")
A18: 2 | B18: a. | I18: =IF(C18=Gegevensblad!$A$2,$D$8*2,"") | J18: =IF(C18=Gegevensblad!$A$3,IF(H18=Gegevensblad!$A$29,G18*1,G18*2),"")
B19: b. | I19: =IF(C19=Gegevensblad!$A$2,$D$8*2,"") | J19: =IF(C19=Gegevensblad!$A$3,IF(H19=Gegevensblad!$A$29,G19*1,G19*2),"")
B20: c. | I20: =IF(C20=Gegevensblad!$A$2,$D$8*2,"") | J20: =IF(C20=Gegevensblad!$A$3,IF(H20=Gegevensblad!$A$29,G20*1,G20*2),"")
B21: d. | I21: =IF(C21=Gegevensblad!$A$2,$D$8*2,"") | J21: =IF(C21=Gegevensblad!$A$3,IF(H21=Gegevensblad!$A$29,G21*1,G21*2),"")
A22: 3 | B22: a. | I22: =IF(C22=Gegevensblad!$A$2,$D$8*2,"") | J22: =IF(C22=Gegevensblad!$A$3,IF(H22=Gegevensblad!$A$29,G22*1,G22*2),"")
B23: b. | I23: =IF(C23=Gegevensblad!$A$2,$D$8*2,"") | J23: =IF(C23=Gegevensblad!$A$3,IF(H23=Gegevensblad!$A$29,G23*1,G23*2),"")
B24: c. | I24: =IF(C24=Gegevensblad!$A$2,$D$8*2,"") | J24: =IF(C24=Gegevensblad!$A$3,IF(H24=Gegevensblad!$A$29,G24*1,G24*2),"")
B25: d. | I25: =IF(C25=Gegevensblad!$A$2,$D$8*2,"") | J25: =IF(C25=Gegevensblad!$A$3,IF(H25=Gegevensblad!$A$29,G25*1,G25*2),"")
A26: 4 | B26: a. | I26: =IF(C26=Gegevensblad!$A$2,$D$8*2,"") | J26: =IF(C26=Gegevensblad!$A$3,IF(H26=Gegevensblad!$A$29,G26*1,G26*2),"")
B27: b. | I27: =IF(C27=Gegevensblad!$A$2,$D$8*2,"") | J27: =IF(C27=Gegevensblad!$A$3,IF(H27=Gegevensblad!$A$29,G27*1,G27*2),"")
B28: c. | I28: =IF(C28=Gegevensblad!$A$2,$D$8*2,"") | J28: =IF(C28=Gegevensblad!$A$3,IF(H28=Gegevensblad!$A$29,G28*1,G28*2),"")
B29: d. | I29: =IF(C29=Gegevensblad!$A$2,$D$8*2,"") | J29: =IF(C29=Gegevensblad!$A$3,IF(H29=Gegevensblad!$A$29,G29*1,G29*2),"")
A30: 5 | B30: a. | I30: =IF(C30=Gegevensblad!$A$2,$D$8*2,"") | J30: =IF(C30=Gegevensblad!$A$3,IF(H30=Gegevensblad!$A$29,G30*1,G30*2),"")
B31: b. | I31: =IF(C31=Gegevensblad!$A$2,$D$8*2,"") | J31: =IF(C31=Gegevensblad!$A$3,IF(H31=Gegevensblad!$A$29,G31*1,G31*2),"")
B32: c. | I32: =IF(C32=Gegevensblad!$A$2,$D$8*2,"") | J32: =IF(C32=Gegevensblad!$A$3,IF(H32=Gegevensblad!$A$29,G32*1,G32*2),"")
B33: d. | I33: =IF(C33=Gegevensblad!$A$2,$D$8*2,"") | J33: =IF(C33=Gegevensblad!$A$3,IF(H33=Gegevensblad!$A$29,G33*1,G33*2),"")
A34: 6 | B34: a. | I34: =IF(C34=Gegevensblad!$A$2,$D$8*2,"") | J34: =IF(C34=Gegevensblad!$A$3,IF(H34=Gegevensblad!$A$29,G34*1,G34*2),"")
B35: b. | I35: =IF(C35=Gegevensblad!$A$2,$D$8*2,"") | J35: =IF(C35=Gegevensblad!$A$3,IF(H35=Gegevensblad!$A$29,G35*1,G35*2),"")
B36: c. | I36: =IF(C36=Gegevensblad!$A$2,$D$8*2,"") | J36: =IF(C36=Gegevensblad!$A$3,IF(H36=Gegevensblad!$A$29,G36*1,G36*2),"")
B37: d. | I37: =IF(C37=Gegevensblad!$A$2,$D$8*2,"") | J37: =IF(C37=Gegevensblad!$A$3,IF(H37=Gegevensblad!$A$29,G37*1,G37*2),"")
A38: 7 | B38: a. | I38: =IF(C38=Gegevensblad!$A$2,$D$8*2,"") | J38: =IF(C38=Gegevensblad!$A$3,IF(H38=Gegevensblad!$A$29,G38*1,G38*2),"")
B39: b. | I39: =IF(C39=Gegevensblad!$A$2,$D$8*2,"") | J39: =IF(C39=Gegevensblad!$A$3,IF(H39=Gegevensblad!$A$29,G39*1,G39*2),"")
B40: c. | I40: =IF(C40=Gegevensblad!$A$2,$D$8*2,"") | J40: =IF(C40=Gegevensblad!$A$3,IF(H40=Gegevensblad!$A$29,G40*1,G40*2),"")
B41: d. | I41: =IF(C41=Gegevensblad!$A$2,$D$8*2,"") | J41: =IF(C41=Gegevensblad!$A$3,IF(H41=Gegevensblad!$A$29,G41*1,G41*2),"")
A42: 8 | B42: a. | I42: =IF(C42=Gegevensblad!$A$2,$D$8*2,"") | J42: =IF(C42=Gegevensblad!$A$3,IF(H42=Gegevensblad!$A$29,G42*1,G42*2),"")
B43: b. | I43: =IF(C43=Gegevensblad!$A$2,$D$8*2,"") | J43: =IF(C43=Gegevensblad!$A$3,IF(H43=Gegevensblad!$A$29,G43*1,G43*2),"")
B44: c. | I44: =IF(C44=Gegevensblad!$A$2,$D$8*2,"") | J44: =IF(C44=Gegevensblad!$A$3,IF(H44=Gegevensblad!$A$29,G44*1,G44*2),"")
B45: d. | I45: =IF(C45=Gegevensblad!$A$2,$D$8*2,"") | J45: =IF(C45=Gegevensblad!$A$3,IF(H45=Gegevensblad!$A$29,G45*1,G45*2),"")
A46: 9 | B46: a. | I46: =IF(C46=Gegevensblad!$A$2,$D$8*2,"") | J46: =IF(C46=Gegevensblad!$A$3,IF(H46=Gegevensblad!$A$29,G46*1,G46*2),"")
B47: b. | I47: =IF(C47=Gegevensblad!$A$2,$D$8*2,"") | J47: =IF(C47=Gegevensblad!$A$3,IF(H47=Gegevensblad!$A$29,G47*1,G47*2),"")
B48: c. | I48: =IF(C48=Gegevensblad!$A$2,$D$8*2,"") | J48: =IF(C48=Gegevensblad!$A$3,IF(H48=Gegevensblad!$A$29,G48*1,G48*2),"")
B49: d. | I49: =IF(C49=Gegevensblad!$A$2,$D$8*2,"") | J49: =IF(C49=Gegevensblad!$A$3,IF(H49=Gegevensblad!$A$29,G49*1,G49*2),"")
A50: 10 | B50: a. | I50: =IF(C50=Gegevensblad!$A$2,$D$8*2,"") | J50: =IF(C50=Gegevensblad!$A$3,IF(H50=Gegevensblad!$A$29,G50*1,G50*2),"")
B51: b. | I51: =IF(C51=Gegevensblad!$A$2,$D$8*2,"") | J51: =IF(C51=Gegevensblad!$A$3,IF(H51=Gegevensblad!$A$29,G51*1,G51*2),"")
B52: c. | I52: =IF(C52=Gegevensblad!$A$2,$D$8*2,"") | J52: =IF(C52=Gegevensblad!$A$3,IF(H52=Gegevensblad!$A$29,G52*1,G52*2),"")
B53: d. | I53: =IF(C53=Gegevensblad!$A$2,$D$8*2,"") | J53: =IF(C53=Gegevensblad!$A$3,IF(H53=Gegevensblad!$A$29,G53*1,G53*2),"")
A54: 11 | B54: a. | I54: =IF(C54=Gegevensblad!$A$2,$D$8*2,"") | J54: =IF(C54=Gegevensblad!$A$3,IF(H54=Gegevensblad!$A$29,G54*1,G54*2),"")
B55: b. | I55: =IF(C55=Gegevensblad!$A$2,$D$8*2,"") | J55: =IF(C55=Gegevensblad!$A$3,IF(H55=Gegevensblad!$A$29,G55*1,G55*2),"")
B56: c. | I56: =IF(C56=Gegevensblad!$A$2,$D$8*2,"") | J56: =IF(C56=Gegevensblad!$A$3,IF(H56=Gegevensblad!$A$29,G56*1,G56*2),"")
B57: d. | I57: =IF(C57=Gegevensblad!$A$2,$D$8*2,"") | J57: =IF(C57=Gegevensblad!$A$3,IF(H57=Gegevensblad!$A$29,G57*1,G57*2),"")
A58: 12 | B58: a. | I58: =IF(C58=Gegevensblad!$A$2,$D$8*2,"") | J58: =IF(C58=Gegevensblad!$A$3,IF(H58=Gegevensblad!$A$29,G58*1,G58*2),"")
B59: b. | I59: =IF(C59=Gegevensblad!$A$2,$D$8*2,"") | J59: =IF(C59=Gegevensblad!$A$3,IF(H59=Gegevensblad!$A$29,G59*1,G59*2),"")
B60: c. | I60: =IF(C60=Gegevensblad!$A$2,$D$8*2,"") | J60: =IF(C60=Gegevensblad!$A$3,IF(H60=Gegevensblad!$A$29,G60*1,G60*2),"")
B61: d. | I61: =IF(C61=Gegevensblad!$A$2,$D$8*2,"") | J61: =IF(C61=Gegevensblad!$A$3,IF(H61=Gegevensblad!$A$29,G61*1,G61*2),"")
A62: 13 | B62: a. | I62: =IF(C62=Gegevensblad!$A$2,$D$8*2,"") | J62: =IF(C62=Gegevensblad!$A$3,IF(H62=Gegevensblad!$A$29,G62*1,G62*2),"")
B63: b. | I63: =IF(C63=Gegevensblad!$A$2,$D$8*2,"") | J63: =IF(C63=Gegevensblad!$A$3,IF(H63=Gegevensblad!$A$29,G63*1,G63*2),"")
B64: c. | I64: =IF(C64=Gegevensblad!$A$2,$D$8*2,"") | J64: =IF(C64=Gegevensblad!$A$3,IF(H64=Gegevensblad!$A$29,G64*1,G64*2),"")
B65: d. | I65: =IF(C65=Gegevensblad!$A$2,$D$8*2,"") | J65: =IF(C65=Gegevensblad!$A$3,IF(H65=Gegevensblad!$A$29,G65*1,G65*2),"")
A66: 14 | B66: a. | I66: =IF(C66=Gegevensblad!$A$2,$D$8*2,"") | J66: =IF(C66=Gegevensblad!$A$3,IF(H66=Gegevensblad!$A$29,G66*1,G66*2),"")
B67: b. | I67: =IF(C67=Gegevensblad!$A$2,$D$8*2,"") | J67: =IF(C67=Gegevensblad!$A$3,IF(H67=Gegevensblad!$A$29,G67*1,G67*2),"")
B68: c. | I68: =IF(C68=Gegevensblad!$A$2,$D$8*2,"") | J68: =IF(C68=Gegevensblad!$A$3,IF(H68=Gegevensblad!$A$29,G68*1,G68*2),"")
B69: d. | I69: =IF(C69=Gegevensblad!$A$2,$D$8*2,"") | J69: =IF(C69=Gegevensblad!$A$3,IF(H69=Gegevensblad!$A$29,G69*1,G69*2),"")
A70: 15 | B70: a. | I70: =IF(C70=Gegevensblad!$A$2,$D$8*2,"") | J70: =IF(C70=Gegevensblad!$A$3,IF(H70=Gegevensblad!$A$29,G70*1,G70*2),"")
B71: b. | I71: =IF(C71=Gegevensblad!$A$2,$D$8*2,"") | J71: =IF(C71=Gegevensblad!$A$3,IF(H71=Gegevensblad!$A$29,G71*1,G71*2),"")
B72: c. | I72: =IF(C72=Gegevensblad!$A$2,$D$8*2,"") | J72: =IF(C72=Gegevensblad!$A$3,IF(H72=Gegevensblad!$A$29,G72*1,G72*2),"")
B73: d. | I73: =IF(C73=Gegevensblad!$A$2,$D$8*2,"") | J73: =IF(C73=Gegevensblad!$A$3,IF(H73=Gegevensblad!$A$29,G73*1,G73*2),"")
A74: 16 | B74: a. | I74: =IF(C74=Gegevensblad!$A$2,$D$8*2,"") | J74: =IF(C74=Gegevensblad!$A$3,IF(H74=Gegevensblad!$A$29,G74*1,G74*2),"")
B75: b. | I75: =IF(C75=Gegevensblad!$A$2,$D$8*2,"") | J75: =IF(C75=Gegevensblad!$A$3,IF(H75=Gegevensblad!$A$29,G75*1,G75*2),"")
B76: c. | I76: =IF(C76=Gegevensblad!$A$2,$D$8*2,"") | J76: =IF(C76=Gegevensblad!$A$3,IF(H76=Gegevensblad!$A$29,G76*1,G76*2),"")
B77: d. | I77: =IF(C77=Gegevensblad!$A$2,$D$8*2,"") | J77: =IF(C77=Gegevensblad!$A$3,IF(H77=Gegevensblad!$A$29,G77*1,G77*2),"")
A78: 17 | B78: a. | I78: =IF(C78=Gegevensblad!$A$2,$D$8*2,"") | J78: =IF(C78=Gegevensblad!$A$3,IF(H78=Gegevensblad!$A$29,G78*1,G78*2),"")
B79: b. | I79: =IF(C79=Gegevensblad!$A$2,$D$8*2,"") | J79: =IF(C79=Gegevensblad!$A$3,IF(H79=Gegevensblad!$A$29,G79*1,G79*2),"")
B80: c. | I80: =IF(C80=Gegevensblad!$A$2,$D$8*2,"") | J80: =IF(C80=Gegevensblad!$A$3,IF(H80=Gegevensblad!$A$29,G80*1,G80*2),"")
B81: d. | I81: =IF(C81=Gegevensblad!$A$2,$D$8*2,"") | J81: =IF(C81=Gegevensblad!$A$3,IF(H81=Gegevensblad!$A$29,G81*1,G81*2),"")
A82: 18 | B82: a. | I82: =IF(C82=Gegevensblad!$A$2,$D$8*2,"") | J82: =IF(C82=Gegevensblad!$A$3,IF(H82=Gegevensblad!$A$29,G82*1,G82*2),"")
B83: b. | I83: =IF(C83=Gegevensblad!$A$2,$D$8*2,"") | J83: =IF(C83=Gegevensblad!$A$3,IF(H83=Gegevensblad!$A$29,G83*1,G83*2),"")
B84: c. | I84: =IF(C84=Gegevensblad!$A$2,$D$8*2,"") | J84: =IF(C84=Gegevensblad!$A$3,IF(H84=Gegevensblad!$A$29,G84*1,G84*2),"")
B85: d. | I85: =IF(C85=Gegevensblad!$A$2,$D$8*2,"") | J85: =IF(C85=Gegevensblad!$A$3,IF(H85=Gegevensblad!$A$29,G85*1,G85*2),"")
A86: 19 | B86: a. | I86: =IF(C86=Gegevensblad!$A$2,$D$8*2,"") | J86: =IF(C86=Gegevensblad!$A$3,IF(H86=Gegevensblad!$A$29,G86*1,G86*2),"")
B87: b. | I87: =IF(C87=Gegevensblad!$A$2,$D$8*2,"") | J87: =IF(C87=Gegevensblad!$A$3,IF(H87=Gegevensblad!$A$29,G87*1,G87*2),"")
B88: c. | I88: =IF(C88=Gegevensblad!$A$2,$D$8*2,"") | J88: =IF(C88=Gegevensblad!$A$3,IF(H88=Gegevensblad!$A$29,G88*1,G88*2),"")
B89: d. | I89: =IF(C89=Gegevensblad!$A$2,$D$8*2,"") | J89: =IF(C89=Gegevensblad!$A$3,IF(H89=Gegevensblad!$A$29,G89*1,G89*2),"")
A90: 20 | B90: a. | I90: =IF(C90=Gegevensblad!$A$2,$D$8*2,"") | J90: =IF(C90=Gegevensblad!$A$3,IF(H90=Gegevensblad!$A$29,G90*1,G90*2),"")
B91: b. | I91: =IF(C91=Gegevensblad!$A$2,$D$8*2,"") | J91: =IF(C91=Gegevensblad!$A$3,IF(H91=Gegevensblad!$A$29,G91*1,G91*2),"")
B92: c. | I92: =IF(C92=Gegevensblad!$A$2,$D$8*2,"") | J92: =IF(C92=Gegevensblad!$A$3,IF(H92=Gegevensblad!$A$29,G92*1,G92*2),"")
B93: d. | I93: =IF(C93=Gegevensblad!$A$2,$D$8*2,"") | J93: =IF(C93=Gegevensblad!$A$3,IF(H93=Gegevensblad!$A$29,G93*1,G93*2),"")
A94: 21 | B94: a. | I94: =IF(C94=Gegevensblad!$A$2,$D$8*2,"") | J94: =IF(C94=Gegevensblad!$A$3,IF(H94=Gegevensblad!$A$29,G94*1,G94*2),"")
B95: b. | I95: =IF(C95=Gegevensblad!$A$2,$D$8*2,"") | J95: =IF(C95=Gegevensblad!$A$3,IF(H95=Gegevensblad!$A$29,G95*1,G95*2),"")
B96: c. | I96: =IF(C96=Gegevensblad!$A$2,$D$8*2,"") | J96: =IF(C96=Gegevensblad!$A$3,IF(H96=Gegevensblad!$A$29,G96*1,G96*2),"")
B97: d. | I97: =IF(C97=Gegevensblad!$A$2,$D$8*2,"") | J97: =IF(C97=Gegevensblad!$A$3,IF(H97=Gegevensblad!$A$29,G97*1,G97*2),"")
A98: 22 | B98: a. | I98: =IF(C98=Gegevensblad!$A$2,$D$8*2,"") | J98: =IF(C98=Gegevensblad!$A$3,IF(H98=Gegevensblad!$A$29,G98*1,G98*2),"")
B99: b. | I99: =IF(C99=Gegevensblad!$A$2,$D$8*2,"") | J99: =IF(C99=Gegevensblad!$A$3,IF(H99=Gegevensblad!$A$29,G99*1,G99*2),"")
B100: c. | I100: =IF(C100=Gegevensblad!$A$2,$D$8*2,"") | J100: =IF(C100=Gegevensblad!$A$3,IF(H100=Gegevensblad!$A$29,G100*1,G100*2),"")
B101: d. | I101: =IF(C101=Gegevensblad!$A$2,$D$8*2,"") | J101: =IF(C101=Gegevensblad!$A$3,IF(H101=Gegevensblad!$A$29,G101*1,G101*2),"")
A102: 23 | B102: a. | I102: =IF(C102=Gegevensblad!$A$2,$D$8*2,"") | J102: =IF(C102=Gegevensblad!$A$3,IF(H102=Gegevensblad!$A$29,G102*1,G102*2),"")
B103: b. | I103: =IF(C103=Gegevensblad!$A$2,$D$8*2,"") | J103: =IF(C103=Gegevensblad!$A$3,IF(H103=Gegevensblad!$A$29,G103*1,G103*2),"")
B104: c. | I104: =IF(C104=Gegevensblad!$A$2,$D$8*2,"") | J104: =IF(C104=Gegevensblad!$A$3,IF(H104=Gegevensblad!$A$29,G104*1,G104*2),"")
...

Sheet Juni
A1: Declaratieformulier reiskostenvergoeding
A3: Klik hier voor uitleg van het formulier
A5: Naam medewerker | D5: =Januari!D5 -> naam
A6: Postcode huisadres | D6: =Januari!D6 -> 1235
A7: Postcode werkadres | D7: =Januari!D7 -> 5678CD
A8: Woon-werk kilometers enkele reisafstand | D8: =Januari!D8 -> 0
A9: Maand / jaar | D9: Juni | E9: 2022
G12: Aantal km | H12: Enkele reis/ | I12: Km woon- | J12: Km | K12: Overig | L12: Totaal | M12: Toelichting
A13: Dag | C13: Te declareren | D13: Postcode van | E13: Postcode naar | F13: Reisdoel | G13: enkele reis | H13: retour | I13: werk | J13: zakelijk
A14: 1 | B14: a. | I14: =IF(C14=Gegevensblad!$A$2,$D$8*2,"") | J14: =IF(C14=Gegevensblad!$A$3,IF(H14=Gegevensblad!$A$29,G14*1,G14*2),"")
B15: b. | I15: =IF(C15=Gegevensblad!$A$2,$D$8*2,"") | J15: =IF(C15=Gegevensblad!$A$3,IF(H15=Gegevensblad!$A$29,G15*1,G15*2),"")
B16: c. | I16: =IF(C16=Gegevensblad!$A$2,$D$8*2,"") | J16: =IF(C16=Gegevensblad!$A$3,IF(H16=Gegevensblad!$A$29,G16*1,G16*2),"")
B17: d. | I17: =IF(C17=Gegevensblad!$A$2,$D$8*2,"") | J17: =IF(C17=Gegevensblad!$A$3,IF(H17=Gegevensblad!$A$29,G17*1,G17*2),"")
A18: 2 | B18: a. | I18: =IF(C18=Gegevensblad!$A$2,$D$8*2,"") | J18: =IF(C18=Gegevensblad!$A$3,IF(H18=Gegevensblad!$A$29,G18*1,G18*2),"")
B19: b. | I19: =IF(C19=Gegevensblad!$A$2,$D$8*2,"") | J19: =IF(C19=Gegevensblad!$A$3,IF(H19=Gegevensblad!$A$29,G19*1,G19*2),"")
B20: c. | I20: =IF(C20=Gegevensblad!$A$2,$D$8*2,"") | J20: =IF(C20=Gegevensblad!$A$3,IF(H20=Gegevensblad!$A$29,G20*1,G20*2),"")
B21: d. | I21: =IF(C21=Gegevensblad!$A$2,$D$8*2,"") | J21: =IF(C21=Gegevensblad!$A$3,IF(H21=Gegevensblad!$A$29,G21*1,G21*2),"")
A22: 3 | B22: a. | I22: =IF(C22=Gegevensblad!$A$2,$D$8*2,"") | J22: =IF(C22=Gegevensblad!$A$3,IF(H22=Gegevensblad!$A$29,G22*1,G22*2),"")
B23: b. | I23: =IF(C23=Gegevensblad!$A$2,$D$8*2,"") | J23: =IF(C23=Gegevensblad!$A$3,IF(H23=Gegevensblad!$A$29,G23*1,G23*2),"")
B24: c. | I24: =IF(C24=Gegevensblad!$A$2,$D$8*2,"") | J24: =IF(C24=Gegevensblad!$A$3,IF(H24=Gegevensblad!$A$29,G24*1,G24*2),"")
B25: d. | I25: =IF(C25=Gegevensblad!$A$2,$D$8*2,"") | J25: =IF(C25=Gegevensblad!$A$3,IF(H25=Gegevensblad!$A$29,G25*1,G25*2),"")
A26: 4 | B26: a. | I26: =IF(C26=Gegevensblad!$A$2,$D$8*2,"") | J26: =IF(C26=Gegevensblad!$A$3,IF(H26=Gegevensblad!$A$29,G26*1,G26*2),"")
B27: b. | I27: =IF(C27=Gegevensblad!$A$2,$D$8*2,"") | J27: =IF(C27=Gegevensblad!$A$3,IF(H27=Gegevensblad!$A$29,G27*1,G27*2),"")
B28: c. | I28: =IF(C28=Gegevensblad!$A$2,$D$8*2,"") | J28: =IF(C28=Gegevensblad!$A$3,IF(H28=Gegevensblad!$A$29,G28*1,G28*2),"")
B29: d. | I29: =IF(C29=Gegevensblad!$A$2,$D$8*2,"") | J29: =IF(C29=Gegevensblad!$A$3,IF(H29=Gegevensblad!$A$29,G29*1,G29*2),"")
A30: 5 | B30: a. | I30: =IF(C30=Gegevensblad!$A$2,$D$8*2,"") | J30: =IF(C30=Gegevensblad!$A$3,IF(H30=Gegevensblad!$A$29,G30*1,G30*2),"")
B31: b. | I31: =IF(C31=Gegevensblad!$A$2,$D$8*2,"") | J31: =IF(C31=Gegevensblad!$A$3,IF(H31=Gegevensblad!$A$29,G31*1,G31*2),"")
B32: c. | I32: =IF(C32=Gegevensblad!$A$2,$D$8*2,"") | J32: =IF(C32=Gegevensblad!$A$3,IF(H32=Gegevensblad!$A$29,G32*1,G32*2),"")
B33: d. | I33: =IF(C33=Gegevensblad!$A$2,$D$8*2,"") | J33: =IF(C33=Gegevensblad!$A$3,IF(H33=Gegevensblad!$A$29,G33*1,G33*2),"")
A34: 6 | B34: a. | I34: =IF(C34=Gegevensblad!$A$2,$D$8*2,"") | J34: =IF(C34=Gegevensblad!$A$3,IF(H34=Gegevensblad!$A$29,G34*1,G34*2),"")
B35: b. | I35: =IF(C35=Gegevensblad!$A$2,$D$8*2,"") | J35: =IF(C35=Gegevensblad!$A$3,IF(H35=Gegevensblad!$A$29,G35*1,G35*2),"")
B36: c. | I36: =IF(C36=Gegevensblad!$A$2,$D$8*2,"") | J36: =IF(C36=Gegevensblad!$A$3,IF(H36=Gegevensblad!$A$29,G36*1,G36*2),"")
B37: d. | I37: =IF(C37=Gegevensblad!$A$2,$D$8*2,"") | J37: =IF(C37=Gegevensblad!$A$3,IF(H37=Gegevensblad!$A$29,G37*1,G37*2),"")
A38: 7 | B38: a. | I38: =IF(C38=Gegevensblad!$A$2,$D$8*2,"") | J38: =IF(C38=Gegevensblad!$A$3,IF(H38=Gegevensblad!$A$29,G38*1,G38*2),"")
B39: b. | I39: =IF(C39=Gegevensblad!$A$2,$D$8*2,"") | J39: =IF(C39=Gegevensblad!$A$3,IF(H39=Gegevensblad!$A$29,G39*1,G39*2),"")
B40: c. | I40: =IF(C40=Gegevensblad!$A$2,$D$8*2,"") | J40: =IF(C40=Gegevensblad!$A$3,IF(H40=Gegevensblad!$A$29,G40*1,G40*2),"")
B41: d. | I41: =IF(C41=Gegevensblad!$A$2,$D$8*2,"") | J41: =IF(C41=Gegevensblad!$A$3,IF(H41=Gegevensblad!$A$29,G41*1,G41*2),"")
A42: 8 | B42: a. | I42: =IF(C42=Gegevensblad!$A$2,$D$8*2,"") | J42: =IF(C42=Gegevensblad!$A$3,IF(H42=Gegevensblad!$A$29,G42*1,G42*2),"")
B43: b. | I43: =IF(C43=Gegevensblad!$A$2,$D$8*2,"") | J43: =IF(C43=Gegevensblad!$A$3,IF(H43=Gegevensblad!$A$29,G43*1,G43*2),"")
B44: c. | I44: =IF(C44=Gegevensblad!$A$2,$D$8*2,"") | J44: =IF(C44=Gegevensblad!$A$3,IF(H44=Gegevensblad!$A$29,G44*1,G44*2),"")
B45: d. | I45: =IF(C45=Gegevensblad!$A$2,$D$8*2,"") | J45: =IF(C45=Gegevensblad!$A$3,IF(H45=Gegevensblad!$A$29,G45*1,G45*2),"")
A46: 9 | B46: a. | I46: =IF(C46=Gegevensblad!$A$2,$D$8*2,"") | J46: =IF(C46=Gegevensblad!$A$3,IF(H46=Gegevensblad!$A$29,G46*1,G46*2),"")
B47: b. | I47: =IF(C47=Gegevensblad!$A$2,$D$8*2,"") | J47: =IF(C47=Gegevensblad!$A$3,IF(H47=Gegevensblad!$A$29,G47*1,G47*2),"")
B48: c. | I48: =IF(C48=Gegevensblad!$A$2,$D$8*2,"") | J48: =IF(C48=Gegevensblad!$A$3,IF(H48=Gegevensblad!$A$29,G48*1,G48*2),"")
B49: d. | I49: =IF(C49=Gegevensblad!$A$2,$D$8*2,"") | J49: =IF(C49=Gegevensblad!$A$3,IF(H49=Gegevensblad!$A$29,G49*1,G49*2),"")
A50: 10 | B50: a. | I50: =IF(C50=Gegevensblad!$A$2,$D$8*2,"") | J50: =IF(C50=Gegevensblad!$A$3,IF(H50=Gegevensblad!$A$29,G50*1,G50*2),"")
B51: b. | I51: =IF(C51=Gegevensblad!$A$2,$D$8*2,"") | J51: =IF(C51=Gegevensblad!$A$3,IF(H51=Gegevensblad!$A$29,G51*1,G51*2),"")
B52: c. | I52: =IF(C52=Gegevensblad!$A$2,$D$8*2,"") | J52: =IF(C52=Gegevensblad!$A$3,IF(H52=Gegevensblad!$A$29,G52*1,G52*2),"")
B53: d. | I53: =IF(C53=Gegevensblad!$A$2,$D$8*2,"") | J53: =IF(C53=Gegevensblad!$A$3,IF(H53=Gegevensblad!$A$29,G53*1,G53*2),"")
A54: 11 | B54: a. | I54: =IF(C54=Gegevensblad!$A$2,$D$8*2,"") | J54: =IF(C54=Gegevensblad!$A$3,IF(H54=Gegevensblad!$A$29,G54*1,G54*2),"")
B55: b. | I55: =IF(C55=Gegevensblad!$A$2,$D$8*2,"") | J55: =IF(C55=Gegevensblad!$A$3,IF(H55=Gegevensblad!$A$29,G55*1,G55*2),"")
B56: c. | I56: =IF(C56=Gegevensblad!$A$2,$D$8*2,"") | J56: =IF(C56=Gegevensblad!$A$3,IF(H56=Gegevensblad!$A$29,G56*1,G56*2),"")
B57: d. | I57: =IF(C57=Gegevensblad!$A$2,$D$8*2,"") | J57: =IF(C57=Gegevensblad!$A$3,IF(H57=Gegevensblad!$A$29,G57*1,G57*2),"")
A58: 12 | B58: a. | I58: =IF(C58=Gegevensblad!$A$2,$D$8*2,"") | J58: =IF(C58=Gegevensblad!$A$3,IF(H58=Gegevensblad!$A$29,G58*1,G58*2),"")
B59: b. | I59: =IF(C59=Gegevensblad!$A$2,$D$8*2,"") | J59: =IF(C59=Gegevensblad!$A$3,IF(H59=Gegevensblad!$A$29,G59*1,G59*2),"")
B60: c. | I60: =IF(C60=Gegevensblad!$A$2,$D$8*2,"") | J60: =IF(C60=Gegevensblad!$A$3,IF(H60=Gegevensblad!$A$29,G60*1,G60*2),"")
B61: d. | I61: =IF(C61=Gegevensblad!$A$2,$D$8*2,"") | J61: =IF(C61=Gegevensblad!$A$3,IF(H61=Gegevensblad!$A$29,G61*1,G61*2),"")
A62: 13 | B62: a. | I62: =IF(C62=Gegevensblad!$A$2,$D$8*2,"") | J62: =IF(C62=Gegevensblad!$A$3,IF(H62=Gegevensblad!$A$29,G62*1,G62*2),"")
B63: b. | I63: =IF(C63=Gegevensblad!$A$2,$D$8*2,"") | J63: =IF(C63=Gegevensblad!$A$3,IF(H63=Gegevensblad!$A$29,G63*1,G63*2),"")
B64: c. | I64: =IF(C64=Gegevensblad!$A$2,$D$8*2,"") | J64: =IF(C64=Gegevensblad!$A$3,IF(H64=Gegevensblad!$A$29,G64*1,G64*2),"")
B65: d. | I65: =IF(C65=Gegevensblad!$A$2,$D$8*2,"") | J65: =IF(C65=Gegevensblad!$A$3,IF(H65=Gegevensblad!$A$29,G65*1,G65*2),"")
A66: 14 | B66: a. | I66: =IF(C66=Gegevensblad!$A$2,$D$8*2,"") | J66: =IF(C66=Gegevensblad!$A$3,IF(H66=Gegevensblad!$A$29,G66*1,G66*2),"")
B67: b. | I67: =IF(C67=Gegevensblad!$A$2,$D$8*2,"") | J67: =IF(C67=Gegevensblad!$A$3,IF(H67=Gegevensblad!$A$29,G67*1,G67*2),"")
B68: c. | I68: =IF(C68=Gegevensblad!$A$2,$D$8*2,"") | J68: =IF(C68=Gegevensblad!$A$3,IF(H68=Gegevensblad!$A$29,G68*1,G68*2),"")
B69: d. | I69: =IF(C69=Gegevensblad!$A$2,$D$8*2,"") | J69: =IF(C69=Gegevensblad!$A$3,IF(H69=Gegevensblad!$A$29,G69*1,G69*2),"")
A70: 15 | B70: a. | I70: =IF(C70=Gegevensblad!$A$2,$D$8*2,"") | J70: =IF(C70=Gegevensblad!$A$3,IF(H70=Gegevensblad!$A$29,G70*1,G70*2),"")
B71: b. | I71: =IF(C71=Gegevensblad!$A$2,$D$8*2,"") | J71: =IF(C71=Gegevensblad!$A$3,IF(H71=Gegevensblad!$A$29,G71*1,G71*2),"")
B72: c. | I72: =IF(C72=Gegevensblad!$A$2,$D$8*2,"") | J72: =IF(C72=Gegevensblad!$A$3,IF(H72=Gegevensblad!$A$29,G72*1,G72*2),"")
B73: d. | I73: =IF(C73=Gegevensblad!$A$2,$D$8*2,"") | J73: =IF(C73=Gegevensblad!$A$3,IF(H73=Gegevensblad!$A$29,G73*1,G73*2),"")
A74: 16 | B74: a. | I74: =IF(C74=Gegevensblad!$A$2,$D$8*2,"") | J74: =IF(C74=Gegevensblad!$A$3,IF(H74=Gegevensblad!$A$29,G74*1,G74*2),"")
B75: b. | I75: =IF(C75=Gegevensblad!$A$2,$D$8*2,"") | J75: =IF(C75=Gegevensblad!$A$3,IF(H75=Gegevensblad!$A$29,G75*1,G75*2),"")
B76: c. | I76: =IF(C76=Gegevensblad!$A$2,$D$8*2,"") | J76: =IF(C76=Gegevensblad!$A$3,IF(H76=Gegevensblad!$A$29,G76*1,G76*2),"")
B77: d. | I77: =IF(C77=Gegevensblad!$A$2,$D$8*2,"") | J77: =IF(C77=Gegevensblad!$A$3,IF(H77=Gegevensblad!$A$29,G77*1,G77*2),"")
A78: 17 | B78: a. | I78: =IF(C78=Gegevensblad!$A$2,$D$8*2,"") | J78: =IF(C78=Gegevensblad!$A$3,IF(H78=Gegevensblad!$A$29,G78*1,G78*2),"")
B79: b. | I79: =IF(C79=Gegevensblad!$A$2,$D$8*2,"") | J79: =IF(C79=Gegevensblad!$A$3,IF(H79=Gegevensblad!$A$29,G79*1,G79*2),"")
B80: c. | I80: =IF(C80=Gegevensblad!$A$2,$D$8*2,"") | J80: =IF(C80=Gegevensblad!$A$3,IF(H80=Gegevensblad!$A$29,G80*1,G80*2),"")
B81: d. | I81: =IF(C81=Gegevensblad!$A$2,$D$8*2,"") | J81: =IF(C81=Gegevensblad!$A$3,IF(H81=Gegevensblad!$A$29,G81*1,G81*2),"")
A82: 18 | B82: a. | I82: =IF(C82=Gegevensblad!$A$2,$D$8*2,"") | J82: =IF(C82=Gegevensblad!$A$3,IF(H82=Gegevensblad!$A$29,G82*1,G82*2),"")
B83: b. | I83: =IF(C83=Gegevensblad!$A$2,$D$8*2,"") | J83: =IF(C83=Gegevensblad!$A$3,IF(H83=Gegevensblad!$A$29,G83*1,G83*2),"")
B84: c. | I84: =IF(C84=Gegevensblad!$A$2,$D$8*2,"") | J84: =IF(C84=Gegevensblad!$A$3,IF(H84=Gegevensblad!$A$29,G84*1,G84*2),"")
B85: d. | I85: =IF(C85=Gegevensblad!$A$2,$D$8*2,"") | J85: =IF(C85=Gegevensblad!$A$3,IF(H85=Gegevensblad!$A$29,G85*1,G85*2),"")
A86: 19 | B86: a. | I86: =IF(C86=Gegevensblad!$A$2,$D$8*2,"") | J86: =IF(C86=Gegevensblad!$A$3,IF(H86=Gegevensblad!$A$29,G86*1,G86*2),"")
B87: b. | I87: =IF(C87=Gegevensblad!$A$2,$D$8*2,"") | J87: =IF(C87=Gegevensblad!$A$3,IF(H87=Gegevensblad!$A$29,G87*1,G87*2),"")
B88: c. | I88: =IF(C88=Gegevensblad!$A$2,$D$8*2,"") | J88: =IF(C88=Gegevensblad!$A$3,IF(H88=Gegevensblad!$A$29,G88*1,G88*2),"")
B89: d. | I89: =IF(C89=Gegevensblad!$A$2,$D$8*2,"") | J89: =IF(C89=Gegevensblad!$A$3,IF(H89=Gegevensblad!$A$29,G89*1,G89*2),"")
A90: 20 | B90: a. | I90: =IF(C90=Gegevensblad!$A$2,$D$8*2,"") | J90: =IF(C90=Gegevensblad!$A$3,IF(H90=Gegevensblad!$A$29,G90*1,G90*2),"")
B91: b. | I91: =IF(C91=Gegevensblad!$A$2,$D$8*2,"") | J91: =IF(C91=Gegevensblad!$A$3,IF(H91=Gegevensblad!$A$29,G91*1,G91*2),"")
B92: c. | I92: =IF(C92=Gegevensblad!$A$2,$D$8*2,"") | J92: =IF(C92=Gegevensblad!$A$3,IF(H92=Gegevensblad!$A$29,G92*1,G92*2),"")
B93: d. | I93: =IF(C93=Gegevensblad!$A$2,$D$8*2,"") | J93: =IF(C93=Gegevensblad!$A$3,IF(H93=Gegevensblad!$A$29,G93*1,G93*2),"")
A94: 21 | B94: a. | I94: =IF(C94=Gegevensblad!$A$2,$D$8*2,"") | J94: =IF(C94=Gegevensblad!$A$3,IF(H94=Gegevensblad!$A$29,G94*1,G94*2),"")
B95: b. | I95: =IF(C95=Gegevensblad!$A$2,$D$8*2,"") | J95: =IF(C95=Gegevensblad!$A$3,IF(H95=Gegevensblad!$A$29,G95*1,G95*2),"")
B96: c. | I96: =IF(C96=Gegevensblad!$A$2,$D$8*2,"") | J96: =IF(C96=Gegevensblad!$A$3,IF(H96=Gegevensblad!$A$29,G96*1,G96*2),"")
B97: d. | I97: =IF(C97=Gegevensblad!$A$2,$D$8*2,"") | J97: =IF(C97=Gegevensblad!$A$3,IF(H97=Gegevensblad!$A$29,G97*1,G97*2),"")
A98: 22 | B98: a. | I98: =IF(C98=Gegevensblad!$A$2,$D$8*2,"") | J98: =IF(C98=Gegevensblad!$A$3,IF(H98=Gegevensblad!$A$29,G98*1,G98*2),"")
B99: b. | I99: =IF(C99=Gegevensblad!$A$2,$D$8*2,"") | J99: =IF(C99=Gegevensblad!$A$3,IF(H99=Gegevensblad!$A$29,G99*1,G99*2),"")
B100: c. | I100: =IF(C100=Gegevensblad!$A$2,$D$8*2,"") | J100: =IF(C100=Gegevensblad!$A$3,IF(H100=Gegevensblad!$A$29,G100*1,G100*2),"")
B101: d. | I101: =IF(C101=Gegevensblad!$A$2,$D$8*2,"") | J101: =IF(C101=Gegevensblad!$A$3,IF(H101=Gegevensblad!$A$29,G101*1,G101*2),"")
A102: 23 | B102: a. | I102: =IF(C102=Gegevensblad!$A$2,$D$8*2,"") | J102: =IF(C102=Gegevensblad!$A$3,IF(H102=Gegevensblad!$A$29,G102*1,G102*2),"")
B103: b. | I103: =IF(C103=Gegevensblad!$A$2,$D$8*2,"") | J103: =IF(C103=Gegevensblad!$A$3,IF(H103=Gegevensblad!$A$29,G103*1,G103*2),"")
B104: c. | I104: =IF(C104=Gegevensblad!$A$2,$D$8*2,"") | J104: =IF(C104=Gegevensblad!$A$3,IF(H104=Gegevensblad!$A$29,G104*1,G104*2),"")
...

Sheet Juli
A1: Declaratieformulier reiskostenvergoeding
A3: Klik hier voor uitleg van het formulier
A5: Naam medewerker | D5: =Januari!D5 -> naam
A6: Postcode huisadres | D6: =Januari!D6 -> 1235
A7: Postcode werkadres | D7: =Januari!D7 -> 5678CD
A8: Woon-werk kilometers enkele reisafstand | D8: =Januari!D8 -> 0
A9: Maand / jaar | D9: Juli | E9: 2022
G12: Aantal km | H12: Enkele reis/ | I12: Km woon- | J12: Km | K12: Overig | L12: Totaal | M12: Toelichting
A13: Dag | C13: Te declareren | D13: Postcode van | E13: Postcode naar | F13: Reisdoel | G13: enkele reis | H13: retour | I13: werk | J13: zakelijk
A14: 1 | B14: a. | I14: =IF(C14=Gegevensblad!$A$2,$D$8*2,"") | J14: =IF(C14=Gegevensblad!$A$3,IF(H14=Gegevensblad!$A$29,G14*1,G14*2),"")
B15: b. | I15: =IF(C15=Gegevensblad!$A$2,$D$8*2,"") | J15: =IF(C15=Gegevensblad!$A$3,IF(H15=Gegevensblad!$A$29,G15*1,G15*2),"")
B16: c. | I16: =IF(C16=Gegevensblad!$A$2,$D$8*2,"") | J16: =IF(C16=Gegevensblad!$A$3,IF(H16=Gegevensblad!$A$29,G16*1,G16*2),"")
B17: d. | I17: =IF(C17=Gegevensblad!$A$2,$D$8*2,"") | J17: =IF(C17=Gegevensblad!$A$3,IF(H17=Gegevensblad!$A$29,G17*1,G17*2),"")
A18: 2 | B18: a. | I18: =IF(C18=Gegevensblad!$A$2,$D$8*2,"") | J18: =IF(C18=Gegevensblad!$A$3,IF(H18=Gegevensblad!$A$29,G18*1,G18*2),"")
B19: b. | I19: =IF(C19=Gegevensblad!$A$2,$D$8*2,"") | J19: =IF(C19=Gegevensblad!$A$3,IF(H19=Gegevensblad!$A$29,G19*1,G19*2),"")
B20: c. | I20: =IF(C20=Gegevensblad!$A$2,$D$8*2,"") | J20: =IF(C20=Gegevensblad!$A$3,IF(H20=Gegevensblad!$A$29,G20*1,G20*2),"")
B21: d. | I21: =IF(C21=Gegevensblad!$A$2,$D$8*2,"") | J21: =IF(C21=Gegevensblad!$A$3,IF(H21=Gegevensblad!$A$29,G21*1,G21*2),"")
A22: 3 | B22: a. | I22: =IF(C22=Gegevensblad!$A$2,$D$8*2,"") | J22: =IF(C22=Gegevensblad!$A$3,IF(H22=Gegevensblad!$A$29,G22*1,G22*2),"")
B23: b. | I23: =IF(C23=Gegevensblad!$A$2,$D$8*2,"") | J23: =IF(C23=Gegevensblad!$A$3,IF(H23=Gegevensblad!$A$29,G23*1,G23*2),"")
B24: c. | I24: =IF(C24=Gegevensblad!$A$2,$D$8*2,"") | J24: =IF(C24=Gegevensblad!$A$3,IF(H24=Gegevensblad!$A$29,G24*1,G24*2),"")
B25: d. | I25: =IF(C25=Gegevensblad!$A$2,$D$8*2,"") | J25: =IF(C25=Gegevensblad!$A$3,IF(H25=Gegevensblad!$A$29,G25*1,G25*2),"")
A26: 4 | B26: a. | I26: =IF(C26=Gegevensblad!$A$2,$D$8*2,"") | J26: =IF(C26=Gegevensblad!$A$3,IF(H26=Gegevensblad!$A$29,G26*1,G26*2),"")
B27: b. | I27: =IF(C27=Gegevensblad!$A$2,$D$8*2,"") | J27: =IF(C27=Gegevensblad!$A$3,IF(H27=Gegevensblad!$A$29,G27*1,G27*2),"")
B28: c. | I28: =IF(C28=Gegevensblad!$A$2,$D$8*2,"") | J28: =IF(C28=Gegevensblad!$A$3,IF(H28=Gegevensblad!$A$29,G28*1,G28*2),"")
B29: d. | I29: =IF(C29=Gegevensblad!$A$2,$D$8*2,"") | J29: =IF(C29=Gegevensblad!$A$3,IF(H29=Gegevensblad!$A$29,G29*1,G29*2),"")
A30: 5 | B30: a. | I30: =IF(C30=Gegevensblad!$A$2,$D$8*2,"") | J30: =IF(C30=Gegevensblad!$A$3,IF(H30=Gegevensblad!$A$29,G30*1,G30*2),"")
B31: b. | I31: =IF(C31=Gegevensblad!$A$2,$D$8*2,"") | J31: =IF(C31=Gegevensblad!$A$3,IF(H31=Gegevensblad!$A$29,G31*1,G31*2),"")
B32: c. | I32: =IF(C32=Gegevensblad!$A$2,$D$8*2,"") | J32: =IF(C32=Gegevensblad!$A$3,IF(H32=Gegevensblad!$A$29,G32*1,G32*2),"")
B33: d. | I33: =IF(C33=Gegevensblad!$A$2,$D$8*2,"") | J33: =IF(C33=Gegevensblad!$A$3,IF(H33=Gegevensblad!$A$29,G33*1,G33*2),"")
A34: 6 | B34: a. | I34: =IF(C34=Gegevensblad!$A$2,$D$8*2,"") | J34: =IF(C34=Gegevensblad!$A$3,IF(H34=Gegevensblad!$A$29,G34*1,G34*2),"")
B35: b. | I35: =IF(C35=Gegevensblad!$A$2,$D$8*2,"") | J35: =IF(C35=Gegevensblad!$A$3,IF(H35=Gegevensblad!$A$29,G35*1,G35*2),"")
B36: c. | I36: =IF(C36=Gegevensblad!$A$2,$D$8*2,"") | J36: =IF(C36=Gegevensblad!$A$3,IF(H36=Gegevensblad!$A$29,G36*1,G36*2),"")
B37: d. | I37: =IF(C37=Gegevensblad!$A$2,$D$8*2,"") | J37: =IF(C37=Gegevensblad!$A$3,IF(H37=Gegevensblad!$A$29,G37*1,G37*2),"")
A38: 7 | B38: a. | I38: =IF(C38=Gegevensblad!$A$2,$D$8*2,"") | J38: =IF(C38=Gegevensblad!$A$3,IF(H38=Gegevensblad!$A$29,G38*1,G38*2),"")
B39: b. | I39: =IF(C39=Gegevensblad!$A$2,$D$8*2,"") | J39: =IF(C39=Gegevensblad!$A$3,IF(H39=Gegevensblad!$A$29,G39*1,G39*2),"")
B40: c. | I40: =IF(C40=Gegevensblad!$A$2,$D$8*2,"") | J40: =IF(C40=Gegevensblad!$A$3,IF(H40=Gegevensblad!$A$29,G40*1,G40*2),"")
B41: d. | I41: =IF(C41=Gegevensblad!$A$2,$D$8*2,"") | J41: =IF(C41=Gegevensblad!$A$3,IF(H41=Gegevensblad!$A$29,G41*1,G41*2),"")
A42: 8 | B42: a. | I42: =IF(C42=Gegevensblad!$A$2,$D$8*2,"") | J42: =IF(C42=Gegevensblad!$A$3,IF(H42=Gegevensblad!$A$29,G42*1,G42*2),"")
B43: b. | I43: =IF(C43=Gegevensblad!$A$2,$D$8*2,"") | J43: =IF(C43=Gegevensblad!$A$3,IF(H43=Gegevensblad!$A$29,G43*1,G43*2),"")
B44: c. | I44: =IF(C44=Gegevensblad!$A$2,$D$8*2,"") | J44: =IF(C44=Gegevensblad!$A$3,IF(H44=Gegevensblad!$A$29,G44*1,G44*2),"")
B45: d. | I45: =IF(C45=Gegevensblad!$A$2,$D$8*2,"") | J45: =IF(C45=Gegevensblad!$A$3,IF(H45=Gegevensblad!$A$29,G45*1,G45*2),"")
A46: 9 | B46: a. | I46: =IF(C46=Gegevensblad!$A$2,$D$8*2,"") | J46: =IF(C46=Gegevensblad!$A$3,IF(H46=Gegevensblad!$A$29,G46*1,G46*2),"")
B47: b. | I47: =IF(C47=Gegevensblad!$A$2,$D$8*2,"") | J47: =IF(C47=Gegevensblad!$A$3,IF(H47=Gegevensblad!$A$29,G47*1,G47*2),"")
B48: c. | I48: =IF(C48=Gegevensblad!$A$2,$D$8*2,"") | J48: =IF(C48=Gegevensblad!$A$3,IF(H48=Gegevensblad!$A$29,G48*1,G48*2),"")
B49: d. | I49: =IF(C49=Gegevensblad!$A$2,$D$8*2,"") | J49: =IF(C49=Gegevensblad!$A$3,IF(H49=Gegevensblad!$A$29,G49*1,G49*2),"")
A50: 10 | B50: a. | I50: =IF(C50=Gegevensblad!$A$2,$D$8*2,"") | J50: =IF(C50=Gegevensblad!$A$3,IF(H50=Gegevensblad!$A$29,G50*1,G50*2),"")
B51: b. | I51: =IF(C51=Gegevensblad!$A$2,$D$8*2,"") | J51: =IF(C51=Gegevensblad!$A$3,IF(H51=Gegevensblad!$A$29,G51*1,G51*2),"")
B52: c. | I52: =IF(C52=Gegevensblad!$A$2,$D$8*2,"") | J52: =IF(C52=Gegevensblad!$A$3,IF(H52=Gegevensblad!$A$29,G52*1,G52*2),"")
B53: d. | I53: =IF(C53=Gegevensblad!$A$2,$D$8*2,"") | J53: =IF(C53=Gegevensblad!$A$3,IF(H53=Gegevensblad!$A$29,G53*1,G53*2),"")
A54: 11 | B54: a. | I54: =IF(C54=Gegevensblad!$A$2,$D$8*2,"") | J54: =IF(C54=Gegevensblad!$A$3,IF(H54=Gegevensblad!$A$29,G54*1,G54*2),"")
B55: b. | I55: =IF(C55=Gegevensblad!$A$2,$D$8*2,"") | J55: =IF(C55=Gegevensblad!$A$3,IF(H55=Gegevensblad!$A$29,G55*1,G55*2),"")
B56: c. | I56: =IF(C56=Gegevensblad!$A$2,$D$8*2,"") | J56: =IF(C56=Gegevensblad!$A$3,IF(H56=Gegevensblad!$A$29,G56*1,G56*2),"")
B57: d. | I57: =IF(C57=Gegevensblad!$A$2,$D$8*2,"") | J57: =IF(C57=Gegevensblad!$A$3,IF(H57=Gegevensblad!$A$29,G57*1,G57*2),"")
A58: 12 | B58: a. | I58: =IF(C58=Gegevensblad!$A$2,$D$8*2,"") | J58: =IF(C58=Gegevensblad!$A$3,IF(H58=Gegevensblad!$A$29,G58*1,G58*2),"")
B59: b. | I59: =IF(C59=Gegevensblad!$A$2,$D$8*2,"") | J59: =IF(C59=Gegevensblad!$A$3,IF(H59=Gegevensblad!$A$29,G59*1,G59*2),"")
B60: c. | I60: =IF(C60=Gegevensblad!$A$2,$D$8*2,"") | J60: =IF(C60=Gegevensblad!$A$3,IF(H60=Gegevensblad!$A$29,G60*1,G60*2),"")
B61: d. | I61: =IF(C61=Gegevensblad!$A$2,$D$8*2,"") | J61: =IF(C61=Gegevensblad!$A$3,IF(H61=Gegevensblad!$A$29,G61*1,G61*2),"")
A62: 13 | B62: a. | I62: =IF(C62=Gegevensblad!$A$2,$D$8*2,"") | J62: =IF(C62=Gegevensblad!$A$3,IF(H62=Gegevensblad!$A$29,G62*1,G62*2),"")
B63: b. | I63: =IF(C63=Gegevensblad!$A$2,$D$8*2,"") | J63: =IF(C63=Gegevensblad!$A$3,IF(H63=Gegevensblad!$A$29,G63*1,G63*2),"")
B64: c. | I64: =IF(C64=Gegevensblad!$A$2,$D$8*2,"") | J64: =IF(C64=Gegevensblad!$A$3,IF(H64=Gegevensblad!$A$29,G64*1,G64*2),"")
B65: d. | I65: =IF(C65=Gegevensblad!$A$2,$D$8*2,"") | J65: =IF(C65=Gegevensblad!$A$3,IF(H65=Gegevensblad!$A$29,G65*1,G65*2),"")
A66: 14 | B66: a. | I66: =IF(C66=Gegevensblad!$A$2,$D$8*2,"") | J66: =IF(C66=Gegevensblad!$A$3,IF(H66=Gegevensblad!$A$29,G66*1,G66*2),"")
B67: b. | I67: =IF(C67=Gegevensblad!$A$2,$D$8*2,"") | J67: =IF(C67=Gegevensblad!$A$3,IF(H67=Gegevensblad!$A$29,G67*1,G67*2),"")
B68: c. | I68: =IF(C68=Gegevensblad!$A$2,$D$8*2,"") | J68: =IF(C68=Gegevensblad!$A$3,IF(H68=Gegevensblad!$A$29,G68*1,G68*2),"")
B69: d. | I69: =IF(C69=Gegevensblad!$A$2,$D$8*2,"") | J69: =IF(C69=Gegevensblad!$A$3,IF(H69=Gegevensblad!$A$29,G69*1,G69*2),"")
A70: 15 | B70: a. | I70: =IF(C70=Gegevensblad!$A$2,$D$8*2,"") | J70: =IF(C70=Gegevensblad!$A$3,IF(H70=Gegevensblad!$A$29,G70*1,G70*2),"")
B71: b. | I71: =IF(C71=Gegevensblad!$A$2,$D$8*2,"") | J71: =IF(C71=Gegevensblad!$A$3,IF(H71=Gegevensblad!$A$29,G71*1,G71*2),"")
B72: c. | I72: =IF(C72=Gegevensblad!$A$2,$D$8*2,"") | J72: =IF(C72=Gegevensblad!$A$3,IF(H72=Gegevensblad!$A$29,G72*1,G72*2),"")
B73: d. | I73: =IF(C73=Gegevensblad!$A$2,$D$8*2,"") | J73: =IF(C73=Gegevensblad!$A$3,IF(H73=Gegevensblad!$A$29,G73*1,G73*2),"")
A74: 16 | B74: a. | I74: =IF(C74=Gegevensblad!$A$2,$D$8*2,"") | J74: =IF(C74=Gegevensblad!$A$3,IF(H74=Gegevensblad!$A$29,G74*1,G74*2),"")
B75: b. | I75: =IF(C75=Gegevensblad!$A$2,$D$8*2,"") | J75: =IF(C75=Gegevensblad!$A$3,IF(H75=Gegevensblad!$A$29,G75*1,G75*2),"")
B76: c. | I76: =IF(C76=Gegevensblad!$A$2,$D$8*2,"") | J76: =IF(C76=Gegevensblad!$A$3,IF(H76=Gegevensblad!$A$29,G76*1,G76*2),"")
B77: d. | I77: =IF(C77=Gegevensblad!$A$2,$D$8*2,"") | J77: =IF(C77=Gegevensblad!$A$3,IF(H77=Gegevensblad!$A$29,G77*1,G77*2),"")
A78: 17 | B78: a. | I78: =IF(C78=Gegevensblad!$A$2,$D$8*2,"") | J78: =IF(C78=Gegevensblad!$A$3,IF(H78=Gegevensblad!$A$29,G78*1,G78*2),"")
B79: b. | I79: =IF(C79=Gegevensblad!$A$2,$D$8*2,"") | J79: =IF(C79=Gegevensblad!$A$3,IF(H79=Gegevensblad!$A$29,G79*1,G79*2),"")
B80: c. | I80: =IF(C80=Gegevensblad!$A$2,$D$8*2,"") | J80: =IF(C80=Gegevensblad!$A$3,IF(H80=Gegevensblad!$A$29,G80*1,G80*2),"")
B81: d. | I81: =IF(C81=Gegevensblad!$A$2,$D$8*2,"") | J81: =IF(C81=Gegevensblad!$A$3,IF(H81=Gegevensblad!$A$29,G81*1,G81*2),"")
A82: 18 | B82: a. | I82: =IF(C82=Gegevensblad!$A$2,$D$8*2,"") | J82: =IF(C82=Gegevensblad!$A$3,IF(H82=Gegevensblad!$A$29,G82*1,G82*2),"")
B83: b. | I83: =IF(C83=Gegevensblad!$A$2,$D$8*2,"") | J83: =IF(C83=Gegevensblad!$A$3,IF(H83=Gegevensblad!$A$29,G83*1,G83*2),"")
B84: c. | I84: =IF(C84=Gegevensblad!$A$2,$D$8*2,"") | J84: =IF(C84=Gegevensblad!$A$3,IF(H84=Gegevensblad!$A$29,G84*1,G84*2),"")
B85: d. | I85: =IF(C85=Gegevensblad!$A$2,$D$8*2,"") | J85: =IF(C85=Gegevensblad!$A$3,IF(H85=Gegevensblad!$A$29,G85*1,G85*2),"")
A86: 19 | B86: a. | I86: =IF(C86=Gegevensblad!$A$2,$D$8*2,"") | J86: =IF(C86=Gegevensblad!$A$3,IF(H86=Gegevensblad!$A$29,G86*1,G86*2),"")
B87: b. | I87: =IF(C87=Gegevensblad!$A$2,$D$8*2,"") | J87: =IF(C87=Gegevensblad!$A$3,IF(H87=Gegevensblad!$A$29,G87*1,G87*2),"")
B88: c. | I88: =IF(C88=Gegevensblad!$A$2,$D$8*2,"") | J88: =IF(C88=Gegevensblad!$A$3,IF(H88=Gegevensblad!$A$29,G88*1,G88*2),"")
B89: d. | I89: =IF(C89=Gegevensblad!$A$2,$D$8*2,"") | J89: =IF(C89=Gegevensblad!$A$3,IF(H89=Gegevensblad!$A$29,G89*1,G89*2),"")
A90: 20 | B90: a. | I90: =IF(C90=Gegevensblad!$A$2,$D$8*2,"") | J90: =IF(C90=Gegevensblad!$A$3,IF(H90=Gegevensblad!$A$29,G90*1,G90*2),"")
B91: b. | I91: =IF(C91=Gegevensblad!$A$2,$D$8*2,"") | J91: =IF(C91=Gegevensblad!$A$3,IF(H91=Gegevensblad!$A$29,G91*1,G91*2),"")
B92: c. | I92: =IF(C92=Gegevensblad!$A$2,$D$8*2,"") | J92: =IF(C92=Gegevensblad!$A$3,IF(H92=Gegevensblad!$A$29,G92*1,G92*2),"")
B93: d. | I93: =IF(C93=Gegevensblad!$A$2,$D$8*2,"") | J93: =IF(C93=Gegevensblad!$A$3,IF(H93=Gegevensblad!$A$29,G93*1,G93*2),"")
A94: 21 | B94: a. | I94: =IF(C94=Gegevensblad!$A$2,$D$8*2,"") | J94: =IF(C94=Gegevensblad!$A$3,IF(H94=Gegevensblad!$A$29,G94*1,G94*2),"")
B95: b. | I95: =IF(C95=Gegevensblad!$A$2,$D$8*2,"") | J95: =IF(C95=Gegevensblad!$A$3,IF(H95=Gegevensblad!$A$29,G95*1,G95*2),"")
B96: c. | I96: =IF(C96=Gegevensblad!$A$2,$D$8*2,"") | J96: =IF(C96=Gegevensblad!$A$3,IF(H96=Gegevensblad!$A$29,G96*1,G96*2),"")
B97: d. | I97: =IF(C97=Gegevensblad!$A$2,$D$8*2,"") | J97: =IF(C97=Gegevensblad!$A$3,IF(H97=Gegevensblad!$A$29,G97*1,G97*2),"")
A98: 22 | B98: a. | I98: =IF(C98=Gegevensblad!$A$2,$D$8*2,"") | J98: =IF(C98=Gegevensblad!$A$3,IF(H98=Gegevensblad!$A$29,G98*1,G98*2),"")
B99: b. | I99: =IF(C99=Gegevensblad!$A$2,$D$8*2,"") | J99: =IF(C99=Gegevensblad!$A$3,IF(H99=Gegevensblad!$A$29,G99*1,G99*2),"")
B100: c. | I100: =IF(C100=Gegevensblad!$A$2,$D$8*2,"") | J100: =IF(C100=Gegevensblad!$A$3,IF(H100=Gegevensblad!$A$29,G100*1,G100*2),"")
B101: d. | I101: =IF(C101=Gegevensblad!$A$2,$D$8*2,"") | J101: =IF(C101=Gegevensblad!$A$3,IF(H101=Gegevensblad!$A$29,G101*1,G101*2),"")
A102: 23 | B102: a. | I102: =IF(C102=Gegevensblad!$A$2,$D$8*2,"") | J102: =IF(C102=Gegevensblad!$A$3,IF(H102=Gegevensblad!$A$29,G102*1,G102*2),"")
B103: b. | I103: =IF(C103=Gegevensblad!$A$2,$D$8*2,"") | J103: =IF(C103=Gegevensblad!$A$3,IF(H103=Gegevensblad!$A$29,G103*1,G103*2),"")
B104: c. | I104: =IF(C104=Gegevensblad!$A$2,$D$8*2,"") | J104: =IF(C104=Gegevensblad!$A$3,IF(H104=Gegevensblad!$A$29,G104*1,G104*2),"")
...

Sheet Augustus
A1: Declaratieformulier reiskostenvergoeding
A3: Klik hier voor uitleg van het formulier
A5: Naam medewerker | D5: =Januari!D5 -> naam
A6: Postcode huisadres | D6: =Januari!D6 -> 1235
A7: Postcode werkadres | D7: =Januari!D7 -> 5678CD
A8: Woon-werk kilometers enkele reisafstand | D8: =Januari!D8 -> 0
A9: Maand / jaar | D9: Augustus | E9: 2022
G12: Aantal km | H12: Enkele reis/ | I12: Km woon- | J12: Km | K12: Overig | L12: Totaal | M12: Toelichting
A13: Dag | C13: Te declareren | D13: Postcode van | E13: Postcode naar | F13: Reisdoel | G13: enkele reis | H13: retour | I13: werk | J13: zakelijk
A14: 1 | B14: a. | I14: =IF(C14=Gegevensblad!$A$2,$D$8*2,"") | J14: =IF(C14=Gegevensblad!$A$3,IF(H14=Gegevensblad!$A$29,G14*1,G14*2),"")
B15: b. | I15: =IF(C15=Gegevensblad!$A$2,$D$8*2,"") | J15: =IF(C15=Gegevensblad!$A$3,IF(H15=Gegevensblad!$A$29,G15*1,G15*2),"")
B16: c. | I16: =IF(C16=Gegevensblad!$A$2,$D$8*2,"") | J16: =IF(C16=Gegevensblad!$A$3,IF(H16=Gegevensblad!$A$29,G16*1,G16*2),"")
B17: d. | I17: =IF(C17=Gegevensblad!$A$2,$D$8*2,"") | J17: =IF(C17=Gegevensblad!$A$3,IF(H17=Gegevensblad!$A$29,G17*1,G17*2),"")
A18: 2 | B18: a. | I18: =IF(C18=Gegevensblad!$A$2,$D$8*2,"") | J18: =IF(C18=Gegevensblad!$A$3,IF(H18=Gegevensblad!$A$29,G18*1,G18*2),"")
B19: b. | I19: =IF(C19=Gegevensblad!$A$2,$D$8*2,"") | J19: =IF(C19=Gegevensblad!$A$3,IF(H19=Gegevensblad!$A$29,G19*1,G19*2),"")
B20: c. | I20: =IF(C20=Gegevensblad!$A$2,$D$8*2,"") | J20: =IF(C20=Gegevensblad!$A$3,IF(H20=Gegevensblad!$A$29,G20*1,G20*2),"")
B21: d. | I21: =IF(C21=Gegevensblad!$A$2,$D$8*2,"") | J21: =IF(C21=Gegevensblad!$A$3,IF(H21=Gegevensblad!$A$29,G21*1,G21*2),"")
A22: 3 | B22: a. | I22: =IF(C22=Gegevensblad!$A$2,$D$8*2,"") | J22: =IF(C22=Gegevensblad!$A$3,IF(H22=Gegevensblad!$A$29,G22*1,G22*2),"")
B23: b. | I23: =IF(C23=Gegevensblad!$A$2,$D$8*2,"") | J23: =IF(C23=Gegevensblad!$A$3,IF(H23=Gegevensblad!$A$29,G23*1,G23*2),"")
B24: c. | I24: =IF(C24=Gegevensblad!$A$2,$D$8*2,"") | J24: =IF(C24=Gegevensblad!$A$3,IF(H24=Gegevensblad!$A$29,G24*1,G24*2),"")
B25: d. | I25: =IF(C25=Gegevensblad!$A$2,$D$8*2,"") | J25: =IF(C25=Gegevensblad!$A$3,IF(H25=Gegevensblad!$A$29,G25*1,G25*2),"")
A26: 4 | B26: a. | I26: =IF(C26=Gegevensblad!$A$2,$D$8*2,"") | J26: =IF(C26=Gegevensblad!$A$3,IF(H26=Gegevensblad!$A$29,G26*1,G26*2),"")
B27: b. | I27: =IF(C27=Gegevensblad!$A$2,$D$8*2,"") | J27: =IF(C27=Gegevensblad!$A$3,IF(H27=Gegevensblad!$A$29,G27*1,G27*2),"")
B28: c. | I28: =IF(C28=Gegevensblad!$A$2,$D$8*2,"") | J28: =IF(C28=Gegevensblad!$A$3,IF(H28=Gegevensblad!$A$29,G28*1,G28*2),"")
B29: d. | I29: =IF(C29=Gegevensblad!$A$2,$D$8*2,"") | J29: =IF(C29=Gegevensblad!$A$3,IF(H29=Gegevensblad!$A$29,G29*1,G29*2),"")
A30: 5 | B30: a. | I30: =IF(C30=Gegevensblad!$A$2,$D$8*2,"") | J30: =IF(C30=Gegevensblad!$A$3,IF(H30=Gegevensblad!$A$29,G30*1,G30*2),"")
B31: b. | I31: =IF(C31=Gegevensblad!$A$2,$D$8*2,"") | J31: =IF(C31=Gegevensblad!$A$3,IF(H31=Gegevensblad!$A$29,G31*1,G31*2),"")
B32: c. | I32: =IF(C32=Gegevensblad!$A$2,$D$8*2,"") | J32: =IF(C32=Gegevensblad!$A$3,IF(H32=Gegevensblad!$A$29,G32*1,G32*2),"")
B33: d. | I33: =IF(C33=Gegevensblad!$A$2,$D$8*2,"") | J33: =IF(C33=Gegevensblad!$A$3,IF(H33=Gegevensblad!$A$29,G33*1,G33*2),"")
A34: 6 | B34: a. | I34: =IF(C34=Gegevensblad!$A$2,$D$8*2,"") | J34: =IF(C34=Gegevensblad!$A$3,IF(H34=Gegevensblad!$A$29,G34*1,G34*2),"")
B35: b. | I35: =IF(C35=Gegevensblad!$A$2,$D$8*2,"") | J35: =IF(C35=Gegevensblad!$A$3,IF(H35=Gegevensblad!$A$29,G35*1,G35*2),"")
B36: c. | I36: =IF(C36=Gegevensblad!$A$2,$D$8*2,"") | J36: =IF(C36=Gegevensblad!$A$3,IF(H36=Gegevensblad!$A$29,G36*1,G36*2),"")
B37: d. | I37: =IF(C37=Gegevensblad!$A$2,$D$8*2,"") | J37: =IF(C37=Gegevensblad!$A$3,IF(H37=Gegevensblad!$A$29,G37*1,G37*2),"")
A38: 7 | B38: a. | I38: =IF(C38=Gegevensblad!$A$2,$D$8*2,"") | J38: =IF(C38=Gegevensblad!$A$3,IF(H38=Gegevensblad!$A$29,G38*1,G38*2),"")
B39: b. | I39: =IF(C39=Gegevensblad!$A$2,$D$8*2,"") | J39: =IF(C39=Gegevensblad!$A$3,IF(H39=Gegevensblad!$A$29,G39*1,G39*2),"")
B40: c. | I40: =IF(C40=Gegevensblad!$A$2,$D$8*2,"") | J40: =IF(C40=Gegevensblad!$A$3,IF(H40=Gegevensblad!$A$29,G40*1,G40*2),"")
B41: d. | I41: =IF(C41=Gegevensblad!$A$2,$D$8*2,"") | J41: =IF(C41=Gegevensblad!$A$3,IF(H41=Gegevensblad!$A$29,G41*1,G41*2),"")
A42: 8 | B42: a. | I42: =IF(C42=Gegevensblad!$A$2,$D$8*2,"") | J42: =IF(C42=Gegevensblad!$A$3,IF(H42=Gegevensblad!$A$29,G42*1,G42*2),"")
B43: b. | I43: =IF(C43=Gegevensblad!$A$2,$D$8*2,"") | J43: =IF(C43=Gegevensblad!$A$3,IF(H43=Gegevensblad!$A$29,G43*1,G43*2),"")
B44: c. | I44: =IF(C44=Gegevensblad!$A$2,$D$8*2,"") | J44: =IF(C44=Gegevensblad!$A$3,IF(H44=Gegevensblad!$A$29,G44*1,G44*2),"")
B45: d. | I45: =IF(C45=Gegevensblad!$A$2,$D$8*2,"") | J45: =IF(C45=Gegevensblad!$A$3,IF(H45=Gegevensblad!$A$29,G45*1,G45*2),"")
A46: 9 | B46: a. | I46: =IF(C46=Gegevensblad!$A$2,$D$8*2,"") | J46: =IF(C46=Gegevensblad!$A$3,IF(H46=Gegevensblad!$A$29,G46*1,G46*2),"")
B47: b. | I47: =IF(C47=Gegevensblad!$A$2,$D$8*2,"") | J47: =IF(C47=Gegevensblad!$A$3,IF(H47=Gegevensblad!$A$29,G47*1,G47*2),"")
B48: c. | I48: =IF(C48=Gegevensblad!$A$2,$D$8*2,"") | J48: =IF(C48=Gegevensblad!$A$3,IF(H48=Gegevensblad!$A$29,G48*1,G48*2),"")
B49: d. | I49: =IF(C49=Gegevensblad!$A$2,$D$8*2,"") | J49: =IF(C49=Gegevensblad!$A$3,IF(H49=Gegevensblad!$A$29,G49*1,G49*2),"")
A50: 10 | B50: a. | I50: =IF(C50=Gegevensblad!$A$2,$D$8*2,"") | J50: =IF(C50=Gegevensblad!$A$3,IF(H50=Gegevensblad!$A$29,G50*1,G50*2),"")
B51: b. | I51: =IF(C51=Gegevensblad!$A$2,$D$8*2,"") | J51: =IF(C51=Gegevensblad!$A$3,IF(H51=Gegevensblad!$A$29,G51*1,G51*2),"")
B52: c. | I52: =IF(C52=Gegevensblad!$A$2,$D$8*2,"") | J52: =IF(C52=Gegevensblad!$A$3,IF(H52=Gegevensblad!$A$29,G52*1,G52*2),"")
B53: d. | I53: =IF(C53=Gegevensblad!$A$2,$D$8*2,"") | J53: =IF(C53=Gegevensblad!$A$3,IF(H53=Gegevensblad!$A$29,G53*1,G53*2),"")
A54: 11 | B54: a. | I54: =IF(C54=Gegevensblad!$A$2,$D$8*2,"") | J54: =IF(C54=Gegevensblad!$A$3,IF(H54=Gegevensblad!$A$29,G54*1,G54*2),"")
B55: b. | I55: =IF(C55=Gegevensblad!$A$2,$D$8*2,"") | J55: =IF(C55=Gegevensblad!$A$3,IF(H55=Gegevensblad!$A$29,G55*1,G55*2),"")
B56: c. | I56: =IF(C56=Gegevensblad!$A$2,$D$8*2,"") | J56: =IF(C56=Gegevensblad!$A$3,IF(H56=Gegevensblad!$A$29,G56*1,G56*2),"")
B57: d. | I57: =IF(C57=Gegevensblad!$A$2,$D$8*2,"") | J57: =IF(C57=Gegevensblad!$A$3,IF(H57=Gegevensblad!$A$29,G57*1,G57*2),"")
A58: 12 | B58: a. | I58: =IF(C58=Gegevensblad!$A$2,$D$8*2,"") | J58: =IF(C58=Gegevensblad!$A$3,IF(H58=Gegevensblad!$A$29,G58*1,G58*2),"")
B59: b. | I59: =IF(C59=Gegevensblad!$A$2,$D$8*2,"") | J59: =IF(C59=Gegevensblad!$A$3,IF(H59=Gegevensblad!$A$29,G59*1,G59*2),"")
B60: c. | I60: =IF(C60=Gegevensblad!$A$2,$D$8*2,"") | J60: =IF(C60=Gegevensblad!$A$3,IF(H60=Gegevensblad!$A$29,G60*1,G60*2),"")
B61: d. | I61: =IF(C61=Gegevensblad!$A$2,$D$8*2,"") | J61: =IF(C61=Gegevensblad!$A$3,IF(H61=Gegevensblad!$A$29,G61*1,G61*2),"")
A62: 13 | B62: a. | I62: =IF(C62=Gegevensblad!$A$2,$D$8*2,"") | J62: =IF(C62=Gegevensblad!$A$3,IF(H62=Gegevensblad!$A$29,G62*1,G62*2),"")
B63: b. | I63: =IF(C63=Gegevensblad!$A$2,$D$8*2,"") | J63: =IF(C63=Gegevensblad!$A$3,IF(H63=Gegevensblad!$A$29,G63*1,G63*2),"")
B64: c. | I64: =IF(C64=Gegevensblad!$A$2,$D$8*2,"") | J64: =IF(C64=Gegevensblad!$A$3,IF(H64=Gegevensblad!$A$29,G64*1,G64*2),"")
B65: d. | I65: =IF(C65=Gegevensblad!$A$2,$D$8*2,"") | J65: =IF(C65=Gegevensblad!$A$3,IF(H65=Gegevensblad!$A$29,G65*1,G65*2),"")
A66: 14 | B66: a. | I66: =IF(C66=Gegevensblad!$A$2,$D$8*2,"") | J66: =IF(C66=Gegevensblad!$A$3,IF(H66=Gegevensblad!$A$29,G66*1,G66*2),"")
B67: b. | I67: =IF(C67=Gegevensblad!$A$2,$D$8*2,"") | J67: =IF(C67=Gegevensblad!$A$3,IF(H67=Gegevensblad!$A$29,G67*1,G67*2),"")
B68: c. | I68: =IF(C68=Gegevensblad!$A$2,$D$8*2,"") | J68: =IF(C68=Gegevensblad!$A$3,IF(H68=Gegevensblad!$A$29,G68*1,G68*2),"")
B69: d. | I69: =IF(C69=Gegevensblad!$A$2,$D$8*2,"") | J69: =IF(C69=Gegevensblad!$A$3,IF(H69=Gegevensblad!$A$29,G69*1,G69*2),"")
A70: 15 | B70: a. | I70: =IF(C70=Gegevensblad!$A$2,$D$8*2,"") | J70: =IF(C70=Gegevensblad!$A$3,IF(H70=Gegevensblad!$A$29,G70*1,G70*2),"")
B71: b. | I71: =IF(C71=Gegevensblad!$A$2,$D$8*2,"") | J71: =IF(C71=Gegevensblad!$A$3,IF(H71=Gegevensblad!$A$29,G71*1,G71*2),"")
B72: c. | I72: =IF(C72=Gegevensblad!$A$2,$D$8*2,"") | J72: =IF(C72=Gegevensblad!$A$3,IF(H72=Gegevensblad!$A$29,G72*1,G72*2),"")
B73: d. | I73: =IF(C73=Gegevensblad!$A$2,$D$8*2,"") | J73: =IF(C73=Gegevensblad!$A$3,IF(H73=Gegevensblad!$A$29,G73*1,G73*2),"")
A74: 16 | B74: a. | I74: =IF(C74=Gegevensblad!$A$2,$D$8*2,"") | J74: =IF(C74=Gegevensblad!$A$3,IF(H74=Gegevensblad!$A$29,G74*1,G74*2),"")
B75: b. | I75: =IF(C75=Gegevensblad!$A$2,$D$8*2,"") | J75: =IF(C75=Gegevensblad!$A$3,IF(H75=Gegevensblad!$A$29,G75*1,G75*2),"")
B76: c. | I76: =IF(C76=Gegevensblad!$A$2,$D$8*2,"") | J76: =IF(C76=Gegevensblad!$A$3,IF(H76=Gegevensblad!$A$29,G76*1,G76*2),"")
B77: d. | I77: =IF(C77=Gegevensblad!$A$2,$D$8*2,"") | J77: =IF(C77=Gegevensblad!$A$3,IF(H77=Gegevensblad!$A$29,G77*1,G77*2),"")
A78: 17 | B78: a. | I78: =IF(C78=Gegevensblad!$A$2,$D$8*2,"") | J78: =IF(C78=Gegevensblad!$A$3,IF(H78=Gegevensblad!$A$29,G78*1,G78*2),"")
B79: b. | I79: =IF(C79=Gegevensblad!$A$2,$D$8*2,"") | J79: =IF(C79=Gegevensblad!$A$3,IF(H79=Gegevensblad!$A$29,G79*1,G79*2),"")
B80: c. | I80: =IF(C80=Gegevensblad!$A$2,$D$8*2,"") | J80: =IF(C80=Gegevensblad!$A$3,IF(H80=Gegevensblad!$A$29,G80*1,G80*2),"")
B81: d. | I81: =IF(C81=Gegevensblad!$A$2,$D$8*2,"") | J81: =IF(C81=Gegevensblad!$A$3,IF(H81=Gegevensblad!$A$29,G81*1,G81*2),"")
A82: 18 | B82: a. | I82: =IF(C82=Gegevensblad!$A$2,$D$8*2,"") | J82: =IF(C82=Gegevensblad!$A$3,IF(H82=Gegevensblad!$A$29,G82*1,G82*2),"")
B83: b. | I83: =IF(C83=Gegevensblad!$A$2,$D$8*2,"") | J83: =IF(C83=Gegevensblad!$A$3,IF(H83=Gegevensblad!$A$29,G83*1,G83*2),"")
B84: c. | I84: =IF(C84=Gegevensblad!$A$2,$D$8*2,"") | J84: =IF(C84=Gegevensblad!$A$3,IF(H84=Gegevensblad!$A$29,G84*1,G84*2),"")
B85: d. | I85: =IF(C85=Gegevensblad!$A$2,$D$8*2,"") | J85: =IF(C85=Gegevensblad!$A$3,IF(H85=Gegevensblad!$A$29,G85*1,G85*2),"")
A86: 19 | B86: a. | I86: =IF(C86=Gegevensblad!$A$2,$D$8*2,"") | J86: =IF(C86=Gegevensblad!$A$3,IF(H86=Gegevensblad!$A$29,G86*1,G86*2),"")
B87: b. | I87: =IF(C87=Gegevensblad!$A$2,$D$8*2,"") | J87: =IF(C87=Gegevensblad!$A$3,IF(H87=Gegevensblad!$A$29,G87*1,G87*2),"")
B88: c. | I88: =IF(C88=Gegevensblad!$A$2,$D$8*2,"") | J88: =IF(C88=Gegevensblad!$A$3,IF(H88=Gegevensblad!$A$29,G88*1,G88*2),"")
B89: d. | I89: =IF(C89=Gegevensblad!$A$2,$D$8*2,"") | J89: =IF(C89=Gegevensblad!$A$3,IF(H89=Gegevensblad!$A$29,G89*1,G89*2),"")
A90: 20 | B90: a. | I90: =IF(C90=Gegevensblad!$A$2,$D$8*2,"") | J90: =IF(C90=Gegevensblad!$A$3,IF(H90=Gegevensblad!$A$29,G90*1,G90*2),"")
B91: b. | I91: =IF(C91=Gegevensblad!$A$2,$D$8*2,"") | J91: =IF(C91=Gegevensblad!$A$3,IF(H91=Gegevensblad!$A$29,G91*1,G91*2),"")
B92: c. | I92: =IF(C92=Gegevensblad!$A$2,$D$8*2,"") | J92: =IF(C92=Gegevensblad!$A$3,IF(H92=Gegevensblad!$A$29,G92*1,G92*2),"")
B93: d. | I93: =IF(C93=Gegevensblad!$A$2,$D$8*2,"") | J93: =IF(C93=Gegevensblad!$A$3,IF(H93=Gegevensblad!$A$29,G93*1,G93*2),"")
A94: 21 | B94: a. | I94: =IF(C94=Gegevensblad!$A$2,$D$8*2,"") | J94: =IF(C94=Gegevensblad!$A$3,IF(H94=Gegevensblad!$A$29,G94*1,G94*2),"")
B95: b. | I95: =IF(C95=Gegevensblad!$A$2,$D$8*2,"") | J95: =IF(C95=Gegevensblad!$A$3,IF(H95=Gegevensblad!$A$29,G95*1,G95*2),"")
B96: c. | I96: =IF(C96=Gegevensblad!$A$2,$D$8*2,"") | J96: =IF(C96=Gegevensblad!$A$3,IF(H96=Gegevensblad!$A$29,G96*1,G96*2),"")
B97: d. | I97: =IF(C97=Gegevensblad!$A$2,$D$8*2,"") | J97: =IF(C97=Gegevensblad!$A$3,IF(H97=Gegevensblad!$A$29,G97*1,G97*2),"")
A98: 22 | B98: a. | I98: =IF(C98=Gegevensblad!$A$2,$D$8*2,"") | J98: =IF(C98=Gegevensblad!$A$3,IF(H98=Gegevensblad!$A$29,G98*1,G98*2),"")
B99: b. | I99: =IF(C99=Gegevensblad!$A$2,$D$8*2,"") | J99: =IF(C99=Gegevensblad!$A$3,IF(H99=Gegevensblad!$A$29,G99*1,G99*2),"")
B100: c. | I100: =IF(C100=Gegevensblad!$A$2,$D$8*2,"") | J100: =IF(C100=Gegevensblad!$A$3,IF(H100=Gegevensblad!$A$29,G100*1,G100*2),"")
B101: d. | I101: =IF(C101=Gegevensblad!$A$2,$D$8*2,"") | J101: =IF(C101=Gegevensblad!$A$3,IF(H101=Gegevensblad!$A$29,G101*1,G101*2),"")
A102: 23 | B102: a. | I102: =IF(C102=Gegevensblad!$A$2,$D$8*2,"") | J102: =IF(C102=Gegevensblad!$A$3,IF(H102=Gegevensblad!$A$29,G102*1,G102*2),"")
B103: b. | I103: =IF(C103=Gegevensblad!$A$2,$D$8*2,"") | J103: =IF(C103=Gegevensblad!$A$3,IF(H103=Gegevensblad!$A$29,G103*1,G103*2),"")
B104: c. | I104: =IF(C104=Gegevensblad!$A$2,$D$8*2,"") | J104: =IF(C104=Gegevensblad!$A$3,IF(H104=Gegevensblad!$A$29,G104*1,G104*2),"")
...

Sheet September
A1: Declaratieformulier reiskostenvergoeding
A3: Klik hier voor uitleg van het formulier
A5: Naam medewerker | D5: =Januari!D5 -> naam
A6: Postcode huisadres | D6: =Januari!D6 -> 1235
A7: Postcode werkadres | D7: =Januari!D7 -> 5678CD
A8: Woon-werk kilometers enkele reisafstand | D8: =Januari!D8 -> 0
A9: Maand / jaar | D9: September | E9: 2022
G12: Aantal km | H12: Enkele reis/ | I12: Km woon- | J12: Km | K12: Overig | L12: Totaal | M12: Toelichting
A13: Dag | C13: Te declareren | D13: Postcode van | E13: Postcode naar | F13: Reisdoel | G13: enkele reis | H13: retour | I13: werk | J13: zakelijk
A14: 1 | B14: a. | I14: =IF(C14=Gegevensblad!$A$2,$D$8*2,"") | J14: =IF(C14=Gegevensblad!$A$3,IF(H14=Gegevensblad!$A$29,G14*1,G14*2),"")
B15: b. | I15: =IF(C15=Gegevensblad!$A$2,$D$8*2,"") | J15: =IF(C15=Gegevensblad!$A$3,IF(H15=Gegevensblad!$A$29,G15*1,G15*2),"")
B16: c. | I16: =IF(C16=Gegevensblad!$A$2,$D$8*2,"") | J16: =IF(C16=Gegevensblad!$A$3,IF(H16=Gegevensblad!$A$29,G16*1,G16*2),"")
B17: d. | I17: =IF(C17=Gegevensblad!$A$2,$D$8*2,"") | J17: =IF(C17=Gegevensblad!$A$3,IF(H17=Gegevensblad!$A$29,G17*1,G17*2),"")
A18: 2 | B18: a. | I18: =IF(C18=Gegevensblad!$A$2,$D$8*2,"") | J18: =IF(C18=Gegevensblad!$A$3,IF(H18=Gegevensblad!$A$29,G18*1,G18*2),"")
B19: b. | I19: =IF(C19=Gegevensblad!$A$2,$D$8*2,"") | J19: =IF(C19=Gegevensblad!$A$3,IF(H19=Gegevensblad!$A$29,G19*1,G19*2),"")
B20: c. | I20: =IF(C20=Gegevensblad!$A$2,$D$8*2,"") | J20: =IF(C20=Gegevensblad!$A$3,IF(H20=Gegevensblad!$A$29,G20*1,G20*2),"")
B21: d. | I21: =IF(C21=Gegevensblad!$A$2,$D$8*2,"") | J21: =IF(C21=Gegevensblad!$A$3,IF(H21=Gegevensblad!$A$29,G21*1,G21*2),"")
A22: 3 | B22: a. | I22: =IF(C22=Gegevensblad!$A$2,$D$8*2,"") | J22: =IF(C22=Gegevensblad!$A$3,IF(H22=Gegevensblad!$A$29,G22*1,G22*2),"")
B23: b. | I23: =IF(C23=Gegevensblad!$A$2,$D$8*2,"") | J23: =IF(C23=Gegevensblad!$A$3,IF(H23=Gegevensblad!$A$29,G23*1,G23*2),"")
B24: c. | I24: =IF(C24=Gegevensblad!$A$2,$D$8*2,"") | J24: =IF(C24=Gegevensblad!$A$3,IF(H24=Gegevensblad!$A$29,G24*1,G24*2),"")
B25: d. | I25: =IF(C25=Gegevensblad!$A$2,$D$8*2,"") | J25: =IF(C25=Gegevensblad!$A$3,IF(H25=Gegevensblad!$A$29,G25*1,G25*2),"")
A26: 4 | B26: a. | I26: =IF(C26=Gegevensblad!$A$2,$D$8*2,"") | J26: =IF(C26=Gegevensblad!$A$3,IF(H26=Gegevensblad!$A$29,G26*1,G26*2),"")
B27: b. | I27: =IF(C27=Gegevensblad!$A$2,$D$8*2,"") | J27: =IF(C27=Gegevensblad!$A$3,IF(H27=Gegevensblad!$A$29,G27*1,G27*2),"")
B28: c. | I28: =IF(C28=Gegevensblad!$A$2,$D$8*2,"") | J28: =IF(C28=Gegevensblad!$A$3,IF(H28=Gegevensblad!$A$29,G28*1,G28*2),"")
B29: d. | I29: =IF(C29=Gegevensblad!$A$2,$D$8*2,"") | J29: =IF(C29=Gegevensblad!$A$3,IF(H29=Gegevensblad!$A$29,G29*1,G29*2),"")
A30: 5 | B30: a. | I30: =IF(C30=Gegevensblad!$A$2,$D$8*2,"") | J30: =IF(C30=Gegevensblad!$A$3,IF(H30=Gegevensblad!$A$29,G30*1,G30*2),"")
B31: b. | I31: =IF(C31=Gegevensblad!$A$2,$D$8*2,"") | J31: =IF(C31=Gegevensblad!$A$3,IF(H31=Gegevensblad!$A$29,G31*1,G31*2),"")
B32: c. | I32: =IF(C32=Gegevensblad!$A$2,$D$8*2,"") | J32: =IF(C32=Gegevensblad!$A$3,IF(H32=Gegevensblad!$A$29,G32*1,G32*2),"")
B33: d. | I33: =IF(C33=Gegevensblad!$A$2,$D$8*2,"") | J33: =IF(C33=Gegevensblad!$A$3,IF(H33=Gegevensblad!$A$29,G33*1,G33*2),"")
A34: 6 | B34: a. | I34: =IF(C34=Gegevensblad!$A$2,$D$8*2,"") | J34: =IF(C34=Gegevensblad!$A$3,IF(H34=Gegevensblad!$A$29,G34*1,G34*2),"")
B35: b. | I35: =IF(C35=Gegevensblad!$A$2,$D$8*2,"") | J35: =IF(C35=Gegevensblad!$A$3,IF(H35=Gegevensblad!$A$29,G35*1,G35*2),"")
B36: c. | I36: =IF(C36=Gegevensblad!$A$2,$D$8*2,"") | J36: =IF(C36=Gegevensblad!$A$3,IF(H36=Gegevensblad!$A$29,G36*1,G36*2),"")
B37: d. | I37: =IF(C37=Gegevensblad!$A$2,$D$8*2,"") | J37: =IF(C37=Gegevensblad!$A$3,IF(H37=Gegevensblad!$A$29,G37*1,G37*2),"")
A38: 7 | B38: a. | I38: =IF(C38=Gegevensblad!$A$2,$D$8*2,"") | J38: =IF(C38=Gegevensblad!$A$3,IF(H38=Gegevensblad!$A$29,G38*1,G38*2),"")
B39: b. | I39: =IF(C39=Gegevensblad!$A$2,$D$8*2,"") | J39: =IF(C39=Gegevensblad!$A$3,IF(H39=Gegevensblad!$A$29,G39*1,G39*2),"")
B40: c. | I40: =IF(C40=Gegevensblad!$A$2,$D$8*2,"") | J40: =IF(C40=Gegevensblad!$A$3,IF(H40=Gegevensblad!$A$29,G40*1,G40*2),"")
B41: d. | I41: =IF(C41=Gegevensblad!$A$2,$D$8*2,"") | J41: =IF(C41=Gegevensblad!$A$3,IF(H41=Gegevensblad!$A$29,G41*1,G41*2),"")
A42: 8 | B42: a. | I42: =IF(C42=Gegevensblad!$A$2,$D$8*2,"") | J42: =IF(C42=Gegevensblad!$A$3,IF(H42=Gegevensblad!$A$29,G42*1,G42*2),"")
B43: b. | I43: =IF(C43=Gegevensblad!$A$2,$D$8*2,"") | J43: =IF(C43=Gegevensblad!$A$3,IF(H43=Gegevensblad!$A$29,G43*1,G43*2),"")
B44: c. | I44: =IF(C44=Gegevensblad!$A$2,$D$8*2,"") | J44: =IF(C44=Gegevensblad!$A$3,IF(H44=Gegevensblad!$A$29,G44*1,G44*2),"")
B45: d. | I45: =IF(C45=Gegevensblad!$A$2,$D$8*2,"") | J45: =IF(C45=Gegevensblad!$A$3,IF(H45=Gegevensblad!$A$29,G45*1,G45*2),"")
A46: 9 | B46: a. | I46: =IF(C46=Gegevensblad!$A$2,$D$8*2,"") | J46: =IF(C46=Gegevensblad!$A$3,IF(H46=Gegevensblad!$A$29,G46*1,G46*2),"")
B47: b. | I47: =IF(C47=Gegevensblad!$A$2,$D$8*2,"") | J47: =IF(C47=Gegevensblad!$A$3,IF(H47=Gegevensblad!$A$29,G47*1,G47*2),"")
B48: c. | I48: =IF(C48=Gegevensblad!$A$2,$D$8*2,"") | J48: =IF(C48=Gegevensblad!$A$3,IF(H48=Gegevensblad!$A$29,G48*1,G48*2),"")
B49: d. | I49: =IF(C49=Gegevensblad!$A$2,$D$8*2,"") | J49: =IF(C49=Gegevensblad!$A$3,IF(H49=Gegevensblad!$A$29,G49*1,G49*2),"")
A50: 10 | B50: a. | I50: =IF(C50=Gegevensblad!$A$2,$D$8*2,"") | J50: =IF(C50=Gegevensblad!$A$3,IF(H50=Gegevensblad!$A$29,G50*1,G50*2),"")
B51: b. | I51: =IF(C51=Gegevensblad!$A$2,$D$8*2,"") | J51: =IF(C51=Gegevensblad!$A$3,IF(H51=Gegevensblad!$A$29,G51*1,G51*2),"")
B52: c. | I52: =IF(C52=Gegevensblad!$A$2,$D$8*2,"") | J52: =IF(C52=Gegevensblad!$A$3,IF(H52=Gegevensblad!$A$29,G52*1,G52*2),"")
B53: d. | I53: =IF(C53=Gegevensblad!$A$2,$D$8*2,"") | J53: =IF(C53=Gegevensblad!$A$3,IF(H53=Gegevensblad!$A$29,G53*1,G53*2),"")
A54: 11 | B54: a. | I54: =IF(C54=Gegevensblad!$A$2,$D$8*2,"") | J54: =IF(C54=Gegevensblad!$A$3,IF(H54=Gegevensblad!$A$29,G54*1,G54*2),"")
B55: b. | I55: =IF(C55=Gegevensblad!$A$2,$D$8*2,"") | J55: =IF(C55=Gegevensblad!$A$3,IF(H55=Gegevensblad!$A$29,G55*1,G55*2),"")
B56: c. | I56: =IF(C56=Gegevensblad!$A$2,$D$8*2,"") | J56: =IF(C56=Gegevensblad!$A$3,IF(H56=Gegevensblad!$A$29,G56*1,G56*2),"")
B57: d. | I57: =IF(C57=Gegevensblad!$A$2,$D$8*2,"") | J57: =IF(C57=Gegevensblad!$A$3,IF(H57=Gegevensblad!$A$29,G57*1,G57*2),"")
A58: 12 | B58: a. | I58: =IF(C58=Gegevensblad!$A$2,$D$8*2,"") | J58: =IF(C58=Gegevensblad!$A$3,IF(H58=Gegevensblad!$A$29,G58*1,G58*2),"")
B59: b. | I59: =IF(C59=Gegevensblad!$A$2,$D$8*2,"") | J59: =IF(C59=Gegevensblad!$A$3,IF(H59=Gegevensblad!$A$29,G59*1,G59*2),"")
B60: c. | I60: =IF(C60=Gegevensblad!$A$2,$D$8*2,"") | J60: =IF(C60=Gegevensblad!$A$3,IF(H60=Gegevensblad!$A$29,G60*1,G60*2),"")
B61: d. | I61: =IF(C61=Gegevensblad!$A$2,$D$8*2,"") | J61: =IF(C61=Gegevensblad!$A$3,IF(H61=Gegevensblad!$A$29,G61*1,G61*2),"")
A62: 13 | B62: a. | I62: =IF(C62=Gegevensblad!$A$2,$D$8*2,"") | J62: =IF(C62=Gegevensblad!$A$3,IF(H62=Gegevensblad!$A$29,G62*1,G62*2),"")
B63: b. | I63: =IF(C63=Gegevensblad!$A$2,$D$8*2,"") | J63: =IF(C63=Gegevensblad!$A$3,IF(H63=Gegevensblad!$A$29,G63*1,G63*2),"")
B64: c. | I64: =IF(C64=Gegevensblad!$A$2,$D$8*2,"") | J64: =IF(C64=Gegevensblad!$A$3,IF(H64=Gegevensblad!$A$29,G64*1,G64*2),"")
B65: d. | I65: =IF(C65=Gegevensblad!$A$2,$D$8*2,"") | J65: =IF(C65=Gegevensblad!$A$3,IF(H65=Gegevensblad!$A$29,G65*1,G65*2),"")
A66: 14 | B66: a. | I66: =IF(C66=Gegevensblad!$A$2,$D$8*2,"") | J66: =IF(C66=Gegevensblad!$A$3,IF(H66=Gegevensblad!$A$29,G66*1,G66*2),"")
B67: b. | I67: =IF(C67=Gegevensblad!$A$2,$D$8*2,"") | J67: =IF(C67=Gegevensblad!$A$3,IF(H67=Gegevensblad!$A$29,G67*1,G67*2),"")
B68: c. | I68: =IF(C68=Gegevensblad!$A$2,$D$8*2,"") | J68: =IF(C68=Gegevensblad!$A$3,IF(H68=Gegevensblad!$A$29,G68*1,G68*2),"")
B69: d. | I69: =IF(C69=Gegevensblad!$A$2,$D$8*2,"") | J69: =IF(C69=Gegevensblad!$A$3,IF(H69=Gegevensblad!$A$29,G69*1,G69*2),"")
A70: 15 | B70: a. | I70: =IF(C70=Gegevensblad!$A$2,$D$8*2,"") | J70: =IF(C70=Gegevensblad!$A$3,IF(H70=Gegevensblad!$A$29,G70*1,G70*2),"")
B71: b. | I71: =IF(C71=Gegevensblad!$A$2,$D$8*2,"") | J71: =IF(C71=Gegevensblad!$A$3,IF(H71=Gegevensblad!$A$29,G71*1,G71*2),"")
B72: c. | I72: =IF(C72=Gegevensblad!$A$2,$D$8*2,"") | J72: =IF(C72=Gegevensblad!$A$3,IF(H72=Gegevensblad!$A$29,G72*1,G72*2),"")
B73: d. | I73: =IF(C73=Gegevensblad!$A$2,$D$8*2,"") | J73: =IF(C73=Gegevensblad!$A$3,IF(H73=Gegevensblad!$A$29,G73*1,G73*2),"")
A74: 16 | B74: a. | I74: =IF(C74=Gegevensblad!$A$2,$D$8*2,"") | J74: =IF(C74=Gegevensblad!$A$3,IF(H74=Gegevensblad!$A$29,G74*1,G74*2),"")
B75: b. | I75: =IF(C75=Gegevensblad!$A$2,$D$8*2,"") | J75: =IF(C75=Gegevensblad!$A$3,IF(H75=Gegevensblad!$A$29,G75*1,G75*2),"")
B76: c. | I76: =IF(C76=Gegevensblad!$A$2,$D$8*2,"") | J76: =IF(C76=Gegevensblad!$A$3,IF(H76=Gegevensblad!$A$29,G76*1,G76*2),"")
B77: d. | I77: =IF(C77=Gegevensblad!$A$2,$D$8*2,"") | J77: =IF(C77=Gegevensblad!$A$3,IF(H77=Gegevensblad!$A$29,G77*1,G77*2),"")
A78: 17 | B78: a. | I78: =IF(C78=Gegevensblad!$A$2,$D$8*2,"") | J78: =IF(C78=Gegevensblad!$A$3,IF(H78=Gegevensblad!$A$29,G78*1,G78*2),"")
B79: b. | I79: =IF(C79=Gegevensblad!$A$2,$D$8*2,"") | J79: =IF(C79=Gegevensblad!$A$3,IF(H79=Gegevensblad!$A$29,G79*1,G79*2),"")
B80: c. | I80: =IF(C80=Gegevensblad!$A$2,$D$8*2,"") | J80: =IF(C80=Gegevensblad!$A$3,IF(H80=Gegevensblad!$A$29,G80*1,G80*2),"")
B81: d. | I81: =IF(C81=Gegevensblad!$A$2,$D$8*2,"") | J81: =IF(C81=Gegevensblad!$A$3,IF(H81=Gegevensblad!$A$29,G81*1,G81*2),"")
A82: 18 | B82: a. | I82: =IF(C82=Gegevensblad!$A$2,$D$8*2,"") | J82: =IF(C82=Gegevensblad!$A$3,IF(H82=Gegevensblad!$A$29,G82*1,G82*2),"")
B83: b. | I83: =IF(C83=Gegevensblad!$A$2,$D$8*2,"") | J83: =IF(C83=Gegevensblad!$A$3,IF(H83=Gegevensblad!$A$29,G83*1,G83*2),"")
B84: c. | I84: =IF(C84=Gegevensblad!$A$2,$D$8*2,"") | J84: =IF(C84=Gegevensblad!$A$3,IF(H84=Gegevensblad!$A$29,G84*1,G84*2),"")
B85: d. | I85: =IF(C85=Gegevensblad!$A$2,$D$8*2,"") | J85: =IF(C85=Gegevensblad!$A$3,IF(H85=Gegevensblad!$A$29,G85*1,G85*2),"")
A86: 19 | B86: a. | I86: =IF(C86=Gegevensblad!$A$2,$D$8*2,"") | J86: =IF(C86=Gegevensblad!$A$3,IF(H86=Gegevensblad!$A$29,G86*1,G86*2),"")
B87: b. | I87: =IF(C87=Gegevensblad!$A$2,$D$8*2,"") | J87: =IF(C87=Gegevensblad!$A$3,IF(H87=Gegevensblad!$A$29,G87*1,G87*2),"")
B88: c. | I88: =IF(C88=Gegevensblad!$A$2,$D$8*2,"") | J88: =IF(C88=Gegevensblad!$A$3,IF(H88=Gegevensblad!$A$29,G88*1,G88*2),"")
B89: d. | I89: =IF(C89=Gegevensblad!$A$2,$D$8*2,"") | J89: =IF(C89=Gegevensblad!$A$3,IF(H89=Gegevensblad!$A$29,G89*1,G89*2),"")
A90: 20 | B90: a. | I90: =IF(C90=Gegevensblad!$A$2,$D$8*2,"") | J90: =IF(C90=Gegevensblad!$A$3,IF(H90=Gegevensblad!$A$29,G90*1,G90*2),"")
B91: b. | I91: =IF(C91=Gegevensblad!$A$2,$D$8*2,"") | J91: =IF(C91=Gegevensblad!$A$3,IF(H91=Gegevensblad!$A$29,G91*1,G91*2),"")
B92: c. | I92: =IF(C92=Gegevensblad!$A$2,$D$8*2,"") | J92: =IF(C92=Gegevensblad!$A$3,IF(H92=Gegevensblad!$A$29,G92*1,G92*2),"")
B93: d. | I93: =IF(C93=Gegevensblad!$A$2,$D$8*2,"") | J93: =IF(C93=Gegevensblad!$A$3,IF(H93=Gegevensblad!$A$29,G93*1,G93*2),"")
A94: 21 | B94: a. | I94: =IF(C94=Gegevensblad!$A$2,$D$8*2,"") | J94: =IF(C94=Gegevensblad!$A$3,IF(H94=Gegevensblad!$A$29,G94*1,G94*2),"")
B95: b. | I95: =IF(C95=Gegevensblad!$A$2,$D$8*2,"") | J95: =IF(C95=Gegevensblad!$A$3,IF(H95=Gegevensblad!$A$29,G95*1,G95*2),"")
B96: c. | I96: =IF(C96=Gegevensblad!$A$2,$D$8*2,"") | J96: =IF(C96=Gegevensblad!$A$3,IF(H96=Gegevensblad!$A$29,G96*1,G96*2),"")
B97: d. | I97: =IF(C97=Gegevensblad!$A$2,$D$8*2,"") | J97: =IF(C97=Gegevensblad!$A$3,IF(H97=Gegevensblad!$A$29,G97*1,G97*2),"")
A98: 22 | B98: a. | I98: =IF(C98=Gegevensblad!$A$2,$D$8*2,"") | J98: =IF(C98=Gegevensblad!$A$3,IF(H98=Gegevensblad!$A$29,G98*1,G98*2),"")
B99: b. | I99: =IF(C99=Gegevensblad!$A$2,$D$8*2,"") | J99: =IF(C99=Gegevensblad!$A$3,IF(H99=Gegevensblad!$A$29,G99*1,G99*2),"")
B100: c. | I100: =IF(C100=Gegevensblad!$A$2,$D$8*2,"") | J100: =IF(C100=Gegevensblad!$A$3,IF(H100=Gegevensblad!$A$29,G100*1,G100*2),"")
B101: d. | I101: =IF(C101=Gegevensblad!$A$2,$D$8*2,"") | J101: =IF(C101=Gegevensblad!$A$3,IF(H101=Gegevensblad!$A$29,G101*1,G101*2),"")
A102: 23 | B102: a. | I102: =IF(C102=Gegevensblad!$A$2,$D$8*2,"") | J102: =IF(C102=Gegevensblad!$A$3,IF(H102=Gegevensblad!$A$29,G102*1,G102*2),"")
B103: b. | I103: =IF(C103=Gegevensblad!$A$2,$D$8*2,"") | J103: =IF(C103=Gegevensblad!$A$3,IF(H103=Gegevensblad!$A$29,G103*1,G103*2),"")
B104: c. | I104: =IF(C104=Gegevensblad!$A$2,$D$8*2,"") | J104: =IF(C104=Gegevensblad!$A$3,IF(H104=Gegevensblad!$A$29,G104*1,G104*2),"")
...

Sheet Oktober
A1: Declaratieformulier reiskostenvergoeding
A3: Klik hier voor uitleg van het formulier
A5: Naam medewerker | D5: =Januari!D5 -> naam
A6: Postcode huisadres | D6: =Januari!D6 -> 1235
A7: Postcode werkadres | D7: =Januari!D7 -> 5678CD
A8: Woon-werk kilometers enkele reisafstand | D8: =Januari!D8 -> 0
A9: Maand / jaar | D9: Oktober | E9: 2022
G12: Aantal km | H12: Enkele reis/ | I12: Km woon- | J12: Km | K12: Overig | L12: Totaal | M12: Toelichting
A13: Dag | C13: Te declareren | D13: Postcode van | E13: Postcode naar | F13: Reisdoel | G13: enkele reis | H13: retour | I13: werk | J13: zakelijk
A14: 1 | B14: a. | I14: =IF(C14=Gegevensblad!$A$2,$D$8*2,"") | J14: =IF(C14=Gegevensblad!$A$3,IF(H14=Gegevensblad!$A$29,G14*1,G14*2),"")
B15: b. | I15: =IF(C15=Gegevensblad!$A$2,$D$8*2,"") | J15: =IF(C15=Gegevensblad!$A$3,IF(H15=Gegevensblad!$A$29,G15*1,G15*2),"")
B16: c. | I16: =IF(C16=Gegevensblad!$A$2,$D$8*2,"") | J16: =IF(C16=Gegevensblad!$A$3,IF(H16=Gegevensblad!$A$29,G16*1,G16*2),"")
B17: d. | I17: =IF(C17=Gegevensblad!$A$2,$D$8*2,"") | J17: =IF(C17=Gegevensblad!$A$3,IF(H17=Gegevensblad!$A$29,G17*1,G17*2),"")
A18: 2 | B18: a. | I18: =IF(C18=Gegevensblad!$A$2,$D$8*2,"") | J18: =IF(C18=Gegevensblad!$A$3,IF(H18=Gegevensblad!$A$29,G18*1,G18*2),"")
B19: b. | I19: =IF(C19=Gegevensblad!$A$2,$D$8*2,"") | J19: =IF(C19=Gegevensblad!$A$3,IF(H19=Gegevensblad!$A$29,G19*1,G19*2),"")
B20: c. | I20: =IF(C20=Gegevensblad!$A$2,$D$8*2,"") | J20: =IF(C20=Gegevensblad!$A$3,IF(H20=Gegevensblad!$A$29,G20*1,G20*2),"")
B21: d. | I21: =IF(C21=Gegevensblad!$A$2,$D$8*2,"") | J21: =IF(C21=Gegevensblad!$A$3,IF(H21=Gegevensblad!$A$29,G21*1,G21*2),"")
A22: 3 | B22: a. | I22: =IF(C22=Gegevensblad!$A$2,$D$8*2,"") | J22: =IF(C22=Gegevensblad!$A$3,IF(H22=Gegevensblad!$A$29,G22*1,G22*2),"")
B23: b. | I23: =IF(C23=Gegevensblad!$A$2,$D$8*2,"") | J23: =IF(C23=Gegevensblad!$A$3,IF(H23=Gegevensblad!$A$29,G23*1,G23*2),"")
B24: c. | I24: =IF(C24=Gegevensblad!$A$2,$D$8*2,"") | J24: =IF(C24=Gegevensblad!$A$3,IF(H24=Gegevensblad!$A$29,G24*1,G24*2),"")
B25: d. | I25: =IF(C25=Gegevensblad!$A$2,$D$8*2,"") | J25: =IF(C25=Gegevensblad!$A$3,IF(H25=Gegevensblad!$A$29,G25*1,G25*2),"")
A26: 4 | B26: a. | I26: =IF(C26=Gegevensblad!$A$2,$D$8*2,"") | J26: =IF(C26=Gegevensblad!$A$3,IF(H26=Gegevensblad!$A$29,G26*1,G26*2),"")
B27: b. | I27: =IF(C27=Gegevensblad!$A$2,$D$8*2,"") | J27: =IF(C27=Gegevensblad!$A$3,IF(H27=Gegevensblad!$A$29,G27*1,G27*2),"")
B28: c. | I28: =IF(C28=Gegevensblad!$A$2,$D$8*2,"") | J28: =IF(C28=Gegevensblad!$A$3,IF(H28=Gegevensblad!$A$29,G28*1,G28*2),"")
B29: d. | I29: =IF(C29=Gegevensblad!$A$2,$D$8*2,"") | J29: =IF(C29=Gegevensblad!$A$3,IF(H29=Gegevensblad!$A$29,G29*1,G29*2),"")
A30: 5 | B30: a. | I30: =IF(C30=Gegevensblad!$A$2,$D$8*2,"") | J30: =IF(C30=Gegevensblad!$A$3,IF(H30=Gegevensblad!$A$29,G30*1,G30*2),"")
B31: b. | I31: =IF(C31=Gegevensblad!$A$2,$D$8*2,"") | J31: =IF(C31=Gegevensblad!$A$3,IF(H31=Gegevensblad!$A$29,G31*1,G31*2),"")
B32: c. | I32: =IF(C32=Gegevensblad!$A$2,$D$8*2,"") | J32: =IF(C32=Gegevensblad!$A$3,IF(H32=Gegevensblad!$A$29,G32*1,G32*2),"")
B33: d. | I33: =IF(C33=Gegevensblad!$A$2,$D$8*2,"") | J33: =IF(C33=Gegevensblad!$A$3,IF(H33=Gegevensblad!$A$29,G33*1,G33*2),"")
A34: 6 | B34: a. | I34: =IF(C34=Gegevensblad!$A$2,$D$8*2,"") | J34: =IF(C34=Gegevensblad!$A$3,IF(H34=Gegevensblad!$A$29,G34*1,G34*2),"")
B35: b. | I35: =IF(C35=Gegevensblad!$A$2,$D$8*2,"") | J35: =IF(C35=Gegevensblad!$A$3,IF(H35=Gegevensblad!$A$29,G35*1,G35*2),"")
B36: c. | I36: =IF(C36=Gegevensblad!$A$2,$D$8*2,"") | J36: =IF(C36=Gegevensblad!$A$3,IF(H36=Gegevensblad!$A$29,G36*1,G36*2),"")
B37: d. | I37: =IF(C37=Gegevensblad!$A$2,$D$8*2,"") | J37: =IF(C37=Gegevensblad!$A$3,IF(H37=Gegevensblad!$A$29,G37*1,G37*2),"")
A38: 7 | B38: a. | I38: =IF(C38=Gegevensblad!$A$2,$D$8*2,"") | J38: =IF(C38=Gegevensblad!$A$3,IF(H38=Gegevensblad!$A$29,G38*1,G38*2),"")
B39: b. | I39: =IF(C39=Gegevensblad!$A$2,$D$8*2,"") | J39: =IF(C39=Gegevensblad!$A$3,IF(H39=Gegevensblad!$A$29,G39*1,G39*2),"")
B40: c. | I40: =IF(C40=Gegevensblad!$A$2,$D$8*2,"") | J40: =IF(C40=Gegevensblad!$A$3,IF(H40=Gegevensblad!$A$29,G40*1,G40*2),"")
B41: d. | I41: =IF(C41=Gegevensblad!$A$2,$D$8*2,"") | J41: =IF(C41=Gegevensblad!$A$3,IF(H41=Gegevensblad!$A$29,G41*1,G41*2),"")
A42: 8 | B42: a. | I42: =IF(C42=Gegevensblad!$A$2,$D$8*2,"") | J42: =IF(C42=Gegevensblad!$A$3,IF(H42=Gegevensblad!$A$29,G42*1,G42*2),"")
B43: b. | I43: =IF(C43=Gegevensblad!$A$2,$D$8*2,"") | J43: =IF(C43=Gegevensblad!$A$3,IF(H43=Gegevensblad!$A$29,G43*1,G43*2),"")
B44: c. | I44: =IF(C44=Gegevensblad!$A$2,$D$8*2,"") | J44: =IF(C44=Gegevensblad!$A$3,IF(H44=Gegevensblad!$A$29,G44*1,G44*2),"")
B45: d. | I45: =IF(C45=Gegevensblad!$A$2,$D$8*2,"") | J45: =IF(C45=Gegevensblad!$A$3,IF(H45=Gegevensblad!$A$29,G45*1,G45*2),"")
A46: 9 | B46: a. | I46: =IF(C46=Gegevensblad!$A$2,$D$8*2,"") | J46: =IF(C46=Gegevensblad!$A$3,IF(H46=Gegevensblad!$A$29,G46*1,G46*2),"")
B47: b. | I47: =IF(C47=Gegevensblad!$A$2,$D$8*2,"") | J47: =IF(C47=Gegevensblad!$A$3,IF(H47=Gegevensblad!$A$29,G47*1,G47*2),"")
B48: c. | I48: =IF(C48=Gegevensblad!$A$2,$D$8*2,"") | J48: =IF(C48=Gegevensblad!$A$3,IF(H48=Gegevensblad!$A$29,G48*1,G48*2),"")
B49: d. | I49: =IF(C49=Gegevensblad!$A$2,$D$8*2,"") | J49: =IF(C49=Gegevensblad!$A$3,IF(H49=Gegevensblad!$A$29,G49*1,G49*2),"")
A50: 10 | B50: a. | I50: =IF(C50=Gegevensblad!$A$2,$D$8*2,"") | J50: =IF(C50=Gegevensblad!$A$3,IF(H50=Gegevensblad!$A$29,G50*1,G50*2),"")
B51: b. | I51: =IF(C51=Gegevensblad!$A$2,$D$8*2,"") | J51: =IF(C51=Gegevensblad!$A$3,IF(H51=Gegevensblad!$A$29,G51*1,G51*2),"")
B52: c. | I52: =IF(C52=Gegevensblad!$A$2,$D$8*2,"") | J52: =IF(C52=Gegevensblad!$A$3,IF(H52=Gegevensblad!$A$29,G52*1,G52*2),"")
B53: d. | I53: =IF(C53=Gegevensblad!$A$2,$D$8*2,"") | J53: =IF(C53=Gegevensblad!$A$3,IF(H53=Gegevensblad!$A$29,G53*1,G53*2),"")
A54: 11 | B54: a. | I54: =IF(C54=Gegevensblad!$A$2,$D$8*2,"") | J54: =IF(C54=Gegevensblad!$A$3,IF(H54=Gegevensblad!$A$29,G54*1,G54*2),"")
B55: b. | I55: =IF(C55=Gegevensblad!$A$2,$D$8*2,"") | J55: =IF(C55=Gegevensblad!$A$3,IF(H55=Gegevensblad!$A$29,G55*1,G55*2),"")
B56: c. | I56: =IF(C56=Gegevensblad!$A$2,$D$8*2,"") | J56: =IF(C56=Gegevensblad!$A$3,IF(H56=Gegevensblad!$A$29,G56*1,G56*2),"")
B57: d. | I57: =IF(C57=Gegevensblad!$A$2,$D$8*2,"") | J57: =IF(C57=Gegevensblad!$A$3,IF(H57=Gegevensblad!$A$29,G57*1,G57*2),"")
A58: 12 | B58: a. | I58: =IF(C58=Gegevensblad!$A$2,$D$8*2,"") | J58: =IF(C58=Gegevensblad!$A$3,IF(H58=Gegevensblad!$A$29,G58*1,G58*2),"")
B59: b. | I59: =IF(C59=Gegevensblad!$A$2,$D$8*2,"") | J59: =IF(C59=Gegevensblad!$A$3,IF(H59=Gegevensblad!$A$29,G59*1,G59*2),"")
B60: c. | I60: =IF(C60=Gegevensblad!$A$2,$D$8*2,"") | J60: =IF(C60=Gegevensblad!$A$3,IF(H60=Gegevensblad!$A$29,G60*1,G60*2),"")
B61: d. | I61: =IF(C61=Gegevensblad!$A$2,$D$8*2,"") | J61: =IF(C61=Gegevensblad!$A$3,IF(H61=Gegevensblad!$A$29,G61*1,G61*2),"")
A62: 13 | B62: a. | I62: =IF(C62=Gegevensblad!$A$2,$D$8*2,"") | J62: =IF(C62=Gegevensblad!$A$3,IF(H62=Gegevensblad!$A$29,G62*1,G62*2),"")
B63: b. | I63: =IF(C63=Gegevensblad!$A$2,$D$8*2,"") | J63: =IF(C63=Gegevensblad!$A$3,IF(H63=Gegevensblad!$A$29,G63*1,G63*2),"")
B64: c. | I64: =IF(C64=Gegevensblad!$A$2,$D$8*2,"") | J64: =IF(C64=Gegevensblad!$A$3,IF(H64=Gegevensblad!$A$29,G64*1,G64*2),"")
B65: d. | I65: =IF(C65=Gegevensblad!$A$2,$D$8*2,"") | J65: =IF(C65=Gegevensblad!$A$3,IF(H65=Gegevensblad!$A$29,G65*1,G65*2),"")
A66: 14 | B66: a. | I66: =IF(C66=Gegevensblad!$A$2,$D$8*2,"") | J66: =IF(C66=Gegevensblad!$A$3,IF(H66=Gegevensblad!$A$29,G66*1,G66*2),"")
B67: b. | I67: =IF(C67=Gegevensblad!$A$2,$D$8*2,"") | J67: =IF(C67=Gegevensblad!$A$3,IF(H67=Gegevensblad!$A$29,G67*1,G67*2),"")
B68: c. | I68: =IF(C68=Gegevensblad!$A$2,$D$8*2,"") | J68: =IF(C68=Gegevensblad!$A$3,IF(H68=Gegevensblad!$A$29,G68*1,G68*2),"")
B69: d. | I69: =IF(C69=Gegevensblad!$A$2,$D$8*2,"") | J69: =IF(C69=Gegevensblad!$A$3,IF(H69=Gegevensblad!$A$29,G69*1,G69*2),"")
A70: 15 | B70: a. | I70: =IF(C70=Gegevensblad!$A$2,$D$8*2,"") | J70: =IF(C70=Gegevensblad!$A$3,IF(H70=Gegevensblad!$A$29,G70*1,G70*2),"")
B71: b. | I71: =IF(C71=Gegevensblad!$A$2,$D$8*2,"") | J71: =IF(C71=Gegevensblad!$A$3,IF(H71=Gegevensblad!$A$29,G71*1,G71*2),"")
B72: c. | I72: =IF(C72=Gegevensblad!$A$2,$D$8*2,"") | J72: =IF(C72=Gegevensblad!$A$3,IF(H72=Gegevensblad!$A$29,G72*1,G72*2),"")
B73: d. | I73: =IF(C73=Gegevensblad!$A$2,$D$8*2,"") | J73: =IF(C73=Gegevensblad!$A$3,IF(H73=Gegevensblad!$A$29,G73*1,G73*2),"")
A74: 16 | B74: a. | I74: =IF(C74=Gegevensblad!$A$2,$D$8*2,"") | J74: =IF(C74=Gegevensblad!$A$3,IF(H74=Gegevensblad!$A$29,G74*1,G74*2),"")
B75: b. | I75: =IF(C75=Gegevensblad!$A$2,$D$8*2,"") | J75: =IF(C75=Gegevensblad!$A$3,IF(H75=Gegevensblad!$A$29,G75*1,G75*2),"")
B76: c. | I76: =IF(C76=Gegevensblad!$A$2,$D$8*2,"") | J76: =IF(C76=Gegevensblad!$A$3,IF(H76=Gegevensblad!$A$29,G76*1,G76*2),"")
B77: d. | I77: =IF(C77=Gegevensblad!$A$2,$D$8*2,"") | J77: =IF(C77=Gegevensblad!$A$3,IF(H77=Gegevensblad!$A$29,G77*1,G77*2),"")
A78: 17 | B78: a. | I78: =IF(C78=Gegevensblad!$A$2,$D$8*2,"") | J78: =IF(C78=Gegevensblad!$A$3,IF(H78=Gegevensblad!$A$29,G78*1,G78*2),"")
B79: b. | I79: =IF(C79=Gegevensblad!$A$2,$D$8*2,"") | J79: =IF(C79=Gegevensblad!$A$3,IF(H79=Gegevensblad!$A$29,G79*1,G79*2),"")
B80: c. | I80: =IF(C80=Gegevensblad!$A$2,$D$8*2,"") | J80: =IF(C80=Gegevensblad!$A$3,IF(H80=Gegevensblad!$A$29,G80*1,G80*2),"")
B81: d. | I81: =IF(C81=Gegevensblad!$A$2,$D$8*2,"") | J81: =IF(C81=Gegevensblad!$A$3,IF(H81=Gegevensblad!$A$29,G81*1,G81*2),"")
A82: 18 | B82: a. | I82: =IF(C82=Gegevensblad!$A$2,$D$8*2,"") | J82: =IF(C82=Gegevensblad!$A$3,IF(H82=Gegevensblad!$A$29,G82*1,G82*2),"")
B83: b. | I83: =IF(C83=Gegevensblad!$A$2,$D$8*2,"") | J83: =IF(C83=Gegevensblad!$A$3,IF(H83=Gegevensblad!$A$29,G83*1,G83*2),"")
B84: c. | I84: =IF(C84=Gegevensblad!$A$2,$D$8*2,"") | J84: =IF(C84=Gegevensblad!$A$3,IF(H84=Gegevensblad!$A$29,G84*1,G84*2),"")
B85: d. | I85: =IF(C85=Gegevensblad!$A$2,$D$8*2,"") | J85: =IF(C85=Gegevensblad!$A$3,IF(H85=Gegevensblad!$A$29,G85*1,G85*2),"")
A86: 19 | B86: a. | I86: =IF(C86=Gegevensblad!$A$2,$D$8*2,"") | J86: =IF(C86=Gegevensblad!$A$3,IF(H86=Gegevensblad!$A$29,G86*1,G86*2),"")
B87: b. | I87: =IF(C87=Gegevensblad!$A$2,$D$8*2,"") | J87: =IF(C87=Gegevensblad!$A$3,IF(H87=Gegevensblad!$A$29,G87*1,G87*2),"")
B88: c. | I88: =IF(C88=Gegevensblad!$A$2,$D$8*2,"") | J88: =IF(C88=Gegevensblad!$A$3,IF(H88=Gegevensblad!$A$29,G88*1,G88*2),"")
B89: d. | I89: =IF(C89=Gegevensblad!$A$2,$D$8*2,"") | J89: =IF(C89=Gegevensblad!$A$3,IF(H89=Gegevensblad!$A$29,G89*1,G89*2),"")
A90: 20 | B90: a. | I90: =IF(C90=Gegevensblad!$A$2,$D$8*2,"") | J90: =IF(C90=Gegevensblad!$A$3,IF(H90=Gegevensblad!$A$29,G90*1,G90*2),"")
B91: b. | I91: =IF(C91=Gegevensblad!$A$2,$D$8*2,"") | J91: =IF(C91=Gegevensblad!$A$3,IF(H91=Gegevensblad!$A$29,G91*1,G91*2),"")
B92: c. | I92: =IF(C92=Gegevensblad!$A$2,$D$8*2,"") | J92: =IF(C92=Gegevensblad!$A$3,IF(H92=Gegevensblad!$A$29,G92*1,G92*2),"")
B93: d. | I93: =IF(C93=Gegevensblad!$A$2,$D$8*2,"") | J93: =IF(C93=Gegevensblad!$A$3,IF(H93=Gegevensblad!$A$29,G93*1,G93*2),"")
A94: 21 | B94: a. | I94: =IF(C94=Gegevensblad!$A$2,$D$8*2,"") | J94: =IF(C94=Gegevensblad!$A$3,IF(H94=Gegevensblad!$A$29,G94*1,G94*2),"")
B95: b. | I95: =IF(C95=Gegevensblad!$A$2,$D$8*2,"") | J95: =IF(C95=Gegevensblad!$A$3,IF(H95=Gegevensblad!$A$29,G95*1,G95*2),"")
B96: c. | I96: =IF(C96=Gegevensblad!$A$2,$D$8*2,"") | J96: =IF(C96=Gegevensblad!$A$3,IF(H96=Gegevensblad!$A$29,G96*1,G96*2),"")
B97: d. | I97: =IF(C97=Gegevensblad!$A$2,$D$8*2,"") | J97: =IF(C97=Gegevensblad!$A$3,IF(H97=Gegevensblad!$A$29,G97*1,G97*2),"")
A98: 22 | B98: a. | I98: =IF(C98=Gegevensblad!$A$2,$D$8*2,"") | J98: =IF(C98=Gegevensblad!$A$3,IF(H98=Gegevensblad!$A$29,G98*1,G98*2),"")
B99: b. | I99: =IF(C99=Gegevensblad!$A$2,$D$8*2,"") | J99: =IF(C99=Gegevensblad!$A$3,IF(H99=Gegevensblad!$A$29,G99*1,G99*2),"")
B100: c. | I100: =IF(C100=Gegevensblad!$A$2,$D$8*2,"") | J100: =IF(C100=Gegevensblad!$A$3,IF(H100=Gegevensblad!$A$29,G100*1,G100*2),"")
B101: d. | I101: =IF(C101=Gegevensblad!$A$2,$D$8*2,"") | J101: =IF(C101=Gegevensblad!$A$3,IF(H101=Gegevensblad!$A$29,G101*1,G101*2),"")
A102: 23 | B102: a. | I102: =IF(C102=Gegevensblad!$A$2,$D$8*2,"") | J102: =IF(C102=Gegevensblad!$A$3,IF(H102=Gegevensblad!$A$29,G102*1,G102*2),"")
B103: b. | I103: =IF(C103=Gegevensblad!$A$2,$D$8*2,"") | J103: =IF(C103=Gegevensblad!$A$3,IF(H103=Gegevensblad!$A$29,G103*1,G103*2),"")
B104: c. | I104: =IF(C104=Gegevensblad!$A$2,$D$8*2,"") | J104: =IF(C104=Gegevensblad!$A$3,IF(H104=Gegevensblad!$A$29,G104*1,G104*2),"")
...

Sheet November
A1: Declaratieformulier reiskostenvergoeding
A3: Klik hier voor uitleg van het formulier
A5: Naam medewerker | D5: =Januari!D5 -> naam
A6: Postcode huisadres | D6: =Januari!D6 -> 1235
A7: Postcode werkadres | D7: =Januari!D7 -> 5678CD
A8: Woon-werk kilometers enkele reisafstand | D8: =Januari!D8 -> 0
A9: Maand / jaar | D9: November | E9: 2022
G12: Aantal km | H12: Enkele reis/ | I12: Km woon- | J12: Km | K12: Overig | L12: Totaal | M12: Toelichting
A13: Dag | C13: Te declareren | D13: Postcode van | E13: Postcode naar | F13: Reisdoel | G13: enkele reis | H13: retour | I13: werk | J13: zakelijk
A14: 1 | B14: a. | I14: =IF(C14=Gegevensblad!$A$2,$D$8*2,"") | J14: =IF(C14=Gegevensblad!$A$3,IF(H14=Gegevensblad!$A$29,G14*1,G14*2),"")
B15: b. | I15: =IF(C15=Gegevensblad!$A$2,$D$8*2,"") | J15: =IF(C15=Gegevensblad!$A$3,IF(H15=Gegevensblad!$A$29,G15*1,G15*2),"")
B16: c. | I16: =IF(C16=Gegevensblad!$A$2,$D$8*2,"") | J16: =IF(C16=Gegevensblad!$A$3,IF(H16=Gegevensblad!$A$29,G16*1,G16*2),"")
B17: d. | I17: =IF(C17=Gegevensblad!$A$2,$D$8*2,"") | J17: =IF(C17=Gegevensblad!$A$3,IF(H17=Gegevensblad!$A$29,G17*1,G17*2),"")
A18: 2 | B18: a. | I18: =IF(C18=Gegevensblad!$A$2,$D$8*2,"") | J18: =IF(C18=Gegevensblad!$A$3,IF(H18=Gegevensblad!$A$29,G18*1,G18*2),"")
B19: b. | I19: =IF(C19=Gegevensblad!$A$2,$D$8*2,"") | J19: =IF(C19=Gegevensblad!$A$3,IF(H19=Gegevensblad!$A$29,G19*1,G19*2),"")
B20: c. | I20: =IF(C20=Gegevensblad!$A$2,$D$8*2,"") | J20: =IF(C20=Gegevensblad!$A$3,IF(H20=Gegevensblad!$A$29,G20*1,G20*2),"")
B21: d. | I21: =IF(C21=Gegevensblad!$A$2,$D$8*2,"") | J21: =IF(C21=Gegevensblad!$A$3,IF(H21=Gegevensblad!$A$29,G21*1,G21*2),"")
A22: 3 | B22: a. | I22: =IF(C22=Gegevensblad!$A$2,$D$8*2,"") | J22: =IF(C22=Gegevensblad!$A$3,IF(H22=Gegevensblad!$A$29,G22*1,G22*2),"")
B23: b. | I23: =IF(C23=Gegevensblad!$A$2,$D$8*2,"") | J23: =IF(C23=Gegevensblad!$A$3,IF(H23=Gegevensblad!$A$29,G23*1,G23*2),"")
B24: c. | I24: =IF(C24=Gegevensblad!$A$2,$D$8*2,"") | J24: =IF(C24=Gegevensblad!$A$3,IF(H24=Gegevensblad!$A$29,G24*1,G24*2),"")
B25: d. | I25: =IF(C25=Gegevensblad!$A$2,$D$8*2,"") | J25: =IF(C25=Gegevensblad!$A$3,IF(H25=Gegevensblad!$A$29,G25*1,G25*2),"")
A26: 4 | B26: a. | I26: =IF(C26=Gegevensblad!$A$2,$D$8*2,"") | J26: =IF(C26=Gegevensblad!$A$3,IF(H26=Gegevensblad!$A$29,G26*1,G26*2),"")
B27: b. | I27: =IF(C27=Gegevensblad!$A$2,$D$8*2,"") | J27: =IF(C27=Gegevensblad!$A$3,IF(H27=Gegevensblad!$A$29,G27*1,G27*2),"")
B28: c. | I28: =IF(C28=Gegevensblad!$A$2,$D$8*2,"") | J28: =IF(C28=Gegevensblad!$A$3,IF(H28=Gegevensblad!$A$29,G28*1,G28*2),"")
B29: d. | I29: =IF(C29=Gegevensblad!$A$2,$D$8*2,"") | J29: =IF(C29=Gegevensblad!$A$3,IF(H29=Gegevensblad!$A$29,G29*1,G29*2),"")
A30: 5 | B30: a. | I30: =IF(C30=Gegevensblad!$A$2,$D$8*2,"") | J30: =IF(C30=Gegevensblad!$A$3,IF(H30=Gegevensblad!$A$29,G30*1,G30*2),"")
B31: b. | I31: =IF(C31=Gegevensblad!$A$2,$D$8*2,"") | J31: =IF(C31=Gegevensblad!$A$3,IF(H31=Gegevensblad!$A$29,G31*1,G31*2),"")
B32: c. | I32: =IF(C32=Gegevensblad!$A$2,$D$8*2,"") | J32: =IF(C32=Gegevensblad!$A$3,IF(H32=Gegevensblad!$A$29,G32*1,G32*2),"")
B33: d. | I33: =IF(C33=Gegevensblad!$A$2,$D$8*2,"") | J33: =IF(C33=Gegevensblad!$A$3,IF(H33=Gegevensblad!$A$29,G33*1,G33*2),"")
A34: 6 | B34: a. | I34: =IF(C34=Gegevensblad!$A$2,$D$8*2,"") | J34: =IF(C34=Gegevensblad!$A$3,IF(H34=Gegevensblad!$A$29,G34*1,G34*2),"")
B35: b. | I35: =IF(C35=Gegevensblad!$A$2,$D$8*2,"") | J35: =IF(C35=Gegevensblad!$A$3,IF(H35=Gegevensblad!$A$29,G35*1,G35*2),"")
B36: c. | I36: =IF(C36=Gegevensblad!$A$2,$D$8*2,"") | J36: =IF(C36=Gegevensblad!$A$3,IF(H36=Gegevensblad!$A$29,G36*1,G36*2),"")
B37: d. | I37: =IF(C37=Gegevensblad!$A$2,$D$8*2,"") | J37: =IF(C37=Gegevensblad!$A$3,IF(H37=Gegevensblad!$A$29,G37*1,G37*2),"")
A38: 7 | B38: a. | I38: =IF(C38=Gegevensblad!$A$2,$D$8*2,"") | J38: =IF(C38=Gegevensblad!$A$3,IF(H38=Gegevensblad!$A$29,G38*1,G38*2),"")
B39: b. | I39: =IF(C39=Gegevensblad!$A$2,$D$8*2,"") | J39: =IF(C39=Gegevensblad!$A$3,IF(H39=Gegevensblad!$A$29,G39*1,G39*2),"")
B40: c. | I40: =IF(C40=Gegevensblad!$A$2,$D$8*2,"") | J40: =IF(C40=Gegevensblad!$A$3,IF(H40=Gegevensblad!$A$29,G40*1,G40*2),"")
B41: d. | I41: =IF(C41=Gegevensblad!$A$2,$D$8*2,"") | J41: =IF(C41=Gegevensblad!$A$3,IF(H41=Gegevensblad!$A$29,G41*1,G41*2),"")
A42: 8 | B42: a. | I42: =IF(C42=Gegevensblad!$A$2,$D$8*2,"") | J42: =IF(C42=Gegevensblad!$A$3,IF(H42=Gegevensblad!$A$29,G42*1,G42*2),"")
B43: b. | I43: =IF(C43=Gegevensblad!$A$2,$D$8*2,"") | J43: =IF(C43=Gegevensblad!$A$3,IF(H43=Gegevensblad!$A$29,G43*1,G43*2),"")
B44: c. | I44: =IF(C44=Gegevensblad!$A$2,$D$8*2,"") | J44: =IF(C44=Gegevensblad!$A$3,IF(H44=Gegevensblad!$A$29,G44*1,G44*2),"")
B45: d. | I45: =IF(C45=Gegevensblad!$A$2,$D$8*2,"") | J45: =IF(C45=Gegevensblad!$A$3,IF(H45=Gegevensblad!$A$29,G45*1,G45*2),"")
A46: 9 | B46: a. | I46: =IF(C46=Gegevensblad!$A$2,$D$8*2,"") | J46: =IF(C46=Gegevensblad!$A$3,IF(H46=Gegevensblad!$A$29,G46*1,G46*2),"")
B47: b. | I47: =IF(C47=Gegevensblad!$A$2,$D$8*2,"") | J47: =IF(C47=Gegevensblad!$A$3,IF(H47=Gegevensblad!$A$29,G47*1,G47*2),"")
B48: c. | I48: =IF(C48=Gegevensblad!$A$2,$D$8*2,"") | J48: =IF(C48=Gegevensblad!$A$3,IF(H48=Gegevensblad!$A$29,G48*1,G48*2),"")
B49: d. | I49: =IF(C49=Gegevensblad!$A$2,$D$8*2,"") | J49: =IF(C49=Gegevensblad!$A$3,IF(H49=Gegevensblad!$A$29,G49*1,G49*2),"")
A50: 10 | B50: a. | I50: =IF(C50=Gegevensblad!$A$2,$D$8*2,"") | J50: =IF(C50=Gegevensblad!$A$3,IF(H50=Gegevensblad!$A$29,G50*1,G50*2),"")
B51: b. | I51: =IF(C51=Gegevensblad!$A$2,$D$8*2,"") | J51: =IF(C51=Gegevensblad!$A$3,IF(H51=Gegevensblad!$A$29,G51*1,G51*2),"")
B52: c. | I52: =IF(C52=Gegevensblad!$A$2,$D$8*2,"") | J52: =IF(C52=Gegevensblad!$A$3,IF(H52=Gegevensblad!$A$29,G52*1,G52*2),"")
B53: d. | I53: =IF(C53=Gegevensblad!$A$2,$D$8*2,"") | J53: =IF(C53=Gegevensblad!$A$3,IF(H53=Gegevensblad!$A$29,G53*1,G53*2),"")
A54: 11 | B54: a. | I54: =IF(C54=Gegevensblad!$A$2,$D$8*2,"") | J54: =IF(C54=Gegevensblad!$A$3,IF(H54=Gegevensblad!$A$29,G54*1,G54*2),"")
B55: b. | I55: =IF(C55=Gegevensblad!$A$2,$D$8*2,"") | J55: =IF(C55=Gegevensblad!$A$3,IF(H55=Gegevensblad!$A$29,G55*1,G55*2),"")
B56: c. | I56: =IF(C56=Gegevensblad!$A$2,$D$8*2,"") | J56: =IF(C56=Gegevensblad!$A$3,IF(H56=Gegevensblad!$A$29,G56*1,G56*2),"")
B57: d. | I57: =IF(C57=Gegevensblad!$A$2,$D$8*2,"") | J57: =IF(C57=Gegevensblad!$A$3,IF(H57=Gegevensblad!$A$29,G57*1,G57*2),"")
A58: 12 | B58: a. | I58: =IF(C58=Gegevensblad!$A$2,$D$8*2,"") | J58: =IF(C58=Gegevensblad!$A$3,IF(H58=Gegevensblad!$A$29,G58*1,G58*2),"")
B59: b. | I59: =IF(C59=Gegevensblad!$A$2,$D$8*2,"") | J59: =IF(C59=Gegevensblad!$A$3,IF(H59=Gegevensblad!$A$29,G59*1,G59*2),"")
B60: c. | I60: =IF(C60=Gegevensblad!$A$2,$D$8*2,"") | J60: =IF(C60=Gegevensblad!$A$3,IF(H60=Gegevensblad!$A$29,G60*1,G60*2),"")
B61: d. | I61: =IF(C61=Gegevensblad!$A$2,$D$8*2,"") | J61: =IF(C61=Gegevensblad!$A$3,IF(H61=Gegevensblad!$A$29,G61*1,G61*2),"")
A62: 13 | B62: a. | I62: =IF(C62=Gegevensblad!$A$2,$D$8*2,"") | J62: =IF(C62=Gegevensblad!$A$3,IF(H62=Gegevensblad!$A$29,G62*1,G62*2),"")
B63: b. | I63: =IF(C63=Gegevensblad!$A$2,$D$8*2,"") | J63: =IF(C63=Gegevensblad!$A$3,IF(H63=Gegevensblad!$A$29,G63*1,G63*2),"")
B64: c. | I64: =IF(C64=Gegevensblad!$A$2,$D$8*2,"") | J64: =IF(C64=Gegevensblad!$A$3,IF(H64=Gegevensblad!$A$29,G64*1,G64*2),"")
B65: d. | I65: =IF(C65=Gegevensblad!$A$2,$D$8*2,"") | J65: =IF(C65=Gegevensblad!$A$3,IF(H65=Gegevensblad!$A$29,G65*1,G65*2),"")
A66: 14 | B66: a. | I66: =IF(C66=Gegevensblad!$A$2,$D$8*2,"") | J66: =IF(C66=Gegevensblad!$A$3,IF(H66=Gegevensblad!$A$29,G66*1,G66*2),"")
B67: b. | I67: =IF(C67=Gegevensblad!$A$2,$D$8*2,"") | J67: =IF(C67=Gegevensblad!$A$3,IF(H67=Gegevensblad!$A$29,G67*1,G67*2),"")
B68: c. | I68: =IF(C68=Gegevensblad!$A$2,$D$8*2,"") | J68: =IF(C68=Gegevensblad!$A$3,IF(H68=Gegevensblad!$A$29,G68*1,G68*2),"")
B69: d. | I69: =IF(C69=Gegevensblad!$A$2,$D$8*2,"") | J69: =IF(C69=Gegevensblad!$A$3,IF(H69=Gegevensblad!$A$29,G69*1,G69*2),"")
A70: 15 | B70: a. | I70: =IF(C70=Gegevensblad!$A$2,$D$8*2,"") | J70: =IF(C70=Gegevensblad!$A$3,IF(H70=Gegevensblad!$A$29,G70*1,G70*2),"")
B71: b. | I71: =IF(C71=Gegevensblad!$A$2,$D$8*2,"") | J71: =IF(C71=Gegevensblad!$A$3,IF(H71=Gegevensblad!$A$29,G71*1,G71*2),"")
B72: c. | I72: =IF(C72=Gegevensblad!$A$2,$D$8*2,"") | J72: =IF(C72=Gegevensblad!$A$3,IF(H72=Gegevensblad!$A$29,G72*1,G72*2),"")
B73: d. | I73: =IF(C73=Gegevensblad!$A$2,$D$8*2,"") | J73: =IF(C73=Gegevensblad!$A$3,IF(H73=Gegevensblad!$A$29,G73*1,G73*2),"")
A74: 16 | B74: a. | I74: =IF(C74=Gegevensblad!$A$2,$D$8*2,"") | J74: =IF(C74=Gegevensblad!$A$3,IF(H74=Gegevensblad!$A$29,G74*1,G74*2),"")
B75: b. | I75: =IF(C75=Gegevensblad!$A$2,$D$8*2,"") | J75: =IF(C75=Gegevensblad!$A$3,IF(H75=Gegevensblad!$A$29,G75*1,G75*2),"")
B76: c. | I76: =IF(C76=Gegevensblad!$A$2,$D$8*2,"") | J76: =IF(C76=Gegevensblad!$A$3,IF(H76=Gegevensblad!$A$29,G76*1,G76*2),"")
B77: d. | I77: =IF(C77=Gegevensblad!$A$2,$D$8*2,"") | J77: =IF(C77=Gegevensblad!$A$3,IF(H77=Gegevensblad!$A$29,G77*1,G77*2),"")
A78: 17 | B78: a. | I78: =IF(C78=Gegevensblad!$A$2,$D$8*2,"") | J78: =IF(C78=Gegevensblad!$A$3,IF(H78=Gegevensblad!$A$29,G78*1,G78*2),"")
B79: b. | I79: =IF(C79=Gegevensblad!$A$2,$D$8*2,"") | J79: =IF(C79=Gegevensblad!$A$3,IF(H79=Gegevensblad!$A$29,G79*1,G79*2),"")
B80: c. | I80: =IF(C80=Gegevensblad!$A$2,$D$8*2,"") | J80: =IF(C80=Gegevensblad!$A$3,IF(H80=Gegevensblad!$A$29,G80*1,G80*2),"")
B81: d. | I81: =IF(C81=Gegevensblad!$A$2,$D$8*2,"") | J81: =IF(C81=Gegevensblad!$A$3,IF(H81=Gegevensblad!$A$29,G81*1,G81*2),"")
A82: 18 | B82: a. | I82: =IF(C82=Gegevensblad!$A$2,$D$8*2,"") | J82: =IF(C82=Gegevensblad!$A$3,IF(H82=Gegevensblad!$A$29,G82*1,G82*2),"")
B83: b. | I83: =IF(C83=Gegevensblad!$A$2,$D$8*2,"") | J83: =IF(C83=Gegevensblad!$A$3,IF(H83=Gegevensblad!$A$29,G83*1,G83*2),"")
B84: c. | I84: =IF(C84=Gegevensblad!$A$2,$D$8*2,"") | J84: =IF(C84=Gegevensblad!$A$3,IF(H84=Gegevensblad!$A$29,G84*1,G84*2),"")
B85: d. | I85: =IF(C85=Gegevensblad!$A$2,$D$8*2,"") | J85: =IF(C85=Gegevensblad!$A$3,IF(H85=Gegevensblad!$A$29,G85*1,G85*2),"")
A86: 19 | B86: a. | I86: =IF(C86=Gegevensblad!$A$2,$D$8*2,"") | J86: =IF(C86=Gegevensblad!$A$3,IF(H86=Gegevensblad!$A$29,G86*1,G86*2),"")
B87: b. | I87: =IF(C87=Gegevensblad!$A$2,$D$8*2,"") | J87: =IF(C87=Gegevensblad!$A$3,IF(H87=Gegevensblad!$A$29,G87*1,G87*2),"")
B88: c. | I88: =IF(C88=Gegevensblad!$A$2,$D$8*2,"") | J88: =IF(C88=Gegevensblad!$A$3,IF(H88=Gegevensblad!$A$29,G88*1,G88*2),"")
B89: d. | I89: =IF(C89=Gegevensblad!$A$2,$D$8*2,"") | J89: =IF(C89=Gegevensblad!$A$3,IF(H89=Gegevensblad!$A$29,G89*1,G89*2),"")
A90: 20 | B90: a. | I90: =IF(C90=Gegevensblad!$A$2,$D$8*2,"") | J90: =IF(C90=Gegevensblad!$A$3,IF(H90=Gegevensblad!$A$29,G90*1,G90*2),"")
B91: b. | I91: =IF(C91=Gegevensblad!$A$2,$D$8*2,"") | J91: =IF(C91=Gegevensblad!$A$3,IF(H91=Gegevensblad!$A$29,G91*1,G91*2),"")
B92: c. | I92: =IF(C92=Gegevensblad!$A$2,$D$8*2,"") | J92: =IF(C92=Gegevensblad!$A$3,IF(H92=Gegevensblad!$A$29,G92*1,G92*2),"")
B93: d. | I93: =IF(C93=Gegevensblad!$A$2,$D$8*2,"") | J93: =IF(C93=Gegevensblad!$A$3,IF(H93=Gegevensblad!$A$29,G93*1,G93*2),"")
A94: 21 | B94: a. | I94: =IF(C94=Gegevensblad!$A$2,$D$8*2,"") | J94: =IF(C94=Gegevensblad!$A$3,IF(H94=Gegevensblad!$A$29,G94*1,G94*2),"")
B95: b. | I95: =IF(C95=Gegevensblad!$A$2,$D$8*2,"") | J95: =IF(C95=Gegevensblad!$A$3,IF(H95=Gegevensblad!$A$29,G95*1,G95*2),"")
B96: c. | I96: =IF(C96=Gegevensblad!$A$2,$D$8*2,"") | J96: =IF(C96=Gegevensblad!$A$3,IF(H96=Gegevensblad!$A$29,G96*1,G96*2),"")
B97: d. | I97: =IF(C97=Gegevensblad!$A$2,$D$8*2,"") | J97: =IF(C97=Gegevensblad!$A$3,IF(H97=Gegevensblad!$A$29,G97*1,G97*2),"")
A98: 22 | B98: a. | I98: =IF(C98=Gegevensblad!$A$2,$D$8*2,"") | J98: =IF(C98=Gegevensblad!$A$3,IF(H98=Gegevensblad!$A$29,G98*1,G98*2),"")
B99: b. | I99: =IF(C99=Gegevensblad!$A$2,$D$8*2,"") | J99: =IF(C99=Gegevensblad!$A$3,IF(H99=Gegevensblad!$A$29,G99*1,G99*2),"")
B100: c. | I100: =IF(C100=Gegevensblad!$A$2,$D$8*2,"") | J100: =IF(C100=Gegevensblad!$A$3,IF(H100=Gegevensblad!$A$29,G100*1,G100*2),"")
B101: d. | I101: =IF(C101=Gegevensblad!$A$2,$D$8*2,"") | J101: =IF(C101=Gegevensblad!$A$3,IF(H101=Gegevensblad!$A$29,G101*1,G101*2),"")
A102: 23 | B102: a. | I102: =IF(C102=Gegevensblad!$A$2,$D$8*2,"") | J102: =IF(C102=Gegevensblad!$A$3,IF(H102=Gegevensblad!$A$29,G102*1,G102*2),"")
B103: b. | I103: =IF(C103=Gegevensblad!$A$2,$D$8*2,"") | J103: =IF(C103=Gegevensblad!$A$3,IF(H103=Gegevensblad!$A$29,G103*1,G103*2),"")
B104: c. | I104: =IF(C104=Gegevensblad!$A$2,$D$8*2,"") | J104: =IF(C104=Gegevensblad!$A$3,IF(H104=Gegevensblad!$A$29,G104*1,G104*2),"")
...

Sheet December
A1: Declaratieformulier reiskostenvergoeding
A3: Klik hier voor uitleg van het formulier
A5: Naam medewerker | D5: =Januari!D5 -> naam
A6: Postcode huisadres | D6: =Januari!D6 -> 1235
A7: Postcode werkadres | D7: =Januari!D7 -> 5678CD
A8: Woon-werk kilometers enkele reisafstand | D8: =Januari!D8 -> 0
A9: Maand / jaar | D9: December | E9: 2022
G12: Aantal km | H12: Enkele reis/ | I12: Km woon- | J12: Km | K12: Overig | L12: Totaal | M12: Toelichting
A13: Dag | C13: Te declareren | D13: Postcode van | E13: Postcode naar | F13: Reisdoel | G13: enkele reis | H13: retour | I13: werk | J13: zakelijk
A14: 1 | B14: a. | I14: =IF(C14=Gegevensblad!$A$2,$D$8*2,"") | J14: =IF(C14=Gegevensblad!$A$3,IF(H14=Gegevensblad!$A$29,G14*1,G14*2),"")
B15: b. | I15: =IF(C15=Gegevensblad!$A$2,$D$8*2,"") | J15: =IF(C15=Gegevensblad!$A$3,IF(H15=Gegevensblad!$A$29,G15*1,G15*2),"")
B16: c. | I16: =IF(C16=Gegevensblad!$A$2,$D$8*2,"") | J16: =IF(C16=Gegevensblad!$A$3,IF(H16=Gegevensblad!$A$29,G16*1,G16*2),"")
B17: d. | I17: =IF(C17=Gegevensblad!$A$2,$D$8*2,"") | J17: =IF(C17=Gegevensblad!$A$3,IF(H17=Gegevensblad!$A$29,G17*1,G17*2),"")
A18: 2 | B18: a. | I18: =IF(C18=Gegevensblad!$A$2,$D$8*2,"") | J18: =IF(C18=Gegevensblad!$A$3,IF(H18=Gegevensblad!$A$29,G18*1,G18*2),"")
B19: b. | I19: =IF(C19=Gegevensblad!$A$2,$D$8*2,"") | J19: =IF(C19=Gegevensblad!$A$3,IF(H19=Gegevensblad!$A$29,G19*1,G19*2),"")
B20: c. | I20: =IF(C20=Gegevensblad!$A$2,$D$8*2,"") | J20: =IF(C20=Gegevensblad!$A$3,IF(H20=Gegevensblad!$A$29,G20*1,G20*2),"")
B21: d. | I21: =IF(C21=Gegevensblad!$A$2,$D$8*2,"") | J21: =IF(C21=Gegevensblad!$A$3,IF(H21=Gegevensblad!$A$29,G21*1,G21*2),"")
A22: 3 | B22: a. | I22: =IF(C22=Gegevensblad!$A$2,$D$8*2,"") | J22: =IF(C22=Gegevensblad!$A$3,IF(H22=Gegevensblad!$A$29,G22*1,G22*2),"")
B23: b. | I23: =IF(C23=Gegevensblad!$A$2,$D$8*2,"") | J23: =IF(C23=Gegevensblad!$A$3,IF(H23=Gegevensblad!$A$29,G23*1,G23*2),"")
B24: c. | I24: =IF(C24=Gegevensblad!$A$2,$D$8*2,"") | J24: =IF(C24=Gegevensblad!$A$3,IF(H24=Gegevensblad!$A$29,G24*1,G24*2),"")
B25: d. | I25: =IF(C25=Gegevensblad!$A$2,$D$8*2,"") | J25: =IF(C25=Gegevensblad!$A$3,IF(H25=Gegevensblad!$A$29,G25*1,G25*2),"")
A26: 4 | B26: a. | I26: =IF(C26=Gegevensblad!$A$2,$D$8*2,"") | J26: =IF(C26=Gegevensblad!$A$3,IF(H26=Gegevensblad!$A$29,G26*1,G26*2),"")
B27: b. | I27: =IF(C27=Gegevensblad!$A$2,$D$8*2,"") | J27: =IF(C27=Gegevensblad!$A$3,IF(H27=Gegevensblad!$A$29,G27*1,G27*2),"")
B28: c. | I28: =IF(C28=Gegevensblad!$A$2,$D$8*2,"") | J28: =IF(C28=Gegevensblad!$A$3,IF(H28=Gegevensblad!$A$29,G28*1,G28*2),"")
B29: d. | I29: =IF(C29=Gegevensblad!$A$2,$D$8*2,"") | J29: =IF(C29=Gegevensblad!$A$3,IF(H29=Gegevensblad!$A$29,G29*1,G29*2),"")
A30: 5 | B30: a. | I30: =IF(C30=Gegevensblad!$A$2,$D$8*2,"") | J30: =IF(C30=Gegevensblad!$A$3,IF(H30=Gegevensblad!$A$29,G30*1,G30*2),"")
B31: b. | I31: =IF(C31=Gegevensblad!$A$2,$D$8*2,"") | J31: =IF(C31=Gegevensblad!$A$3,IF(H31=Gegevensblad!$A$29,G31*1,G31*2),"")
B32: c. | I32: =IF(C32=Gegevensblad!$A$2,$D$8*2,"") | J32: =IF(C32=Gegevensblad!$A$3,IF(H32=Gegevensblad!$A$29,G32*1,G32*2),"")
B33: d. | I33: =IF(C33=Gegevensblad!$A$2,$D$8*2,"") | J33: =IF(C33=Gegevensblad!$A$3,IF(H33=Gegevensblad!$A$29,G33*1,G33*2),"")
A34: 6 | B34: a. | I34: =IF(C34=Gegevensblad!$A$2,$D$8*2,"") | J34: =IF(C34=Gegevensblad!$A$3,IF(H34=Gegevensblad!$A$29,G34*1,G34*2),"")
B35: b. | I35: =IF(C35=Gegevensblad!$A$2,$D$8*2,"") | J35: =IF(C35=Gegevensblad!$A$3,IF(H35=Gegevensblad!$A$29,G35*1,G35*2),"")
B36: c. | I36: =IF(C36=Gegevensblad!$A$2,$D$8*2,"") | J36: =IF(C36=Gegevensblad!$A$3,IF(H36=Gegevensblad!$A$29,G36*1,G36*2),"")
B37: d. | I37: =IF(C37=Gegevensblad!$A$2,$D$8*2,"") | J37: =IF(C37=Gegevensblad!$A$3,IF(H37=Gegevensblad!$A$29,G37*1,G37*2),"")
A38: 7 | B38: a. | I38: =IF(C38=Gegevensblad!$A$2,$D$8*2,"") | J38: =IF(C38=Gegevensblad!$A$3,IF(H38=Gegevensblad!$A$29,G38*1,G38*2),"")
B39: b. | I39: =IF(C39=Gegevensblad!$A$2,$D$8*2,"") | J39: =IF(C39=Gegevensblad!$A$3,IF(H39=Gegevensblad!$A$29,G39*1,G39*2),"")
B40: c. | I40: =IF(C40=Gegevensblad!$A$2,$D$8*2,"") | J40: =IF(C40=Gegevensblad!$A$3,IF(H40=Gegevensblad!$A$29,G40*1,G40*2),"")
B41: d. | I41: =IF(C41=Gegevensblad!$A$2,$D$8*2,"") | J41: =IF(C41=Gegevensblad!$A$3,IF(H41=Gegevensblad!$A$29,G41*1,G41*2),"")
A42: 8 | B42: a. | I42: =IF(C42=Gegevensblad!$A$2,$D$8*2,"") | J42: =IF(C42=Gegevensblad!$A$3,IF(H42=Gegevensblad!$A$29,G42*1,G42*2),"")
B43: b. | I43: =IF(C43=Gegevensblad!$A$2,$D$8*2,"") | J43: =IF(C43=Gegevensblad!$A$3,IF(H43=Gegevensblad!$A$29,G43*1,G43*2),"")
B44: c. | I44: =IF(C44=Gegevensblad!$A$2,$D$8*2,"") | J44: =IF(C44=Gegevensblad!$A$3,IF(H44=Gegevensblad!$A$29,G44*1,G44*2),"")
B45: d. | I45: =IF(C45=Gegevensblad!$A$2,$D$8*2,"") | J45: =IF(C45=Gegevensblad!$A$3,IF(H45=Gegevensblad!$A$29,G45*1,G45*2),"")
A46: 9 | B46: a. | I46: =IF(C46=Gegevensblad!$A$2,$D$8*2,"") | J46: =IF(C46=Gegevensblad!$A$3,IF(H46=Gegevensblad!$A$29,G46*1,G46*2),"")
B47: b. | I47: =IF(C47=Gegevensblad!$A$2,$D$8*2,"") | J47: =IF(C47=Gegevensblad!$A$3,IF(H47=Gegevensblad!$A$29,G47*1,G47*2),"")
B48: c. | I48: =IF(C48=Gegevensblad!$A$2,$D$8*2,"") | J48: =IF(C48=Gegevensblad!$A$3,IF(H48=Gegevensblad!$A$29,G48*1,G48*2),"")
B49: d. | I49: =IF(C49=Gegevensblad!$A$2,$D$8*2,"") | J49: =IF(C49=Gegevensblad!$A$3,IF(H49=Gegevensblad!$A$29,G49*1,G49*2),"")
A50: 10 | B50: a. | I50: =IF(C50=Gegevensblad!$A$2,$D$8*2,"") | J50: =IF(C50=Gegevensblad!$A$3,IF(H50=Gegevensblad!$A$29,G50*1,G50*2),"")
B51: b. | I51: =IF(C51=Gegevensblad!$A$2,$D$8*2,"") | J51: =IF(C51=Gegevensblad!$A$3,IF(H51=Gegevensblad!$A$29,G51*1,G51*2),"")
B52: c. | I52: =IF(C52=Gegevensblad!$A$2,$D$8*2,"") | J52: =IF(C52=Gegevensblad!$A$3,IF(H52=Gegevensblad!$A$29,G52*1,G52*2),"")
B53: d. | I53: =IF(C53=Gegevensblad!$A$2,$D$8*2,"") | J53: =IF(C53=Gegevensblad!$A$3,IF(H53=Gegevensblad!$A$29,G53*1,G53*2),"")
A54: 11 | B54: a. | I54: =IF(C54=Gegevensblad!$A$2,$D$8*2,"") | J54: =IF(C54=Gegevensblad!$A$3,IF(H54=Gegevensblad!$A$29,G54*1,G54*2),"")
B55: b. | I55: =IF(C55=Gegevensblad!$A$2,$D$8*2,"") | J55: =IF(C55=Gegevensblad!$A$3,IF(H55=Gegevensblad!$A$29,G55*1,G55*2),"")
B56: c. | I56: =IF(C56=Gegevensblad!$A$2,$D$8*2,"") | J56: =IF(C56=Gegevensblad!$A$3,IF(H56=Gegevensblad!$A$29,G56*1,G56*2),"")
B57: d. | I57: =IF(C57=Gegevensblad!$A$2,$D$8*2,"") | J57: =IF(C57=Gegevensblad!$A$3,IF(H57=Gegevensblad!$A$29,G57*1,G57*2),"")
A58: 12 | B58: a. | I58: =IF(C58=Gegevensblad!$A$2,$D$8*2,"") | J58: =IF(C58=Gegevensblad!$A$3,IF(H58=Gegevensblad!$A$29,G58*1,G58*2),"")
B59: b. | I59: =IF(C59=Gegevensblad!$A$2,$D$8*2,"") | J59: =IF(C59=Gegevensblad!$A$3,IF(H59=Gegevensblad!$A$29,G59*1,G59*2),"")
B60: c. | I60: =IF(C60=Gegevensblad!$A$2,$D$8*2,"") | J60: =IF(C60=Gegevensblad!$A$3,IF(H60=Gegevensblad!$A$29,G60*1,G60*2),"")
B61: d. | I61: =IF(C61=Gegevensblad!$A$2,$D$8*2,"") | J61: =IF(C61=Gegevensblad!$A$3,IF(H61=Gegevensblad!$A$29,G61*1,G61*2),"")
A62: 13 | B62: a. | I62: =IF(C62=Gegevensblad!$A$2,$D$8*2,"") | J62: =IF(C62=Gegevensblad!$A$3,IF(H62=Gegevensblad!$A$29,G62*1,G62*2),"")
B63: b. | I63: =IF(C63=Gegevensblad!$A$2,$D$8*2,"") | J63: =IF(C63=Gegevensblad!$A$3,IF(H63=Gegevensblad!$A$29,G63*1,G63*2),"")
B64: c. | I64: =IF(C64=Gegevensblad!$A$2,$D$8*2,"") | J64: =IF(C64=Gegevensblad!$A$3,IF(H64=Gegevensblad!$A$29,G64*1,G64*2),"")
B65: d. | I65: =IF(C65=Gegevensblad!$A$2,$D$8*2,"") | J65: =IF(C65=Gegevensblad!$A$3,IF(H65=Gegevensblad!$A$29,G65*1,G65*2),"")
A66: 14 | B66: a. | I66: =IF(C66=Gegevensblad!$A$2,$D$8*2,"") | J66: =IF(C66=Gegevensblad!$A$3,IF(H66=Gegevensblad!$A$29,G66*1,G66*2),"")
B67: b. | I67: =IF(C67=Gegevensblad!$A$2,$D$8*2,"") | J67: =IF(C67=Gegevensblad!$A$3,IF(H67=Gegevensblad!$A$29,G67*1,G67*2),"")
B68: c. | I68: =IF(C68=Gegevensblad!$A$2,$D$8*2,"") | J68: =IF(C68=Gegevensblad!$A$3,IF(H68=Gegevensblad!$A$29,G68*1,G68*2),"")
B69: d. | I69: =IF(C69=Gegevensblad!$A$2,$D$8*2,"") | J69: =IF(C69=Gegevensblad!$A$3,IF(H69=Gegevensblad!$A$29,G69*1,G69*2),"")
A70: 15 | B70: a. | I70: =IF(C70=Gegevensblad!$A$2,$D$8*2,"") | J70: =IF(C70=Gegevensblad!$A$3,IF(H70=Gegevensblad!$A$29,G70*1,G70*2),"")
B71: b. | I71: =IF(C71=Gegevensblad!$A$2,$D$8*2,"") | J71: =IF(C71=Gegevensblad!$A$3,IF(H71=Gegevensblad!$A$29,G71*1,G71*2),"")
B72: c. | I72: =IF(C72=Gegevensblad!$A$2,$D$8*2,"") | J72: =IF(C72=Gegevensblad!$A$3,IF(H72=Gegevensblad!$A$29,G72*1,G72*2),"")
B73: d. | I73: =IF(C73=Gegevensblad!$A$2,$D$8*2,"") | J73: =IF(C73=Gegevensblad!$A$3,IF(H73=Gegevensblad!$A$29,G73*1,G73*2),"")
A74: 16 | B74: a. | I74: =IF(C74=Gegevensblad!$A$2,$D$8*2,"") | J74: =IF(C74=Gegevensblad!$A$3,IF(H74=Gegevensblad!$A$29,G74*1,G74*2),"")
B75: b. | I75: =IF(C75=Gegevensblad!$A$2,$D$8*2,"") | J75: =IF(C75=Gegevensblad!$A$3,IF(H75=Gegevensblad!$A$29,G75*1,G75*2),"")
B76: c. | I76: =IF(C76=Gegevensblad!$A$2,$D$8*2,"") | J76: =IF(C76=Gegevensblad!$A$3,IF(H76=Gegevensblad!$A$29,G76*1,G76*2),"")
B77: d. | I77: =IF(C77=Gegevensblad!$A$2,$D$8*2,"") | J77: =IF(C77=Gegevensblad!$A$3,IF(H77=Gegevensblad!$A$29,G77*1,G77*2),"")
A78: 17 | B78: a. | I78: =IF(C78=Gegevensblad!$A$2,$D$8*2,"") | J78: =IF(C78=Gegevensblad!$A$3,IF(H78=Gegevensblad!$A$29,G78*1,G78*2),"")
B79: b. | I79: =IF(C79=Gegevensblad!$A$2,$D$8*2,"") | J79: =IF(C79=Gegevensblad!$A$3,IF(H79=Gegevensblad!$A$29,G79*1,G79*2),"")
B80: c. | I80: =IF(C80=Gegevensblad!$A$2,$D$8*2,"") | J80: =IF(C80=Gegevensblad!$A$3,IF(H80=Gegevensblad!$A$29,G80*1,G80*2),"")
B81: d. | I81: =IF(C81=Gegevensblad!$A$2,$D$8*2,"") | J81: =IF(C81=Gegevensblad!$A$3,IF(H81=Gegevensblad!$A$29,G81*1,G81*2),"")
A82: 18 | B82: a. | I82: =IF(C82=Gegevensblad!$A$2,$D$8*2,"") | J82: =IF(C82=Gegevensblad!$A$3,IF(H82=Gegevensblad!$A$29,G82*1,G82*2),"")
B83: b. | I83: =IF(C83=Gegevensblad!$A$2,$D$8*2,"") | J83: =IF(C83=Gegevensblad!$A$3,IF(H83=Gegevensblad!$A$29,G83*1,G83*2),"")
B84: c. | I84: =IF(C84=Gegevensblad!$A$2,$D$8*2,"") | J84: =IF(C84=Gegevensblad!$A$3,IF(H84=Gegevensblad!$A$29,G84*1,G84*2),"")
B85: d. | I85: =IF(C85=Gegevensblad!$A$2,$D$8*2,"") | J85: =IF(C85=Gegevensblad!$A$3,IF(H85=Gegevensblad!$A$29,G85*1,G85*2),"")
A86: 19 | B86: a. | I86: =IF(C86=Gegevensblad!$A$2,$D$8*2,"") | J86: =IF(C86=Gegevensblad!$A$3,IF(H86=Gegevensblad!$A$29,G86*1,G86*2),"")
B87: b. | I87: =IF(C87=Gegevensblad!$A$2,$D$8*2,"") | J87: =IF(C87=Gegevensblad!$A$3,IF(H87=Gegevensblad!$A$29,G87*1,G87*2),"")
B88: c. | I88: =IF(C88=Gegevensblad!$A$2,$D$8*2,"") | J88: =IF(C88=Gegevensblad!$A$3,IF(H88=Gegevensblad!$A$29,G88*1,G88*2),"")
B89: d. | I89: =IF(C89=Gegevensblad!$A$2,$D$8*2,"") | J89: =IF(C89=Gegevensblad!$A$3,IF(H89=Gegevensblad!$A$29,G89*1,G89*2),"")
A90: 20 | B90: a. | I90: =IF(C90=Gegevensblad!$A$2,$D$8*2,"") | J90: =IF(C90=Gegevensblad!$A$3,IF(H90=Gegevensblad!$A$29,G90*1,G90*2),"")
B91: b. | I91: =IF(C91=Gegevensblad!$A$2,$D$8*2,"") | J91: =IF(C91=Gegevensblad!$A$3,IF(H91=Gegevensblad!$A$29,G91*1,G91*2),"")
B92: c. | I92: =IF(C92=Gegevensblad!$A$2,$D$8*2,"") | J92: =IF(C92=Gegevensblad!$A$3,IF(H92=Gegevensblad!$A$29,G92*1,G92*2),"")
B93: d. | I93: =IF(C93=Gegevensblad!$A$2,$D$8*2,"") | J93: =IF(C93=Gegevensblad!$A$3,IF(H93=Gegevensblad!$A$29,G93*1,G93*2),"")
A94: 21 | B94: a. | I94: =IF(C94=Gegevensblad!$A$2,$D$8*2,"") | J94: =IF(C94=Gegevensblad!$A$3,IF(H94=Gegevensblad!$A$29,G94*1,G94*2),"")
B95: b. | I95: =IF(C95=Gegevensblad!$A$2,$D$8*2,"") | J95: =IF(C95=Gegevensblad!$A$3,IF(H95=Gegevensblad!$A$29,G95*1,G95*2),"")
B96: c. | I96: =IF(C96=Gegevensblad!$A$2,$D$8*2,"") | J96: =IF(C96=Gegevensblad!$A$3,IF(H96=Gegevensblad!$A$29,G96*1,G96*2),"")
B97: d. | I97: =IF(C97=Gegevensblad!$A$2,$D$8*2,"") | J97: =IF(C97=Gegevensblad!$A$3,IF(H97=Gegevensblad!$A$29,G97*1,G97*2),"")
A98: 22 | B98: a. | I98: =IF(C98=Gegevensblad!$A$2,$D$8*2,"") | J98: =IF(C98=Gegevensblad!$A$3,IF(H98=Gegevensblad!$A$29,G98*1,G98*2),"")
B99: b. | I99: =IF(C99=Gegevensblad!$A$2,$D$8*2,"") | J99: =IF(C99=Gegevensblad!$A$3,IF(H99=Gegevensblad!$A$29,G99*1,G99*2),"")
B100: c. | I100: =IF(C100=Gegevensblad!$A$2,$D$8*2,"") | J100: =IF(C100=Gegevensblad!$A$3,IF(H100=Gegevensblad!$A$29,G100*1,G100*2),"")
B101: d. | I101: =IF(C101=Gegevensblad!$A$2,$D$8*2,"") | J101: =IF(C101=Gegevensblad!$A$3,IF(H101=Gegevensblad!$A$29,G101*1,G101*2),"")
A102: 23 | B102: a. | I102: =IF(C102=Gegevensblad!$A$2,$D$8*2,"") | J102: =IF(C102=Gegevensblad!$A$3,IF(H102=Gegevensblad!$A$29,G102*1,G102*2),"")
B103: b. | I103: =IF(C103=Gegevensblad!$A$2,$D$8*2,"") | J103: =IF(C103=Gegevensblad!$A$3,IF(H103=Gegevensblad!$A$29,G103*1,G103*2),"")
B104: c. | I104: =IF(C104=Gegevensblad!$A$2,$D$8*2,"") | J104: =IF(C104=Gegevensblad!$A$3,IF(H104=Gegevensblad!$A$29,G104*1,G104*2),"")
...

Sheet Gegevensblad
A2: Reiskosten woon-werk | D2: 0.19
A3: Reiskosten zakelijk | D3: 0.19
A7: Januari
A8: Februari
A9: Maart
A10: April
A11: Mei
A12: Juni
A13: Juli
A14: Augustus
A15: September
A16: Oktober
A17: November
A18: December
... A30: Retour
